BEGIN:VCALENDAR
VERSION:2.0
PRODID:-//Castillo del Rey Brisas - ECPv6.15.16//NONSGML v1.0//EN
CALSCALE:GREGORIAN
METHOD:PUBLISH
X-WR-CALNAME:Castillo del Rey Brisas
X-ORIGINAL-URL:https://castillodelreybrisas.com
X-WR-CALDESC:Eventos para Castillo del Rey Brisas
REFRESH-INTERVAL;VALUE=DURATION:PT1H
X-Robots-Tag:noindex
X-PUBLISHED-TTL:PT1H
BEGIN:VTIMEZONE
TZID:America/Mexico_City
BEGIN:STANDARD
TZOFFSETFROM:-0600
TZOFFSETTO:-0600
TZNAME:CST
DTSTART:20250101T000000
END:STANDARD
END:VTIMEZONE
BEGIN:VEVENT
DTSTART;TZID=America/Mexico_City:20260423T100000
DTEND;TZID=America/Mexico_City:20260423T110000
DTSTAMP:20260423T085854
CREATED:20260420T163729Z
LAST-MODIFIED:20260421T193325Z
UID:10004705-1776938400-1776942000@castillodelreybrisas.com
SUMMARY:Grupo de Mujeres
DESCRIPTION:
URL:https://castillodelreybrisas.com/evento/grupo-de-mujeres/
LOCATION:Mini Auditorio
CATEGORIES:Ordinarios
ATTACH;FMTTYPE=image/jpeg:https://castillodelreybrisas.com/wp-content/uploads/2026/04/V2-PANTALLA-GRUPO-DE-MUJERES-ABR.jpg
END:VEVENT
BEGIN:VEVENT
DTSTART;TZID=America/Mexico_City:20260424T080000
DTEND;TZID=America/Mexico_City:20260424T083000
DTSTAMP:20260423T085854
CREATED:20241021T183021Z
LAST-MODIFIED:20241021T183026Z
UID:10002135-1777017600-1777019400@castillodelreybrisas.com
SUMMARY:Oración
DESCRIPTION:
URL:https://castillodelreybrisas.com/evento/oracion-2/2026-04-24/
LOCATION:Mini Auditorio
CATEGORIES:Ordinarios
END:VEVENT
BEGIN:VEVENT
DTSTART;TZID=America/Mexico_City:20260425T180000
DTEND;TZID=America/Mexico_City:20260425T200000
DTSTAMP:20260423T085854
CREATED:20240811T154100Z
LAST-MODIFIED:20250508T172554Z
UID:10000094-1777140000-1777147200@castillodelreybrisas.com
SUMMARY:Jóvenes de Brisas
DESCRIPTION:
URL:https://castillodelreybrisas.com/evento/reunion-de-jovenes/2026-04-25/
LOCATION:Mini Auditorio
CATEGORIES:Ordinarios
END:VEVENT
END:VCALENDAR