BEGIN:VCALENDAR
VERSION:2.0
PRODID:-//Castillo del Rey Brisas - ECPv6.15.16//NONSGML v1.0//EN
CALSCALE:GREGORIAN
METHOD:PUBLISH
X-WR-CALNAME:Castillo del Rey Brisas
X-ORIGINAL-URL:https://castillodelreybrisas.com
X-WR-CALDESC:Eventos para Castillo del Rey Brisas
REFRESH-INTERVAL;VALUE=DURATION:PT1H
X-Robots-Tag:noindex
X-PUBLISHED-TTL:PT1H
BEGIN:VTIMEZONE
TZID:America/Mexico_City
BEGIN:STANDARD
TZOFFSETFROM:-0600
TZOFFSETTO:-0600
TZNAME:CST
DTSTART:20250101T000000
END:STANDARD
END:VTIMEZONE
BEGIN:VEVENT
DTSTART;TZID=America/Mexico_City:20260426T123000
DTEND;TZID=America/Mexico_City:20260426T140000
DTSTAMP:20260423T090031
CREATED:20241022T162004Z
LAST-MODIFIED:20241215T005226Z
UID:10004274-1777206600-1777212000@castillodelreybrisas.com
SUMMARY:Segunda Reunión Dominical
DESCRIPTION:
URL:https://castillodelreybrisas.com/evento/segunda-reunion-dominical/2026-04-26/
LOCATION:Castillo del Rey Brisas\, Castillo del Rey Brisas\, Monterrey\, Nuevo León\, 64764\, Mexico
CATEGORIES:Ordinarios
END:VEVENT
BEGIN:VEVENT
DTSTART;TZID=America/Mexico_City:20260503T123000
DTEND;TZID=America/Mexico_City:20260503T140000
DTSTAMP:20260423T090031
CREATED:20241022T162004Z
LAST-MODIFIED:20241215T005226Z
UID:10004275-1777811400-1777816800@castillodelreybrisas.com
SUMMARY:Segunda Reunión Dominical
DESCRIPTION:
URL:https://castillodelreybrisas.com/evento/segunda-reunion-dominical/2026-05-03/
LOCATION:Castillo del Rey Brisas\, Castillo del Rey Brisas\, Monterrey\, Nuevo León\, 64764\, Mexico
CATEGORIES:Ordinarios
END:VEVENT
BEGIN:VEVENT
DTSTART;TZID=America/Mexico_City:20260510T123000
DTEND;TZID=America/Mexico_City:20260510T140000
DTSTAMP:20260423T090031
CREATED:20241022T162004Z
LAST-MODIFIED:20241215T005226Z
UID:10004276-1778416200-1778421600@castillodelreybrisas.com
SUMMARY:Segunda Reunión Dominical
DESCRIPTION:
URL:https://castillodelreybrisas.com/evento/segunda-reunion-dominical/2026-05-10/
LOCATION:Castillo del Rey Brisas\, Castillo del Rey Brisas\, Monterrey\, Nuevo León\, 64764\, Mexico
CATEGORIES:Ordinarios
END:VEVENT
BEGIN:VEVENT
DTSTART;TZID=America/Mexico_City:20260517T123000
DTEND;TZID=America/Mexico_City:20260517T140000
DTSTAMP:20260423T090031
CREATED:20241022T162004Z
LAST-MODIFIED:20241215T005226Z
UID:10004277-1779021000-1779026400@castillodelreybrisas.com
SUMMARY:Segunda Reunión Dominical
DESCRIPTION:
URL:https://castillodelreybrisas.com/evento/segunda-reunion-dominical/2026-05-17/
LOCATION:Castillo del Rey Brisas\, Castillo del Rey Brisas\, Monterrey\, Nuevo León\, 64764\, Mexico
CATEGORIES:Ordinarios
END:VEVENT
BEGIN:VEVENT
DTSTART;TZID=America/Mexico_City:20260524T123000
DTEND;TZID=America/Mexico_City:20260524T140000
DTSTAMP:20260423T090031
CREATED:20241022T162004Z
LAST-MODIFIED:20241215T005226Z
UID:10004278-1779625800-1779631200@castillodelreybrisas.com
SUMMARY:Segunda Reunión Dominical
DESCRIPTION:
URL:https://castillodelreybrisas.com/evento/segunda-reunion-dominical/2026-05-24/
LOCATION:Castillo del Rey Brisas\, Castillo del Rey Brisas\, Monterrey\, Nuevo León\, 64764\, Mexico
CATEGORIES:Ordinarios
END:VEVENT
BEGIN:VEVENT
DTSTART;TZID=America/Mexico_City:20260531T123000
DTEND;TZID=America/Mexico_City:20260531T140000
DTSTAMP:20260423T090031
CREATED:20241022T162004Z
LAST-MODIFIED:20241215T005226Z
UID:10004279-1780230600-1780236000@castillodelreybrisas.com
SUMMARY:Segunda Reunión Dominical
DESCRIPTION:
URL:https://castillodelreybrisas.com/evento/segunda-reunion-dominical/2026-05-31/
LOCATION:Castillo del Rey Brisas\, Castillo del Rey Brisas\, Monterrey\, Nuevo León\, 64764\, Mexico
CATEGORIES:Ordinarios
END:VEVENT
BEGIN:VEVENT
DTSTART;TZID=America/Mexico_City:20260607T123000
DTEND;TZID=America/Mexico_City:20260607T140000
DTSTAMP:20260423T090031
CREATED:20241022T162004Z
LAST-MODIFIED:20241215T005226Z
UID:10004280-1780835400-1780840800@castillodelreybrisas.com
SUMMARY:Segunda Reunión Dominical
DESCRIPTION:
URL:https://castillodelreybrisas.com/evento/segunda-reunion-dominical/2026-06-07/
LOCATION:Castillo del Rey Brisas\, Castillo del Rey Brisas\, Monterrey\, Nuevo León\, 64764\, Mexico
CATEGORIES:Ordinarios
END:VEVENT
BEGIN:VEVENT
DTSTART;TZID=America/Mexico_City:20260614T123000
DTEND;TZID=America/Mexico_City:20260614T140000
DTSTAMP:20260423T090031
CREATED:20241022T162004Z
LAST-MODIFIED:20241215T005226Z
UID:10004281-1781440200-1781445600@castillodelreybrisas.com
SUMMARY:Segunda Reunión Dominical
DESCRIPTION:
URL:https://castillodelreybrisas.com/evento/segunda-reunion-dominical/2026-06-14/
LOCATION:Castillo del Rey Brisas\, Castillo del Rey Brisas\, Monterrey\, Nuevo León\, 64764\, Mexico
CATEGORIES:Ordinarios
END:VEVENT
BEGIN:VEVENT
DTSTART;TZID=America/Mexico_City:20260621T123000
DTEND;TZID=America/Mexico_City:20260621T140000
DTSTAMP:20260423T090031
CREATED:20241022T162004Z
LAST-MODIFIED:20241215T005226Z
UID:10004282-1782045000-1782050400@castillodelreybrisas.com
SUMMARY:Segunda Reunión Dominical
DESCRIPTION:
URL:https://castillodelreybrisas.com/evento/segunda-reunion-dominical/2026-06-21/
LOCATION:Castillo del Rey Brisas\, Castillo del Rey Brisas\, Monterrey\, Nuevo León\, 64764\, Mexico
CATEGORIES:Ordinarios
END:VEVENT
BEGIN:VEVENT
DTSTART;TZID=America/Mexico_City:20260628T123000
DTEND;TZID=America/Mexico_City:20260628T140000
DTSTAMP:20260423T090031
CREATED:20241022T162004Z
LAST-MODIFIED:20241215T005226Z
UID:10004283-1782649800-1782655200@castillodelreybrisas.com
SUMMARY:Segunda Reunión Dominical
DESCRIPTION:
URL:https://castillodelreybrisas.com/evento/segunda-reunion-dominical/2026-06-28/
LOCATION:Castillo del Rey Brisas\, Castillo del Rey Brisas\, Monterrey\, Nuevo León\, 64764\, Mexico
CATEGORIES:Ordinarios
END:VEVENT
BEGIN:VEVENT
DTSTART;TZID=America/Mexico_City:20260705T123000
DTEND;TZID=America/Mexico_City:20260705T140000
DTSTAMP:20260423T090031
CREATED:20241022T162004Z
LAST-MODIFIED:20241215T005226Z
UID:10004284-1783254600-1783260000@castillodelreybrisas.com
SUMMARY:Segunda Reunión Dominical
DESCRIPTION:
URL:https://castillodelreybrisas.com/evento/segunda-reunion-dominical/2026-07-05/
LOCATION:Castillo del Rey Brisas\, Castillo del Rey Brisas\, Monterrey\, Nuevo León\, 64764\, Mexico
CATEGORIES:Ordinarios
END:VEVENT
BEGIN:VEVENT
DTSTART;TZID=America/Mexico_City:20260712T123000
DTEND;TZID=America/Mexico_City:20260712T140000
DTSTAMP:20260423T090031
CREATED:20241022T162004Z
LAST-MODIFIED:20241215T005226Z
UID:10004285-1783859400-1783864800@castillodelreybrisas.com
SUMMARY:Segunda Reunión Dominical
DESCRIPTION:
URL:https://castillodelreybrisas.com/evento/segunda-reunion-dominical/2026-07-12/
LOCATION:Castillo del Rey Brisas\, Castillo del Rey Brisas\, Monterrey\, Nuevo León\, 64764\, Mexico
CATEGORIES:Ordinarios
END:VEVENT
BEGIN:VEVENT
DTSTART;TZID=America/Mexico_City:20260719T123000
DTEND;TZID=America/Mexico_City:20260719T140000
DTSTAMP:20260423T090031
CREATED:20241022T162004Z
LAST-MODIFIED:20241215T005226Z
UID:10004286-1784464200-1784469600@castillodelreybrisas.com
SUMMARY:Segunda Reunión Dominical
DESCRIPTION:
URL:https://castillodelreybrisas.com/evento/segunda-reunion-dominical/2026-07-19/
LOCATION:Castillo del Rey Brisas\, Castillo del Rey Brisas\, Monterrey\, Nuevo León\, 64764\, Mexico
CATEGORIES:Ordinarios
END:VEVENT
BEGIN:VEVENT
DTSTART;TZID=America/Mexico_City:20260726T123000
DTEND;TZID=America/Mexico_City:20260726T140000
DTSTAMP:20260423T090031
CREATED:20241022T162004Z
LAST-MODIFIED:20241215T005226Z
UID:10004287-1785069000-1785074400@castillodelreybrisas.com
SUMMARY:Segunda Reunión Dominical
DESCRIPTION:
URL:https://castillodelreybrisas.com/evento/segunda-reunion-dominical/2026-07-26/
LOCATION:Castillo del Rey Brisas\, Castillo del Rey Brisas\, Monterrey\, Nuevo León\, 64764\, Mexico
CATEGORIES:Ordinarios
END:VEVENT
BEGIN:VEVENT
DTSTART;TZID=America/Mexico_City:20260802T123000
DTEND;TZID=America/Mexico_City:20260802T140000
DTSTAMP:20260423T090031
CREATED:20241022T162004Z
LAST-MODIFIED:20241215T005226Z
UID:10004288-1785673800-1785679200@castillodelreybrisas.com
SUMMARY:Segunda Reunión Dominical
DESCRIPTION:
URL:https://castillodelreybrisas.com/evento/segunda-reunion-dominical/2026-08-02/
LOCATION:Castillo del Rey Brisas\, Castillo del Rey Brisas\, Monterrey\, Nuevo León\, 64764\, Mexico
CATEGORIES:Ordinarios
END:VEVENT
BEGIN:VEVENT
DTSTART;TZID=America/Mexico_City:20260809T123000
DTEND;TZID=America/Mexico_City:20260809T140000
DTSTAMP:20260423T090031
CREATED:20241022T162004Z
LAST-MODIFIED:20241215T005226Z
UID:10004289-1786278600-1786284000@castillodelreybrisas.com
SUMMARY:Segunda Reunión Dominical
DESCRIPTION:
URL:https://castillodelreybrisas.com/evento/segunda-reunion-dominical/2026-08-09/
LOCATION:Castillo del Rey Brisas\, Castillo del Rey Brisas\, Monterrey\, Nuevo León\, 64764\, Mexico
CATEGORIES:Ordinarios
END:VEVENT
BEGIN:VEVENT
DTSTART;TZID=America/Mexico_City:20260816T123000
DTEND;TZID=America/Mexico_City:20260816T140000
DTSTAMP:20260423T090031
CREATED:20241022T162004Z
LAST-MODIFIED:20241215T005226Z
UID:10004290-1786883400-1786888800@castillodelreybrisas.com
SUMMARY:Segunda Reunión Dominical
DESCRIPTION:
URL:https://castillodelreybrisas.com/evento/segunda-reunion-dominical/2026-08-16/
LOCATION:Castillo del Rey Brisas\, Castillo del Rey Brisas\, Monterrey\, Nuevo León\, 64764\, Mexico
CATEGORIES:Ordinarios
END:VEVENT
BEGIN:VEVENT
DTSTART;TZID=America/Mexico_City:20260823T123000
DTEND;TZID=America/Mexico_City:20260823T140000
DTSTAMP:20260423T090031
CREATED:20241022T162004Z
LAST-MODIFIED:20241215T005226Z
UID:10004291-1787488200-1787493600@castillodelreybrisas.com
SUMMARY:Segunda Reunión Dominical
DESCRIPTION:
URL:https://castillodelreybrisas.com/evento/segunda-reunion-dominical/2026-08-23/
LOCATION:Castillo del Rey Brisas\, Castillo del Rey Brisas\, Monterrey\, Nuevo León\, 64764\, Mexico
CATEGORIES:Ordinarios
END:VEVENT
BEGIN:VEVENT
DTSTART;TZID=America/Mexico_City:20260830T123000
DTEND;TZID=America/Mexico_City:20260830T140000
DTSTAMP:20260423T090031
CREATED:20241022T162004Z
LAST-MODIFIED:20241215T005226Z
UID:10004292-1788093000-1788098400@castillodelreybrisas.com
SUMMARY:Segunda Reunión Dominical
DESCRIPTION:
URL:https://castillodelreybrisas.com/evento/segunda-reunion-dominical/2026-08-30/
LOCATION:Castillo del Rey Brisas\, Castillo del Rey Brisas\, Monterrey\, Nuevo León\, 64764\, Mexico
CATEGORIES:Ordinarios
END:VEVENT
BEGIN:VEVENT
DTSTART;TZID=America/Mexico_City:20260906T123000
DTEND;TZID=America/Mexico_City:20260906T140000
DTSTAMP:20260423T090031
CREATED:20241022T162004Z
LAST-MODIFIED:20241215T005226Z
UID:10004293-1788697800-1788703200@castillodelreybrisas.com
SUMMARY:Segunda Reunión Dominical
DESCRIPTION:
URL:https://castillodelreybrisas.com/evento/segunda-reunion-dominical/2026-09-06/
LOCATION:Castillo del Rey Brisas\, Castillo del Rey Brisas\, Monterrey\, Nuevo León\, 64764\, Mexico
CATEGORIES:Ordinarios
END:VEVENT
BEGIN:VEVENT
DTSTART;TZID=America/Mexico_City:20260913T123000
DTEND;TZID=America/Mexico_City:20260913T140000
DTSTAMP:20260423T090031
CREATED:20241022T162004Z
LAST-MODIFIED:20241215T005226Z
UID:10004294-1789302600-1789308000@castillodelreybrisas.com
SUMMARY:Segunda Reunión Dominical
DESCRIPTION:
URL:https://castillodelreybrisas.com/evento/segunda-reunion-dominical/2026-09-13/
LOCATION:Castillo del Rey Brisas\, Castillo del Rey Brisas\, Monterrey\, Nuevo León\, 64764\, Mexico
CATEGORIES:Ordinarios
END:VEVENT
BEGIN:VEVENT
DTSTART;TZID=America/Mexico_City:20260920T123000
DTEND;TZID=America/Mexico_City:20260920T140000
DTSTAMP:20260423T090031
CREATED:20241022T162004Z
LAST-MODIFIED:20241215T005226Z
UID:10004295-1789907400-1789912800@castillodelreybrisas.com
SUMMARY:Segunda Reunión Dominical
DESCRIPTION:
URL:https://castillodelreybrisas.com/evento/segunda-reunion-dominical/2026-09-20/
LOCATION:Castillo del Rey Brisas\, Castillo del Rey Brisas\, Monterrey\, Nuevo León\, 64764\, Mexico
CATEGORIES:Ordinarios
END:VEVENT
BEGIN:VEVENT
DTSTART;TZID=America/Mexico_City:20260927T123000
DTEND;TZID=America/Mexico_City:20260927T140000
DTSTAMP:20260423T090031
CREATED:20241022T162004Z
LAST-MODIFIED:20241215T005226Z
UID:10004296-1790512200-1790517600@castillodelreybrisas.com
SUMMARY:Segunda Reunión Dominical
DESCRIPTION:
URL:https://castillodelreybrisas.com/evento/segunda-reunion-dominical/2026-09-27/
LOCATION:Castillo del Rey Brisas\, Castillo del Rey Brisas\, Monterrey\, Nuevo León\, 64764\, Mexico
CATEGORIES:Ordinarios
END:VEVENT
BEGIN:VEVENT
DTSTART;TZID=America/Mexico_City:20261004T123000
DTEND;TZID=America/Mexico_City:20261004T140000
DTSTAMP:20260423T090031
CREATED:20241022T162004Z
LAST-MODIFIED:20241215T005226Z
UID:10004297-1791117000-1791122400@castillodelreybrisas.com
SUMMARY:Segunda Reunión Dominical
DESCRIPTION:
URL:https://castillodelreybrisas.com/evento/segunda-reunion-dominical/2026-10-04/
LOCATION:Castillo del Rey Brisas\, Castillo del Rey Brisas\, Monterrey\, Nuevo León\, 64764\, Mexico
CATEGORIES:Ordinarios
END:VEVENT
BEGIN:VEVENT
DTSTART;TZID=America/Mexico_City:20261011T123000
DTEND;TZID=America/Mexico_City:20261011T140000
DTSTAMP:20260423T090031
CREATED:20241022T162004Z
LAST-MODIFIED:20241215T005226Z
UID:10004298-1791721800-1791727200@castillodelreybrisas.com
SUMMARY:Segunda Reunión Dominical
DESCRIPTION:
URL:https://castillodelreybrisas.com/evento/segunda-reunion-dominical/2026-10-11/
LOCATION:Castillo del Rey Brisas\, Castillo del Rey Brisas\, Monterrey\, Nuevo León\, 64764\, Mexico
CATEGORIES:Ordinarios
END:VEVENT
BEGIN:VEVENT
DTSTART;TZID=America/Mexico_City:20261018T123000
DTEND;TZID=America/Mexico_City:20261018T140000
DTSTAMP:20260423T090031
CREATED:20241022T162004Z
LAST-MODIFIED:20241215T005226Z
UID:10004299-1792326600-1792332000@castillodelreybrisas.com
SUMMARY:Segunda Reunión Dominical
DESCRIPTION:
URL:https://castillodelreybrisas.com/evento/segunda-reunion-dominical/2026-10-18/
LOCATION:Castillo del Rey Brisas\, Castillo del Rey Brisas\, Monterrey\, Nuevo León\, 64764\, Mexico
CATEGORIES:Ordinarios
END:VEVENT
BEGIN:VEVENT
DTSTART;TZID=America/Mexico_City:20261025T123000
DTEND;TZID=America/Mexico_City:20261025T140000
DTSTAMP:20260423T090031
CREATED:20241022T162004Z
LAST-MODIFIED:20241215T005226Z
UID:10004300-1792931400-1792936800@castillodelreybrisas.com
SUMMARY:Segunda Reunión Dominical
DESCRIPTION:
URL:https://castillodelreybrisas.com/evento/segunda-reunion-dominical/2026-10-25/
LOCATION:Castillo del Rey Brisas\, Castillo del Rey Brisas\, Monterrey\, Nuevo León\, 64764\, Mexico
CATEGORIES:Ordinarios
END:VEVENT
BEGIN:VEVENT
DTSTART;TZID=America/Mexico_City:20261101T123000
DTEND;TZID=America/Mexico_City:20261101T140000
DTSTAMP:20260423T090031
CREATED:20241022T162004Z
LAST-MODIFIED:20241215T005226Z
UID:10004301-1793536200-1793541600@castillodelreybrisas.com
SUMMARY:Segunda Reunión Dominical
DESCRIPTION:
URL:https://castillodelreybrisas.com/evento/segunda-reunion-dominical/2026-11-01/
LOCATION:Castillo del Rey Brisas\, Castillo del Rey Brisas\, Monterrey\, Nuevo León\, 64764\, Mexico
CATEGORIES:Ordinarios
END:VEVENT
BEGIN:VEVENT
DTSTART;TZID=America/Mexico_City:20261108T123000
DTEND;TZID=America/Mexico_City:20261108T140000
DTSTAMP:20260423T090031
CREATED:20241022T162004Z
LAST-MODIFIED:20241215T005226Z
UID:10004302-1794141000-1794146400@castillodelreybrisas.com
SUMMARY:Segunda Reunión Dominical
DESCRIPTION:
URL:https://castillodelreybrisas.com/evento/segunda-reunion-dominical/2026-11-08/
LOCATION:Castillo del Rey Brisas\, Castillo del Rey Brisas\, Monterrey\, Nuevo León\, 64764\, Mexico
CATEGORIES:Ordinarios
END:VEVENT
BEGIN:VEVENT
DTSTART;TZID=America/Mexico_City:20261115T123000
DTEND;TZID=America/Mexico_City:20261115T140000
DTSTAMP:20260423T090031
CREATED:20241022T162004Z
LAST-MODIFIED:20241215T005226Z
UID:10004303-1794745800-1794751200@castillodelreybrisas.com
SUMMARY:Segunda Reunión Dominical
DESCRIPTION:
URL:https://castillodelreybrisas.com/evento/segunda-reunion-dominical/2026-11-15/
LOCATION:Castillo del Rey Brisas\, Castillo del Rey Brisas\, Monterrey\, Nuevo León\, 64764\, Mexico
CATEGORIES:Ordinarios
END:VEVENT
END:VCALENDAR