BEGIN:VCALENDAR
VERSION:2.0
PRODID:-//Castillo del Rey Brisas - ECPv6.15.16//NONSGML v1.0//EN
CALSCALE:GREGORIAN
METHOD:PUBLISH
X-WR-CALNAME:Castillo del Rey Brisas
X-ORIGINAL-URL:https://castillodelreybrisas.com
X-WR-CALDESC:Eventos para Castillo del Rey Brisas
REFRESH-INTERVAL;VALUE=DURATION:PT1H
X-Robots-Tag:noindex
X-PUBLISHED-TTL:PT1H
BEGIN:VTIMEZONE
TZID:America/Mexico_City
BEGIN:STANDARD
TZOFFSETFROM:-0600
TZOFFSETTO:-0600
TZNAME:CST
DTSTART:20250101T000000
END:STANDARD
END:VTIMEZONE
BEGIN:VEVENT
DTSTART;TZID=America/Mexico_City:20260424T080000
DTEND;TZID=America/Mexico_City:20260424T083000
DTSTAMP:20260423T090025
CREATED:20241021T183021Z
LAST-MODIFIED:20241021T183026Z
UID:10002135-1777017600-1777019400@castillodelreybrisas.com
SUMMARY:Oración
DESCRIPTION:
URL:https://castillodelreybrisas.com/evento/oracion-2/2026-04-24/
LOCATION:Mini Auditorio
CATEGORIES:Ordinarios
END:VEVENT
BEGIN:VEVENT
DTSTART;TZID=America/Mexico_City:20260427T080000
DTEND;TZID=America/Mexico_City:20260427T083000
DTSTAMP:20260423T090025
CREATED:20241021T183021Z
LAST-MODIFIED:20241021T183026Z
UID:10002138-1777276800-1777278600@castillodelreybrisas.com
SUMMARY:Oración
DESCRIPTION:
URL:https://castillodelreybrisas.com/evento/oracion-2/2026-04-27/
LOCATION:Mini Auditorio
CATEGORIES:Ordinarios
END:VEVENT
BEGIN:VEVENT
DTSTART;TZID=America/Mexico_City:20260428T080000
DTEND;TZID=America/Mexico_City:20260428T083000
DTSTAMP:20260423T090025
CREATED:20241021T183021Z
LAST-MODIFIED:20241021T183026Z
UID:10002139-1777363200-1777365000@castillodelreybrisas.com
SUMMARY:Oración
DESCRIPTION:
URL:https://castillodelreybrisas.com/evento/oracion-2/2026-04-28/
LOCATION:Mini Auditorio
CATEGORIES:Ordinarios
END:VEVENT
BEGIN:VEVENT
DTSTART;TZID=America/Mexico_City:20260429T080000
DTEND;TZID=America/Mexico_City:20260429T083000
DTSTAMP:20260423T090025
CREATED:20241021T183021Z
LAST-MODIFIED:20241021T183026Z
UID:10002140-1777449600-1777451400@castillodelreybrisas.com
SUMMARY:Oración
DESCRIPTION:
URL:https://castillodelreybrisas.com/evento/oracion-2/2026-04-29/
LOCATION:Mini Auditorio
CATEGORIES:Ordinarios
END:VEVENT
BEGIN:VEVENT
DTSTART;TZID=America/Mexico_City:20260430T080000
DTEND;TZID=America/Mexico_City:20260430T083000
DTSTAMP:20260423T090025
CREATED:20241021T183021Z
LAST-MODIFIED:20241021T183026Z
UID:10002141-1777536000-1777537800@castillodelreybrisas.com
SUMMARY:Oración
DESCRIPTION:
URL:https://castillodelreybrisas.com/evento/oracion-2/2026-04-30/
LOCATION:Mini Auditorio
CATEGORIES:Ordinarios
END:VEVENT
BEGIN:VEVENT
DTSTART;TZID=America/Mexico_City:20260501T080000
DTEND;TZID=America/Mexico_City:20260501T083000
DTSTAMP:20260423T090025
CREATED:20241021T183021Z
LAST-MODIFIED:20241021T183026Z
UID:10002142-1777622400-1777624200@castillodelreybrisas.com
SUMMARY:Oración
DESCRIPTION:
URL:https://castillodelreybrisas.com/evento/oracion-2/2026-05-01/
LOCATION:Mini Auditorio
CATEGORIES:Ordinarios
END:VEVENT
BEGIN:VEVENT
DTSTART;TZID=America/Mexico_City:20260504T080000
DTEND;TZID=America/Mexico_City:20260504T083000
DTSTAMP:20260423T090025
CREATED:20241021T183021Z
LAST-MODIFIED:20241021T183026Z
UID:10002145-1777881600-1777883400@castillodelreybrisas.com
SUMMARY:Oración
DESCRIPTION:
URL:https://castillodelreybrisas.com/evento/oracion-2/2026-05-04/
LOCATION:Mini Auditorio
CATEGORIES:Ordinarios
END:VEVENT
BEGIN:VEVENT
DTSTART;TZID=America/Mexico_City:20260505T080000
DTEND;TZID=America/Mexico_City:20260505T083000
DTSTAMP:20260423T090025
CREATED:20241021T183021Z
LAST-MODIFIED:20241021T183026Z
UID:10002146-1777968000-1777969800@castillodelreybrisas.com
SUMMARY:Oración
DESCRIPTION:
URL:https://castillodelreybrisas.com/evento/oracion-2/2026-05-05/
LOCATION:Mini Auditorio
CATEGORIES:Ordinarios
END:VEVENT
BEGIN:VEVENT
DTSTART;TZID=America/Mexico_City:20260506T080000
DTEND;TZID=America/Mexico_City:20260506T083000
DTSTAMP:20260423T090025
CREATED:20241021T183021Z
LAST-MODIFIED:20241021T183026Z
UID:10002147-1778054400-1778056200@castillodelreybrisas.com
SUMMARY:Oración
DESCRIPTION:
URL:https://castillodelreybrisas.com/evento/oracion-2/2026-05-06/
LOCATION:Mini Auditorio
CATEGORIES:Ordinarios
END:VEVENT
BEGIN:VEVENT
DTSTART;TZID=America/Mexico_City:20260507T080000
DTEND;TZID=America/Mexico_City:20260507T083000
DTSTAMP:20260423T090025
CREATED:20241021T183021Z
LAST-MODIFIED:20241021T183026Z
UID:10002148-1778140800-1778142600@castillodelreybrisas.com
SUMMARY:Oración
DESCRIPTION:
URL:https://castillodelreybrisas.com/evento/oracion-2/2026-05-07/
LOCATION:Mini Auditorio
CATEGORIES:Ordinarios
END:VEVENT
BEGIN:VEVENT
DTSTART;TZID=America/Mexico_City:20260508T080000
DTEND;TZID=America/Mexico_City:20260508T083000
DTSTAMP:20260423T090025
CREATED:20241021T183021Z
LAST-MODIFIED:20241021T183026Z
UID:10002149-1778227200-1778229000@castillodelreybrisas.com
SUMMARY:Oración
DESCRIPTION:
URL:https://castillodelreybrisas.com/evento/oracion-2/2026-05-08/
LOCATION:Mini Auditorio
CATEGORIES:Ordinarios
END:VEVENT
BEGIN:VEVENT
DTSTART;TZID=America/Mexico_City:20260511T080000
DTEND;TZID=America/Mexico_City:20260511T083000
DTSTAMP:20260423T090025
CREATED:20241021T183021Z
LAST-MODIFIED:20241021T183026Z
UID:10002152-1778486400-1778488200@castillodelreybrisas.com
SUMMARY:Oración
DESCRIPTION:
URL:https://castillodelreybrisas.com/evento/oracion-2/2026-05-11/
LOCATION:Mini Auditorio
CATEGORIES:Ordinarios
END:VEVENT
BEGIN:VEVENT
DTSTART;TZID=America/Mexico_City:20260512T080000
DTEND;TZID=America/Mexico_City:20260512T083000
DTSTAMP:20260423T090025
CREATED:20241021T183021Z
LAST-MODIFIED:20241021T183026Z
UID:10002153-1778572800-1778574600@castillodelreybrisas.com
SUMMARY:Oración
DESCRIPTION:
URL:https://castillodelreybrisas.com/evento/oracion-2/2026-05-12/
LOCATION:Mini Auditorio
CATEGORIES:Ordinarios
END:VEVENT
BEGIN:VEVENT
DTSTART;TZID=America/Mexico_City:20260513T080000
DTEND;TZID=America/Mexico_City:20260513T083000
DTSTAMP:20260423T090025
CREATED:20241021T183021Z
LAST-MODIFIED:20241021T183026Z
UID:10002154-1778659200-1778661000@castillodelreybrisas.com
SUMMARY:Oración
DESCRIPTION:
URL:https://castillodelreybrisas.com/evento/oracion-2/2026-05-13/
LOCATION:Mini Auditorio
CATEGORIES:Ordinarios
END:VEVENT
BEGIN:VEVENT
DTSTART;TZID=America/Mexico_City:20260514T080000
DTEND;TZID=America/Mexico_City:20260514T083000
DTSTAMP:20260423T090025
CREATED:20241021T183021Z
LAST-MODIFIED:20241021T183026Z
UID:10002155-1778745600-1778747400@castillodelreybrisas.com
SUMMARY:Oración
DESCRIPTION:
URL:https://castillodelreybrisas.com/evento/oracion-2/2026-05-14/
LOCATION:Mini Auditorio
CATEGORIES:Ordinarios
END:VEVENT
BEGIN:VEVENT
DTSTART;TZID=America/Mexico_City:20260515T080000
DTEND;TZID=America/Mexico_City:20260515T083000
DTSTAMP:20260423T090025
CREATED:20241021T183021Z
LAST-MODIFIED:20241021T183026Z
UID:10002156-1778832000-1778833800@castillodelreybrisas.com
SUMMARY:Oración
DESCRIPTION:
URL:https://castillodelreybrisas.com/evento/oracion-2/2026-05-15/
LOCATION:Mini Auditorio
CATEGORIES:Ordinarios
END:VEVENT
BEGIN:VEVENT
DTSTART;TZID=America/Mexico_City:20260518T080000
DTEND;TZID=America/Mexico_City:20260518T083000
DTSTAMP:20260423T090025
CREATED:20241021T183021Z
LAST-MODIFIED:20241021T183026Z
UID:10002159-1779091200-1779093000@castillodelreybrisas.com
SUMMARY:Oración
DESCRIPTION:
URL:https://castillodelreybrisas.com/evento/oracion-2/2026-05-18/
LOCATION:Mini Auditorio
CATEGORIES:Ordinarios
END:VEVENT
BEGIN:VEVENT
DTSTART;TZID=America/Mexico_City:20260519T080000
DTEND;TZID=America/Mexico_City:20260519T083000
DTSTAMP:20260423T090025
CREATED:20241021T183021Z
LAST-MODIFIED:20241021T183026Z
UID:10002160-1779177600-1779179400@castillodelreybrisas.com
SUMMARY:Oración
DESCRIPTION:
URL:https://castillodelreybrisas.com/evento/oracion-2/2026-05-19/
LOCATION:Mini Auditorio
CATEGORIES:Ordinarios
END:VEVENT
BEGIN:VEVENT
DTSTART;TZID=America/Mexico_City:20260520T080000
DTEND;TZID=America/Mexico_City:20260520T083000
DTSTAMP:20260423T090026
CREATED:20241021T183021Z
LAST-MODIFIED:20241021T183026Z
UID:10002161-1779264000-1779265800@castillodelreybrisas.com
SUMMARY:Oración
DESCRIPTION:
URL:https://castillodelreybrisas.com/evento/oracion-2/2026-05-20/
LOCATION:Mini Auditorio
CATEGORIES:Ordinarios
END:VEVENT
BEGIN:VEVENT
DTSTART;TZID=America/Mexico_City:20260521T080000
DTEND;TZID=America/Mexico_City:20260521T083000
DTSTAMP:20260423T090026
CREATED:20241021T183021Z
LAST-MODIFIED:20241021T183026Z
UID:10002162-1779350400-1779352200@castillodelreybrisas.com
SUMMARY:Oración
DESCRIPTION:
URL:https://castillodelreybrisas.com/evento/oracion-2/2026-05-21/
LOCATION:Mini Auditorio
CATEGORIES:Ordinarios
END:VEVENT
BEGIN:VEVENT
DTSTART;TZID=America/Mexico_City:20260522T080000
DTEND;TZID=America/Mexico_City:20260522T083000
DTSTAMP:20260423T090026
CREATED:20241021T183021Z
LAST-MODIFIED:20241021T183026Z
UID:10002163-1779436800-1779438600@castillodelreybrisas.com
SUMMARY:Oración
DESCRIPTION:
URL:https://castillodelreybrisas.com/evento/oracion-2/2026-05-22/
LOCATION:Mini Auditorio
CATEGORIES:Ordinarios
END:VEVENT
BEGIN:VEVENT
DTSTART;TZID=America/Mexico_City:20260525T080000
DTEND;TZID=America/Mexico_City:20260525T083000
DTSTAMP:20260423T090026
CREATED:20241021T183021Z
LAST-MODIFIED:20241021T183026Z
UID:10002166-1779696000-1779697800@castillodelreybrisas.com
SUMMARY:Oración
DESCRIPTION:
URL:https://castillodelreybrisas.com/evento/oracion-2/2026-05-25/
LOCATION:Mini Auditorio
CATEGORIES:Ordinarios
END:VEVENT
BEGIN:VEVENT
DTSTART;TZID=America/Mexico_City:20260526T080000
DTEND;TZID=America/Mexico_City:20260526T083000
DTSTAMP:20260423T090026
CREATED:20241021T183021Z
LAST-MODIFIED:20241021T183026Z
UID:10002167-1779782400-1779784200@castillodelreybrisas.com
SUMMARY:Oración
DESCRIPTION:
URL:https://castillodelreybrisas.com/evento/oracion-2/2026-05-26/
LOCATION:Mini Auditorio
CATEGORIES:Ordinarios
END:VEVENT
BEGIN:VEVENT
DTSTART;TZID=America/Mexico_City:20260527T080000
DTEND;TZID=America/Mexico_City:20260527T083000
DTSTAMP:20260423T090026
CREATED:20241021T183021Z
LAST-MODIFIED:20241021T183026Z
UID:10002168-1779868800-1779870600@castillodelreybrisas.com
SUMMARY:Oración
DESCRIPTION:
URL:https://castillodelreybrisas.com/evento/oracion-2/2026-05-27/
LOCATION:Mini Auditorio
CATEGORIES:Ordinarios
END:VEVENT
BEGIN:VEVENT
DTSTART;TZID=America/Mexico_City:20260528T080000
DTEND;TZID=America/Mexico_City:20260528T083000
DTSTAMP:20260423T090026
CREATED:20241021T183021Z
LAST-MODIFIED:20241021T183026Z
UID:10002169-1779955200-1779957000@castillodelreybrisas.com
SUMMARY:Oración
DESCRIPTION:
URL:https://castillodelreybrisas.com/evento/oracion-2/2026-05-28/
LOCATION:Mini Auditorio
CATEGORIES:Ordinarios
END:VEVENT
BEGIN:VEVENT
DTSTART;TZID=America/Mexico_City:20260529T080000
DTEND;TZID=America/Mexico_City:20260529T083000
DTSTAMP:20260423T090026
CREATED:20241021T183021Z
LAST-MODIFIED:20241021T183026Z
UID:10002170-1780041600-1780043400@castillodelreybrisas.com
SUMMARY:Oración
DESCRIPTION:
URL:https://castillodelreybrisas.com/evento/oracion-2/2026-05-29/
LOCATION:Mini Auditorio
CATEGORIES:Ordinarios
END:VEVENT
BEGIN:VEVENT
DTSTART;TZID=America/Mexico_City:20260601T080000
DTEND;TZID=America/Mexico_City:20260601T083000
DTSTAMP:20260423T090026
CREATED:20241021T183021Z
LAST-MODIFIED:20241021T183026Z
UID:10002173-1780300800-1780302600@castillodelreybrisas.com
SUMMARY:Oración
DESCRIPTION:
URL:https://castillodelreybrisas.com/evento/oracion-2/2026-06-01/
LOCATION:Mini Auditorio
CATEGORIES:Ordinarios
END:VEVENT
BEGIN:VEVENT
DTSTART;TZID=America/Mexico_City:20260602T080000
DTEND;TZID=America/Mexico_City:20260602T083000
DTSTAMP:20260423T090026
CREATED:20241021T183021Z
LAST-MODIFIED:20241021T183026Z
UID:10002174-1780387200-1780389000@castillodelreybrisas.com
SUMMARY:Oración
DESCRIPTION:
URL:https://castillodelreybrisas.com/evento/oracion-2/2026-06-02/
LOCATION:Mini Auditorio
CATEGORIES:Ordinarios
END:VEVENT
BEGIN:VEVENT
DTSTART;TZID=America/Mexico_City:20260603T080000
DTEND;TZID=America/Mexico_City:20260603T083000
DTSTAMP:20260423T090026
CREATED:20241021T183021Z
LAST-MODIFIED:20241021T183026Z
UID:10002175-1780473600-1780475400@castillodelreybrisas.com
SUMMARY:Oración
DESCRIPTION:
URL:https://castillodelreybrisas.com/evento/oracion-2/2026-06-03/
LOCATION:Mini Auditorio
CATEGORIES:Ordinarios
END:VEVENT
BEGIN:VEVENT
DTSTART;TZID=America/Mexico_City:20260604T080000
DTEND;TZID=America/Mexico_City:20260604T083000
DTSTAMP:20260423T090026
CREATED:20241021T183021Z
LAST-MODIFIED:20241021T183026Z
UID:10002176-1780560000-1780561800@castillodelreybrisas.com
SUMMARY:Oración
DESCRIPTION:
URL:https://castillodelreybrisas.com/evento/oracion-2/2026-06-04/
LOCATION:Mini Auditorio
CATEGORIES:Ordinarios
END:VEVENT
END:VCALENDAR