BEGIN:VCALENDAR
VERSION:2.0
PRODID:-//Castillo del Rey Brisas - ECPv6.15.16//NONSGML v1.0//EN
CALSCALE:GREGORIAN
METHOD:PUBLISH
X-WR-CALNAME:Castillo del Rey Brisas
X-ORIGINAL-URL:https://castillodelreybrisas.com
X-WR-CALDESC:Eventos para Castillo del Rey Brisas
REFRESH-INTERVAL;VALUE=DURATION:PT1H
X-Robots-Tag:noindex
X-PUBLISHED-TTL:PT1H
BEGIN:VTIMEZONE
TZID:America/Mexico_City
BEGIN:STANDARD
TZOFFSETFROM:-0600
TZOFFSETTO:-0600
TZNAME:CST
DTSTART:20250101T000000
END:STANDARD
END:VTIMEZONE
BEGIN:VEVENT
DTSTART;TZID=America/Mexico_City:20260425T180000
DTEND;TZID=America/Mexico_City:20260425T200000
DTSTAMP:20260423T074208
CREATED:20240811T154100Z
LAST-MODIFIED:20250508T172554Z
UID:10000094-1777140000-1777147200@castillodelreybrisas.com
SUMMARY:Jóvenes de Brisas
DESCRIPTION:
URL:https://castillodelreybrisas.com/evento/reunion-de-jovenes/2026-04-25/
LOCATION:Mini Auditorio
CATEGORIES:Ordinarios
END:VEVENT
BEGIN:VEVENT
DTSTART;TZID=America/Mexico_City:20260502T180000
DTEND;TZID=America/Mexico_City:20260502T200000
DTSTAMP:20260423T074208
CREATED:20240811T154100Z
LAST-MODIFIED:20250508T172554Z
UID:10000095-1777744800-1777752000@castillodelreybrisas.com
SUMMARY:Jóvenes de Brisas
DESCRIPTION:
URL:https://castillodelreybrisas.com/evento/reunion-de-jovenes/2026-05-02/
LOCATION:Mini Auditorio
CATEGORIES:Ordinarios
END:VEVENT
BEGIN:VEVENT
DTSTART;TZID=America/Mexico_City:20260509T180000
DTEND;TZID=America/Mexico_City:20260509T200000
DTSTAMP:20260423T074208
CREATED:20240811T154100Z
LAST-MODIFIED:20250508T172554Z
UID:10000096-1778349600-1778356800@castillodelreybrisas.com
SUMMARY:Jóvenes de Brisas
DESCRIPTION:
URL:https://castillodelreybrisas.com/evento/reunion-de-jovenes/2026-05-09/
LOCATION:Mini Auditorio
CATEGORIES:Ordinarios
END:VEVENT
BEGIN:VEVENT
DTSTART;TZID=America/Mexico_City:20260516T180000
DTEND;TZID=America/Mexico_City:20260516T200000
DTSTAMP:20260423T074208
CREATED:20240811T154100Z
LAST-MODIFIED:20250508T172554Z
UID:10000097-1778954400-1778961600@castillodelreybrisas.com
SUMMARY:Jóvenes de Brisas
DESCRIPTION:
URL:https://castillodelreybrisas.com/evento/reunion-de-jovenes/2026-05-16/
LOCATION:Mini Auditorio
CATEGORIES:Ordinarios
END:VEVENT
BEGIN:VEVENT
DTSTART;TZID=America/Mexico_City:20260523T180000
DTEND;TZID=America/Mexico_City:20260523T200000
DTSTAMP:20260423T074208
CREATED:20240811T154100Z
LAST-MODIFIED:20250508T172554Z
UID:10000098-1779559200-1779566400@castillodelreybrisas.com
SUMMARY:Jóvenes de Brisas
DESCRIPTION:
URL:https://castillodelreybrisas.com/evento/reunion-de-jovenes/2026-05-23/
LOCATION:Mini Auditorio
CATEGORIES:Ordinarios
END:VEVENT
BEGIN:VEVENT
DTSTART;TZID=America/Mexico_City:20260530T180000
DTEND;TZID=America/Mexico_City:20260530T200000
DTSTAMP:20260423T074208
CREATED:20240811T154100Z
LAST-MODIFIED:20250508T172554Z
UID:10000099-1780164000-1780171200@castillodelreybrisas.com
SUMMARY:Jóvenes de Brisas
DESCRIPTION:
URL:https://castillodelreybrisas.com/evento/reunion-de-jovenes/2026-05-30/
LOCATION:Mini Auditorio
CATEGORIES:Ordinarios
END:VEVENT
BEGIN:VEVENT
DTSTART;TZID=America/Mexico_City:20260606T180000
DTEND;TZID=America/Mexico_City:20260606T200000
DTSTAMP:20260423T074208
CREATED:20240811T154100Z
LAST-MODIFIED:20250508T172554Z
UID:10000100-1780768800-1780776000@castillodelreybrisas.com
SUMMARY:Jóvenes de Brisas
DESCRIPTION:
URL:https://castillodelreybrisas.com/evento/reunion-de-jovenes/2026-06-06/
LOCATION:Mini Auditorio
CATEGORIES:Ordinarios
END:VEVENT
BEGIN:VEVENT
DTSTART;TZID=America/Mexico_City:20260613T180000
DTEND;TZID=America/Mexico_City:20260613T200000
DTSTAMP:20260423T074208
CREATED:20240811T154100Z
LAST-MODIFIED:20250508T172554Z
UID:10000101-1781373600-1781380800@castillodelreybrisas.com
SUMMARY:Jóvenes de Brisas
DESCRIPTION:
URL:https://castillodelreybrisas.com/evento/reunion-de-jovenes/2026-06-13/
LOCATION:Mini Auditorio
CATEGORIES:Ordinarios
END:VEVENT
BEGIN:VEVENT
DTSTART;TZID=America/Mexico_City:20260620T180000
DTEND;TZID=America/Mexico_City:20260620T200000
DTSTAMP:20260423T074208
CREATED:20240811T154100Z
LAST-MODIFIED:20250508T172554Z
UID:10000102-1781978400-1781985600@castillodelreybrisas.com
SUMMARY:Jóvenes de Brisas
DESCRIPTION:
URL:https://castillodelreybrisas.com/evento/reunion-de-jovenes/2026-06-20/
LOCATION:Mini Auditorio
CATEGORIES:Ordinarios
END:VEVENT
BEGIN:VEVENT
DTSTART;TZID=America/Mexico_City:20260627T180000
DTEND;TZID=America/Mexico_City:20260627T200000
DTSTAMP:20260423T074208
CREATED:20240811T154100Z
LAST-MODIFIED:20250508T172554Z
UID:10000103-1782583200-1782590400@castillodelreybrisas.com
SUMMARY:Jóvenes de Brisas
DESCRIPTION:
URL:https://castillodelreybrisas.com/evento/reunion-de-jovenes/2026-06-27/
LOCATION:Mini Auditorio
CATEGORIES:Ordinarios
END:VEVENT
BEGIN:VEVENT
DTSTART;TZID=America/Mexico_City:20260704T180000
DTEND;TZID=America/Mexico_City:20260704T200000
DTSTAMP:20260423T074208
CREATED:20240811T154100Z
LAST-MODIFIED:20250508T172554Z
UID:10000104-1783188000-1783195200@castillodelreybrisas.com
SUMMARY:Jóvenes de Brisas
DESCRIPTION:
URL:https://castillodelreybrisas.com/evento/reunion-de-jovenes/2026-07-04/
LOCATION:Mini Auditorio
CATEGORIES:Ordinarios
END:VEVENT
BEGIN:VEVENT
DTSTART;TZID=America/Mexico_City:20260711T180000
DTEND;TZID=America/Mexico_City:20260711T200000
DTSTAMP:20260423T074208
CREATED:20240811T154100Z
LAST-MODIFIED:20250508T172554Z
UID:10000105-1783792800-1783800000@castillodelreybrisas.com
SUMMARY:Jóvenes de Brisas
DESCRIPTION:
URL:https://castillodelreybrisas.com/evento/reunion-de-jovenes/2026-07-11/
LOCATION:Mini Auditorio
CATEGORIES:Ordinarios
END:VEVENT
BEGIN:VEVENT
DTSTART;TZID=America/Mexico_City:20260718T180000
DTEND;TZID=America/Mexico_City:20260718T200000
DTSTAMP:20260423T074208
CREATED:20240811T154100Z
LAST-MODIFIED:20250508T172554Z
UID:10000106-1784397600-1784404800@castillodelreybrisas.com
SUMMARY:Jóvenes de Brisas
DESCRIPTION:
URL:https://castillodelreybrisas.com/evento/reunion-de-jovenes/2026-07-18/
LOCATION:Mini Auditorio
CATEGORIES:Ordinarios
END:VEVENT
BEGIN:VEVENT
DTSTART;TZID=America/Mexico_City:20260725T180000
DTEND;TZID=America/Mexico_City:20260725T200000
DTSTAMP:20260423T074208
CREATED:20240811T154100Z
LAST-MODIFIED:20250508T172554Z
UID:10000107-1785002400-1785009600@castillodelreybrisas.com
SUMMARY:Jóvenes de Brisas
DESCRIPTION:
URL:https://castillodelreybrisas.com/evento/reunion-de-jovenes/2026-07-25/
LOCATION:Mini Auditorio
CATEGORIES:Ordinarios
END:VEVENT
BEGIN:VEVENT
DTSTART;TZID=America/Mexico_City:20260801T180000
DTEND;TZID=America/Mexico_City:20260801T200000
DTSTAMP:20260423T074208
CREATED:20240811T154100Z
LAST-MODIFIED:20250508T172554Z
UID:10000108-1785607200-1785614400@castillodelreybrisas.com
SUMMARY:Jóvenes de Brisas
DESCRIPTION:
URL:https://castillodelreybrisas.com/evento/reunion-de-jovenes/2026-08-01/
LOCATION:Mini Auditorio
CATEGORIES:Ordinarios
END:VEVENT
BEGIN:VEVENT
DTSTART;TZID=America/Mexico_City:20260808T180000
DTEND;TZID=America/Mexico_City:20260808T200000
DTSTAMP:20260423T074208
CREATED:20240811T154100Z
LAST-MODIFIED:20250508T172554Z
UID:10000109-1786212000-1786219200@castillodelreybrisas.com
SUMMARY:Jóvenes de Brisas
DESCRIPTION:
URL:https://castillodelreybrisas.com/evento/reunion-de-jovenes/2026-08-08/
LOCATION:Mini Auditorio
CATEGORIES:Ordinarios
END:VEVENT
BEGIN:VEVENT
DTSTART;TZID=America/Mexico_City:20260815T180000
DTEND;TZID=America/Mexico_City:20260815T200000
DTSTAMP:20260423T074208
CREATED:20240811T154100Z
LAST-MODIFIED:20250508T172554Z
UID:10000110-1786816800-1786824000@castillodelreybrisas.com
SUMMARY:Jóvenes de Brisas
DESCRIPTION:
URL:https://castillodelreybrisas.com/evento/reunion-de-jovenes/2026-08-15/
LOCATION:Mini Auditorio
CATEGORIES:Ordinarios
END:VEVENT
BEGIN:VEVENT
DTSTART;TZID=America/Mexico_City:20260822T180000
DTEND;TZID=America/Mexico_City:20260822T200000
DTSTAMP:20260423T074208
CREATED:20240811T154100Z
LAST-MODIFIED:20250508T172554Z
UID:10000111-1787421600-1787428800@castillodelreybrisas.com
SUMMARY:Jóvenes de Brisas
DESCRIPTION:
URL:https://castillodelreybrisas.com/evento/reunion-de-jovenes/2026-08-22/
LOCATION:Mini Auditorio
CATEGORIES:Ordinarios
END:VEVENT
BEGIN:VEVENT
DTSTART;TZID=America/Mexico_City:20260829T180000
DTEND;TZID=America/Mexico_City:20260829T200000
DTSTAMP:20260423T074208
CREATED:20240811T154100Z
LAST-MODIFIED:20250508T172554Z
UID:10000112-1788026400-1788033600@castillodelreybrisas.com
SUMMARY:Jóvenes de Brisas
DESCRIPTION:
URL:https://castillodelreybrisas.com/evento/reunion-de-jovenes/2026-08-29/
LOCATION:Mini Auditorio
CATEGORIES:Ordinarios
END:VEVENT
BEGIN:VEVENT
DTSTART;TZID=America/Mexico_City:20260905T180000
DTEND;TZID=America/Mexico_City:20260905T200000
DTSTAMP:20260423T074208
CREATED:20240811T154100Z
LAST-MODIFIED:20250508T172554Z
UID:10000113-1788631200-1788638400@castillodelreybrisas.com
SUMMARY:Jóvenes de Brisas
DESCRIPTION:
URL:https://castillodelreybrisas.com/evento/reunion-de-jovenes/2026-09-05/
LOCATION:Mini Auditorio
CATEGORIES:Ordinarios
END:VEVENT
BEGIN:VEVENT
DTSTART;TZID=America/Mexico_City:20260912T180000
DTEND;TZID=America/Mexico_City:20260912T200000
DTSTAMP:20260423T074208
CREATED:20240811T154100Z
LAST-MODIFIED:20250508T172554Z
UID:10000114-1789236000-1789243200@castillodelreybrisas.com
SUMMARY:Jóvenes de Brisas
DESCRIPTION:
URL:https://castillodelreybrisas.com/evento/reunion-de-jovenes/2026-09-12/
LOCATION:Mini Auditorio
CATEGORIES:Ordinarios
END:VEVENT
BEGIN:VEVENT
DTSTART;TZID=America/Mexico_City:20260919T180000
DTEND;TZID=America/Mexico_City:20260919T200000
DTSTAMP:20260423T074208
CREATED:20240811T154100Z
LAST-MODIFIED:20250508T172554Z
UID:10000115-1789840800-1789848000@castillodelreybrisas.com
SUMMARY:Jóvenes de Brisas
DESCRIPTION:
URL:https://castillodelreybrisas.com/evento/reunion-de-jovenes/2026-09-19/
LOCATION:Mini Auditorio
CATEGORIES:Ordinarios
END:VEVENT
BEGIN:VEVENT
DTSTART;TZID=America/Mexico_City:20260926T180000
DTEND;TZID=America/Mexico_City:20260926T200000
DTSTAMP:20260423T074208
CREATED:20240811T154100Z
LAST-MODIFIED:20250508T172554Z
UID:10000116-1790445600-1790452800@castillodelreybrisas.com
SUMMARY:Jóvenes de Brisas
DESCRIPTION:
URL:https://castillodelreybrisas.com/evento/reunion-de-jovenes/2026-09-26/
LOCATION:Mini Auditorio
CATEGORIES:Ordinarios
END:VEVENT
BEGIN:VEVENT
DTSTART;TZID=America/Mexico_City:20261003T180000
DTEND;TZID=America/Mexico_City:20261003T200000
DTSTAMP:20260423T074208
CREATED:20240811T154100Z
LAST-MODIFIED:20250508T172554Z
UID:10000117-1791050400-1791057600@castillodelreybrisas.com
SUMMARY:Jóvenes de Brisas
DESCRIPTION:
URL:https://castillodelreybrisas.com/evento/reunion-de-jovenes/2026-10-03/
LOCATION:Mini Auditorio
CATEGORIES:Ordinarios
END:VEVENT
BEGIN:VEVENT
DTSTART;TZID=America/Mexico_City:20261010T180000
DTEND;TZID=America/Mexico_City:20261010T200000
DTSTAMP:20260423T074208
CREATED:20240811T154100Z
LAST-MODIFIED:20250508T172554Z
UID:10000118-1791655200-1791662400@castillodelreybrisas.com
SUMMARY:Jóvenes de Brisas
DESCRIPTION:
URL:https://castillodelreybrisas.com/evento/reunion-de-jovenes/2026-10-10/
LOCATION:Mini Auditorio
CATEGORIES:Ordinarios
END:VEVENT
BEGIN:VEVENT
DTSTART;TZID=America/Mexico_City:20261017T180000
DTEND;TZID=America/Mexico_City:20261017T200000
DTSTAMP:20260423T074208
CREATED:20240811T154100Z
LAST-MODIFIED:20250508T172554Z
UID:10000119-1792260000-1792267200@castillodelreybrisas.com
SUMMARY:Jóvenes de Brisas
DESCRIPTION:
URL:https://castillodelreybrisas.com/evento/reunion-de-jovenes/2026-10-17/
LOCATION:Mini Auditorio
CATEGORIES:Ordinarios
END:VEVENT
BEGIN:VEVENT
DTSTART;TZID=America/Mexico_City:20261024T180000
DTEND;TZID=America/Mexico_City:20261024T200000
DTSTAMP:20260423T074208
CREATED:20240811T154100Z
LAST-MODIFIED:20250508T172554Z
UID:10000120-1792864800-1792872000@castillodelreybrisas.com
SUMMARY:Jóvenes de Brisas
DESCRIPTION:
URL:https://castillodelreybrisas.com/evento/reunion-de-jovenes/2026-10-24/
LOCATION:Mini Auditorio
CATEGORIES:Ordinarios
END:VEVENT
BEGIN:VEVENT
DTSTART;TZID=America/Mexico_City:20261031T180000
DTEND;TZID=America/Mexico_City:20261031T200000
DTSTAMP:20260423T074208
CREATED:20240811T154100Z
LAST-MODIFIED:20250508T172554Z
UID:10000121-1793469600-1793476800@castillodelreybrisas.com
SUMMARY:Jóvenes de Brisas
DESCRIPTION:
URL:https://castillodelreybrisas.com/evento/reunion-de-jovenes/2026-10-31/
LOCATION:Mini Auditorio
CATEGORIES:Ordinarios
END:VEVENT
BEGIN:VEVENT
DTSTART;TZID=America/Mexico_City:20261107T180000
DTEND;TZID=America/Mexico_City:20261107T200000
DTSTAMP:20260423T074208
CREATED:20240811T154100Z
LAST-MODIFIED:20250508T172554Z
UID:10000122-1794074400-1794081600@castillodelreybrisas.com
SUMMARY:Jóvenes de Brisas
DESCRIPTION:
URL:https://castillodelreybrisas.com/evento/reunion-de-jovenes/2026-11-07/
LOCATION:Mini Auditorio
CATEGORIES:Ordinarios
END:VEVENT
BEGIN:VEVENT
DTSTART;TZID=America/Mexico_City:20261114T180000
DTEND;TZID=America/Mexico_City:20261114T200000
DTSTAMP:20260423T074208
CREATED:20240811T154100Z
LAST-MODIFIED:20250508T172554Z
UID:10000123-1794679200-1794686400@castillodelreybrisas.com
SUMMARY:Jóvenes de Brisas
DESCRIPTION:
URL:https://castillodelreybrisas.com/evento/reunion-de-jovenes/2026-11-14/
LOCATION:Mini Auditorio
CATEGORIES:Ordinarios
END:VEVENT
END:VCALENDAR