BEGIN:VCALENDAR
VERSION:2.0
PRODID:-//Castillo del Rey Brisas - ECPv6.15.16//NONSGML v1.0//EN
CALSCALE:GREGORIAN
METHOD:PUBLISH
X-ORIGINAL-URL:https://castillodelreybrisas.com
X-WR-CALDESC:Eventos para Castillo del Rey Brisas
REFRESH-INTERVAL;VALUE=DURATION:PT1H
X-Robots-Tag:noindex
X-PUBLISHED-TTL:PT1H
BEGIN:VTIMEZONE
TZID:America/Mexico_City
BEGIN:STANDARD
TZOFFSETFROM:-0600
TZOFFSETTO:-0600
TZNAME:CST
DTSTART:20260101T000000
END:STANDARD
END:VTIMEZONE
BEGIN:VEVENT
DTSTART;TZID=America/Mexico_City:20270401T080000
DTEND;TZID=America/Mexico_City:20270401T083000
DTSTAMP:20260424T012435
CREATED:20241021T183021Z
LAST-MODIFIED:20241021T183026Z
UID:10002477-1806566400-1806568200@castillodelreybrisas.com
SUMMARY:Oración
DESCRIPTION:
URL:https://castillodelreybrisas.com/evento/oracion-2/2027-04-01/
LOCATION:Mini Auditorio
CATEGORIES:Ordinarios
END:VEVENT
BEGIN:VEVENT
DTSTART;TZID=America/Mexico_City:20270402T080000
DTEND;TZID=America/Mexico_City:20270402T083000
DTSTAMP:20260424T012435
CREATED:20241021T183021Z
LAST-MODIFIED:20241021T183026Z
UID:10002478-1806652800-1806654600@castillodelreybrisas.com
SUMMARY:Oración
DESCRIPTION:
URL:https://castillodelreybrisas.com/evento/oracion-2/2027-04-02/
LOCATION:Mini Auditorio
CATEGORIES:Ordinarios
END:VEVENT
BEGIN:VEVENT
DTSTART;TZID=America/Mexico_City:20270403T180000
DTEND;TZID=America/Mexico_City:20270403T200000
DTSTAMP:20260424T012435
CREATED:20240811T154100Z
LAST-MODIFIED:20250508T172554Z
UID:10000143-1806775200-1806782400@castillodelreybrisas.com
SUMMARY:Jóvenes de Brisas
DESCRIPTION:
URL:https://castillodelreybrisas.com/evento/reunion-de-jovenes/2027-04-03/
LOCATION:Mini Auditorio
CATEGORIES:Ordinarios
END:VEVENT
BEGIN:VEVENT
DTSTART;TZID=America/Mexico_City:20270404T100000
DTEND;TZID=America/Mexico_City:20270404T113000
DTSTAMP:20260424T012435
CREATED:20241022T161633Z
LAST-MODIFIED:20241215T005141Z
UID:10003540-1806832800-1806838200@castillodelreybrisas.com
SUMMARY:Primera Reunión Dominical
DESCRIPTION:
URL:https://castillodelreybrisas.com/evento/primera-reunion-dominical/2027-04-04/
LOCATION:Castillo del Rey Brisas\, Castillo del Rey Brisas\, Monterrey\, Nuevo León\, 64764\, Mexico
CATEGORIES:Ordinarios
END:VEVENT
BEGIN:VEVENT
DTSTART;TZID=America/Mexico_City:20270404T123000
DTEND;TZID=America/Mexico_City:20270404T140000
DTSTAMP:20260424T012435
CREATED:20241022T162004Z
LAST-MODIFIED:20241215T005226Z
UID:10004323-1806841800-1806847200@castillodelreybrisas.com
SUMMARY:Segunda Reunión Dominical
DESCRIPTION:
URL:https://castillodelreybrisas.com/evento/segunda-reunion-dominical/2027-04-04/
LOCATION:Castillo del Rey Brisas\, Castillo del Rey Brisas\, Monterrey\, Nuevo León\, 64764\, Mexico
CATEGORIES:Ordinarios
END:VEVENT
BEGIN:VEVENT
DTSTART;TZID=America/Mexico_City:20270405T080000
DTEND;TZID=America/Mexico_City:20270405T083000
DTSTAMP:20260424T012435
CREATED:20241021T183021Z
LAST-MODIFIED:20241021T183026Z
UID:10002481-1806912000-1806913800@castillodelreybrisas.com
SUMMARY:Oración
DESCRIPTION:
URL:https://castillodelreybrisas.com/evento/oracion-2/2027-04-05/
LOCATION:Mini Auditorio
CATEGORIES:Ordinarios
END:VEVENT
BEGIN:VEVENT
DTSTART;TZID=America/Mexico_City:20270406T080000
DTEND;TZID=America/Mexico_City:20270406T083000
DTSTAMP:20260424T012435
CREATED:20241021T183021Z
LAST-MODIFIED:20241021T183026Z
UID:10002482-1806998400-1807000200@castillodelreybrisas.com
SUMMARY:Oración
DESCRIPTION:
URL:https://castillodelreybrisas.com/evento/oracion-2/2027-04-06/
LOCATION:Mini Auditorio
CATEGORIES:Ordinarios
END:VEVENT
BEGIN:VEVENT
DTSTART;TZID=America/Mexico_City:20270407T080000
DTEND;TZID=America/Mexico_City:20270407T083000
DTSTAMP:20260424T012435
CREATED:20241021T183021Z
LAST-MODIFIED:20241021T183026Z
UID:10002483-1807084800-1807086600@castillodelreybrisas.com
SUMMARY:Oración
DESCRIPTION:
URL:https://castillodelreybrisas.com/evento/oracion-2/2027-04-07/
LOCATION:Mini Auditorio
CATEGORIES:Ordinarios
END:VEVENT
BEGIN:VEVENT
DTSTART;TZID=America/Mexico_City:20270408T080000
DTEND;TZID=America/Mexico_City:20270408T083000
DTSTAMP:20260424T012435
CREATED:20241021T183021Z
LAST-MODIFIED:20241021T183026Z
UID:10002484-1807171200-1807173000@castillodelreybrisas.com
SUMMARY:Oración
DESCRIPTION:
URL:https://castillodelreybrisas.com/evento/oracion-2/2027-04-08/
LOCATION:Mini Auditorio
CATEGORIES:Ordinarios
END:VEVENT
BEGIN:VEVENT
DTSTART;TZID=America/Mexico_City:20270409T080000
DTEND;TZID=America/Mexico_City:20270409T083000
DTSTAMP:20260424T012435
CREATED:20241021T183021Z
LAST-MODIFIED:20241021T183026Z
UID:10002485-1807257600-1807259400@castillodelreybrisas.com
SUMMARY:Oración
DESCRIPTION:
URL:https://castillodelreybrisas.com/evento/oracion-2/2027-04-09/
LOCATION:Mini Auditorio
CATEGORIES:Ordinarios
END:VEVENT
BEGIN:VEVENT
DTSTART;TZID=America/Mexico_City:20270410T180000
DTEND;TZID=America/Mexico_City:20270410T200000
DTSTAMP:20260424T012435
CREATED:20240811T154100Z
LAST-MODIFIED:20250508T172554Z
UID:10000144-1807380000-1807387200@castillodelreybrisas.com
SUMMARY:Jóvenes de Brisas
DESCRIPTION:
URL:https://castillodelreybrisas.com/evento/reunion-de-jovenes/2027-04-10/
LOCATION:Mini Auditorio
CATEGORIES:Ordinarios
END:VEVENT
BEGIN:VEVENT
DTSTART;TZID=America/Mexico_City:20270411T100000
DTEND;TZID=America/Mexico_City:20270411T113000
DTSTAMP:20260424T012435
CREATED:20241022T161633Z
LAST-MODIFIED:20241215T005141Z
UID:10003541-1807437600-1807443000@castillodelreybrisas.com
SUMMARY:Primera Reunión Dominical
DESCRIPTION:
URL:https://castillodelreybrisas.com/evento/primera-reunion-dominical/2027-04-11/
LOCATION:Castillo del Rey Brisas\, Castillo del Rey Brisas\, Monterrey\, Nuevo León\, 64764\, Mexico
CATEGORIES:Ordinarios
END:VEVENT
BEGIN:VEVENT
DTSTART;TZID=America/Mexico_City:20270411T123000
DTEND;TZID=America/Mexico_City:20270411T140000
DTSTAMP:20260424T012435
CREATED:20241022T162004Z
LAST-MODIFIED:20241215T005226Z
UID:10004324-1807446600-1807452000@castillodelreybrisas.com
SUMMARY:Segunda Reunión Dominical
DESCRIPTION:
URL:https://castillodelreybrisas.com/evento/segunda-reunion-dominical/2027-04-11/
LOCATION:Castillo del Rey Brisas\, Castillo del Rey Brisas\, Monterrey\, Nuevo León\, 64764\, Mexico
CATEGORIES:Ordinarios
END:VEVENT
BEGIN:VEVENT
DTSTART;TZID=America/Mexico_City:20270412T080000
DTEND;TZID=America/Mexico_City:20270412T083000
DTSTAMP:20260424T012435
CREATED:20241021T183021Z
LAST-MODIFIED:20241021T183026Z
UID:10002488-1807516800-1807518600@castillodelreybrisas.com
SUMMARY:Oración
DESCRIPTION:
URL:https://castillodelreybrisas.com/evento/oracion-2/2027-04-12/
LOCATION:Mini Auditorio
CATEGORIES:Ordinarios
END:VEVENT
BEGIN:VEVENT
DTSTART;TZID=America/Mexico_City:20270413T080000
DTEND;TZID=America/Mexico_City:20270413T083000
DTSTAMP:20260424T012435
CREATED:20241021T183021Z
LAST-MODIFIED:20241021T183026Z
UID:10002489-1807603200-1807605000@castillodelreybrisas.com
SUMMARY:Oración
DESCRIPTION:
URL:https://castillodelreybrisas.com/evento/oracion-2/2027-04-13/
LOCATION:Mini Auditorio
CATEGORIES:Ordinarios
END:VEVENT
BEGIN:VEVENT
DTSTART;TZID=America/Mexico_City:20270414T080000
DTEND;TZID=America/Mexico_City:20270414T083000
DTSTAMP:20260424T012435
CREATED:20241021T183021Z
LAST-MODIFIED:20241021T183026Z
UID:10002490-1807689600-1807691400@castillodelreybrisas.com
SUMMARY:Oración
DESCRIPTION:
URL:https://castillodelreybrisas.com/evento/oracion-2/2027-04-14/
LOCATION:Mini Auditorio
CATEGORIES:Ordinarios
END:VEVENT
BEGIN:VEVENT
DTSTART;TZID=America/Mexico_City:20270415T080000
DTEND;TZID=America/Mexico_City:20270415T083000
DTSTAMP:20260424T012435
CREATED:20241021T183021Z
LAST-MODIFIED:20241021T183026Z
UID:10002491-1807776000-1807777800@castillodelreybrisas.com
SUMMARY:Oración
DESCRIPTION:
URL:https://castillodelreybrisas.com/evento/oracion-2/2027-04-15/
LOCATION:Mini Auditorio
CATEGORIES:Ordinarios
END:VEVENT
BEGIN:VEVENT
DTSTART;TZID=America/Mexico_City:20270416T080000
DTEND;TZID=America/Mexico_City:20270416T083000
DTSTAMP:20260424T012435
CREATED:20241021T183021Z
LAST-MODIFIED:20241021T183026Z
UID:10002492-1807862400-1807864200@castillodelreybrisas.com
SUMMARY:Oración
DESCRIPTION:
URL:https://castillodelreybrisas.com/evento/oracion-2/2027-04-16/
LOCATION:Mini Auditorio
CATEGORIES:Ordinarios
END:VEVENT
BEGIN:VEVENT
DTSTART;TZID=America/Mexico_City:20270417T180000
DTEND;TZID=America/Mexico_City:20270417T200000
DTSTAMP:20260424T012435
CREATED:20240811T154100Z
LAST-MODIFIED:20250508T172554Z
UID:10000145-1807984800-1807992000@castillodelreybrisas.com
SUMMARY:Jóvenes de Brisas
DESCRIPTION:
URL:https://castillodelreybrisas.com/evento/reunion-de-jovenes/2027-04-17/
LOCATION:Mini Auditorio
CATEGORIES:Ordinarios
END:VEVENT
BEGIN:VEVENT
DTSTART;TZID=America/Mexico_City:20270418T100000
DTEND;TZID=America/Mexico_City:20270418T113000
DTSTAMP:20260424T012435
CREATED:20241022T161633Z
LAST-MODIFIED:20241215T005141Z
UID:10003542-1808042400-1808047800@castillodelreybrisas.com
SUMMARY:Primera Reunión Dominical
DESCRIPTION:
URL:https://castillodelreybrisas.com/evento/primera-reunion-dominical/2027-04-18/
LOCATION:Castillo del Rey Brisas\, Castillo del Rey Brisas\, Monterrey\, Nuevo León\, 64764\, Mexico
CATEGORIES:Ordinarios
END:VEVENT
BEGIN:VEVENT
DTSTART;TZID=America/Mexico_City:20270418T123000
DTEND;TZID=America/Mexico_City:20270418T140000
DTSTAMP:20260424T012435
CREATED:20241022T162004Z
LAST-MODIFIED:20241215T005226Z
UID:10004325-1808051400-1808056800@castillodelreybrisas.com
SUMMARY:Segunda Reunión Dominical
DESCRIPTION:
URL:https://castillodelreybrisas.com/evento/segunda-reunion-dominical/2027-04-18/
LOCATION:Castillo del Rey Brisas\, Castillo del Rey Brisas\, Monterrey\, Nuevo León\, 64764\, Mexico
CATEGORIES:Ordinarios
END:VEVENT
BEGIN:VEVENT
DTSTART;TZID=America/Mexico_City:20270419T080000
DTEND;TZID=America/Mexico_City:20270419T083000
DTSTAMP:20260424T012435
CREATED:20241021T183021Z
LAST-MODIFIED:20241021T183026Z
UID:10002495-1808121600-1808123400@castillodelreybrisas.com
SUMMARY:Oración
DESCRIPTION:
URL:https://castillodelreybrisas.com/evento/oracion-2/2027-04-19/
LOCATION:Mini Auditorio
CATEGORIES:Ordinarios
END:VEVENT
BEGIN:VEVENT
DTSTART;TZID=America/Mexico_City:20270420T080000
DTEND;TZID=America/Mexico_City:20270420T083000
DTSTAMP:20260424T012435
CREATED:20241021T183021Z
LAST-MODIFIED:20241021T183026Z
UID:10002496-1808208000-1808209800@castillodelreybrisas.com
SUMMARY:Oración
DESCRIPTION:
URL:https://castillodelreybrisas.com/evento/oracion-2/2027-04-20/
LOCATION:Mini Auditorio
CATEGORIES:Ordinarios
END:VEVENT
BEGIN:VEVENT
DTSTART;TZID=America/Mexico_City:20270421T080000
DTEND;TZID=America/Mexico_City:20270421T083000
DTSTAMP:20260424T012435
CREATED:20241021T183021Z
LAST-MODIFIED:20241021T183026Z
UID:10002497-1808294400-1808296200@castillodelreybrisas.com
SUMMARY:Oración
DESCRIPTION:
URL:https://castillodelreybrisas.com/evento/oracion-2/2027-04-21/
LOCATION:Mini Auditorio
CATEGORIES:Ordinarios
END:VEVENT
BEGIN:VEVENT
DTSTART;TZID=America/Mexico_City:20270422T080000
DTEND;TZID=America/Mexico_City:20270422T083000
DTSTAMP:20260424T012435
CREATED:20241021T183021Z
LAST-MODIFIED:20241021T183026Z
UID:10002498-1808380800-1808382600@castillodelreybrisas.com
SUMMARY:Oración
DESCRIPTION:
URL:https://castillodelreybrisas.com/evento/oracion-2/2027-04-22/
LOCATION:Mini Auditorio
CATEGORIES:Ordinarios
END:VEVENT
BEGIN:VEVENT
DTSTART;TZID=America/Mexico_City:20270423T080000
DTEND;TZID=America/Mexico_City:20270423T083000
DTSTAMP:20260424T012435
CREATED:20241021T183021Z
LAST-MODIFIED:20241021T183026Z
UID:10002499-1808467200-1808469000@castillodelreybrisas.com
SUMMARY:Oración
DESCRIPTION:
URL:https://castillodelreybrisas.com/evento/oracion-2/2027-04-23/
LOCATION:Mini Auditorio
CATEGORIES:Ordinarios
END:VEVENT
BEGIN:VEVENT
DTSTART;TZID=America/Mexico_City:20270424T180000
DTEND;TZID=America/Mexico_City:20270424T200000
DTSTAMP:20260424T012435
CREATED:20240811T154100Z
LAST-MODIFIED:20250508T172554Z
UID:10000146-1808589600-1808596800@castillodelreybrisas.com
SUMMARY:Jóvenes de Brisas
DESCRIPTION:
URL:https://castillodelreybrisas.com/evento/reunion-de-jovenes/2027-04-24/
LOCATION:Mini Auditorio
CATEGORIES:Ordinarios
END:VEVENT
BEGIN:VEVENT
DTSTART;TZID=America/Mexico_City:20270425T100000
DTEND;TZID=America/Mexico_City:20270425T113000
DTSTAMP:20260424T012435
CREATED:20241022T161633Z
LAST-MODIFIED:20241215T005141Z
UID:10003543-1808647200-1808652600@castillodelreybrisas.com
SUMMARY:Primera Reunión Dominical
DESCRIPTION:
URL:https://castillodelreybrisas.com/evento/primera-reunion-dominical/2027-04-25/
LOCATION:Castillo del Rey Brisas\, Castillo del Rey Brisas\, Monterrey\, Nuevo León\, 64764\, Mexico
CATEGORIES:Ordinarios
END:VEVENT
BEGIN:VEVENT
DTSTART;TZID=America/Mexico_City:20270425T123000
DTEND;TZID=America/Mexico_City:20270425T140000
DTSTAMP:20260424T012435
CREATED:20241022T162004Z
LAST-MODIFIED:20241215T005226Z
UID:10004326-1808656200-1808661600@castillodelreybrisas.com
SUMMARY:Segunda Reunión Dominical
DESCRIPTION:
URL:https://castillodelreybrisas.com/evento/segunda-reunion-dominical/2027-04-25/
LOCATION:Castillo del Rey Brisas\, Castillo del Rey Brisas\, Monterrey\, Nuevo León\, 64764\, Mexico
CATEGORIES:Ordinarios
END:VEVENT
BEGIN:VEVENT
DTSTART;TZID=America/Mexico_City:20270426T080000
DTEND;TZID=America/Mexico_City:20270426T083000
DTSTAMP:20260424T012435
CREATED:20241021T183021Z
LAST-MODIFIED:20241021T183026Z
UID:10002502-1808726400-1808728200@castillodelreybrisas.com
SUMMARY:Oración
DESCRIPTION:
URL:https://castillodelreybrisas.com/evento/oracion-2/2027-04-26/
LOCATION:Mini Auditorio
CATEGORIES:Ordinarios
END:VEVENT
END:VCALENDAR