BEGIN:VCALENDAR
VERSION:2.0
PRODID:-//Castillo del Rey Brisas - ECPv6.15.16//NONSGML v1.0//EN
CALSCALE:GREGORIAN
METHOD:PUBLISH
X-ORIGINAL-URL:https://castillodelreybrisas.com
X-WR-CALDESC:Eventos para Castillo del Rey Brisas
REFRESH-INTERVAL;VALUE=DURATION:PT1H
X-Robots-Tag:noindex
X-PUBLISHED-TTL:PT1H
BEGIN:VTIMEZONE
TZID:America/Mexico_City
BEGIN:STANDARD
TZOFFSETFROM:-0600
TZOFFSETTO:-0600
TZNAME:CST
DTSTART:20260101T000000
END:STANDARD
END:VTIMEZONE
BEGIN:VEVENT
DTSTART;TZID=America/Mexico_City:20270101T080000
DTEND;TZID=America/Mexico_City:20270101T083000
DTSTAMP:20260423T211223
CREATED:20241021T183021Z
LAST-MODIFIED:20241021T183026Z
UID:10002387-1798790400-1798792200@castillodelreybrisas.com
SUMMARY:Oración
DESCRIPTION:
URL:https://castillodelreybrisas.com/evento/oracion-2/2027-01-01/
LOCATION:Mini Auditorio
CATEGORIES:Ordinarios
END:VEVENT
BEGIN:VEVENT
DTSTART;TZID=America/Mexico_City:20270102T180000
DTEND;TZID=America/Mexico_City:20270102T200000
DTSTAMP:20260423T211223
CREATED:20240811T154100Z
LAST-MODIFIED:20250508T172554Z
UID:10000130-1798912800-1798920000@castillodelreybrisas.com
SUMMARY:Jóvenes de Brisas
DESCRIPTION:
URL:https://castillodelreybrisas.com/evento/reunion-de-jovenes/2027-01-02/
LOCATION:Mini Auditorio
CATEGORIES:Ordinarios
END:VEVENT
BEGIN:VEVENT
DTSTART;TZID=America/Mexico_City:20270103T100000
DTEND;TZID=America/Mexico_City:20270103T113000
DTSTAMP:20260423T211223
CREATED:20241022T161633Z
LAST-MODIFIED:20241215T005141Z
UID:10003527-1798970400-1798975800@castillodelreybrisas.com
SUMMARY:Primera Reunión Dominical
DESCRIPTION:
URL:https://castillodelreybrisas.com/evento/primera-reunion-dominical/2027-01-03/
LOCATION:Castillo del Rey Brisas\, Castillo del Rey Brisas\, Monterrey\, Nuevo León\, 64764\, Mexico
CATEGORIES:Ordinarios
END:VEVENT
BEGIN:VEVENT
DTSTART;TZID=America/Mexico_City:20270103T123000
DTEND;TZID=America/Mexico_City:20270103T140000
DTSTAMP:20260423T211223
CREATED:20241022T162004Z
LAST-MODIFIED:20241215T005226Z
UID:10004310-1798979400-1798984800@castillodelreybrisas.com
SUMMARY:Segunda Reunión Dominical
DESCRIPTION:
URL:https://castillodelreybrisas.com/evento/segunda-reunion-dominical/2027-01-03/
LOCATION:Castillo del Rey Brisas\, Castillo del Rey Brisas\, Monterrey\, Nuevo León\, 64764\, Mexico
CATEGORIES:Ordinarios
END:VEVENT
BEGIN:VEVENT
DTSTART;TZID=America/Mexico_City:20270104T080000
DTEND;TZID=America/Mexico_City:20270104T083000
DTSTAMP:20260423T211223
CREATED:20241021T183021Z
LAST-MODIFIED:20241021T183026Z
UID:10002390-1799049600-1799051400@castillodelreybrisas.com
SUMMARY:Oración
DESCRIPTION:
URL:https://castillodelreybrisas.com/evento/oracion-2/2027-01-04/
LOCATION:Mini Auditorio
CATEGORIES:Ordinarios
END:VEVENT
BEGIN:VEVENT
DTSTART;TZID=America/Mexico_City:20270105T080000
DTEND;TZID=America/Mexico_City:20270105T083000
DTSTAMP:20260423T211223
CREATED:20241021T183021Z
LAST-MODIFIED:20241021T183026Z
UID:10002391-1799136000-1799137800@castillodelreybrisas.com
SUMMARY:Oración
DESCRIPTION:
URL:https://castillodelreybrisas.com/evento/oracion-2/2027-01-05/
LOCATION:Mini Auditorio
CATEGORIES:Ordinarios
END:VEVENT
BEGIN:VEVENT
DTSTART;TZID=America/Mexico_City:20270106T080000
DTEND;TZID=America/Mexico_City:20270106T083000
DTSTAMP:20260423T211223
CREATED:20241021T183021Z
LAST-MODIFIED:20241021T183026Z
UID:10002392-1799222400-1799224200@castillodelreybrisas.com
SUMMARY:Oración
DESCRIPTION:
URL:https://castillodelreybrisas.com/evento/oracion-2/2027-01-06/
LOCATION:Mini Auditorio
CATEGORIES:Ordinarios
END:VEVENT
BEGIN:VEVENT
DTSTART;TZID=America/Mexico_City:20270107T080000
DTEND;TZID=America/Mexico_City:20270107T083000
DTSTAMP:20260423T211223
CREATED:20241021T183021Z
LAST-MODIFIED:20241021T183026Z
UID:10002393-1799308800-1799310600@castillodelreybrisas.com
SUMMARY:Oración
DESCRIPTION:
URL:https://castillodelreybrisas.com/evento/oracion-2/2027-01-07/
LOCATION:Mini Auditorio
CATEGORIES:Ordinarios
END:VEVENT
BEGIN:VEVENT
DTSTART;TZID=America/Mexico_City:20270108T080000
DTEND;TZID=America/Mexico_City:20270108T083000
DTSTAMP:20260423T211223
CREATED:20241021T183021Z
LAST-MODIFIED:20241021T183026Z
UID:10002394-1799395200-1799397000@castillodelreybrisas.com
SUMMARY:Oración
DESCRIPTION:
URL:https://castillodelreybrisas.com/evento/oracion-2/2027-01-08/
LOCATION:Mini Auditorio
CATEGORIES:Ordinarios
END:VEVENT
BEGIN:VEVENT
DTSTART;TZID=America/Mexico_City:20270109T180000
DTEND;TZID=America/Mexico_City:20270109T200000
DTSTAMP:20260423T211223
CREATED:20240811T154100Z
LAST-MODIFIED:20250508T172554Z
UID:10000131-1799517600-1799524800@castillodelreybrisas.com
SUMMARY:Jóvenes de Brisas
DESCRIPTION:
URL:https://castillodelreybrisas.com/evento/reunion-de-jovenes/2027-01-09/
LOCATION:Mini Auditorio
CATEGORIES:Ordinarios
END:VEVENT
BEGIN:VEVENT
DTSTART;TZID=America/Mexico_City:20270110T100000
DTEND;TZID=America/Mexico_City:20270110T113000
DTSTAMP:20260423T211223
CREATED:20241022T161633Z
LAST-MODIFIED:20241215T005141Z
UID:10003528-1799575200-1799580600@castillodelreybrisas.com
SUMMARY:Primera Reunión Dominical
DESCRIPTION:
URL:https://castillodelreybrisas.com/evento/primera-reunion-dominical/2027-01-10/
LOCATION:Castillo del Rey Brisas\, Castillo del Rey Brisas\, Monterrey\, Nuevo León\, 64764\, Mexico
CATEGORIES:Ordinarios
END:VEVENT
BEGIN:VEVENT
DTSTART;TZID=America/Mexico_City:20270110T123000
DTEND;TZID=America/Mexico_City:20270110T140000
DTSTAMP:20260423T211223
CREATED:20241022T162004Z
LAST-MODIFIED:20241215T005226Z
UID:10004311-1799584200-1799589600@castillodelreybrisas.com
SUMMARY:Segunda Reunión Dominical
DESCRIPTION:
URL:https://castillodelreybrisas.com/evento/segunda-reunion-dominical/2027-01-10/
LOCATION:Castillo del Rey Brisas\, Castillo del Rey Brisas\, Monterrey\, Nuevo León\, 64764\, Mexico
CATEGORIES:Ordinarios
END:VEVENT
BEGIN:VEVENT
DTSTART;TZID=America/Mexico_City:20270111T080000
DTEND;TZID=America/Mexico_City:20270111T083000
DTSTAMP:20260423T211223
CREATED:20241021T183021Z
LAST-MODIFIED:20241021T183026Z
UID:10002397-1799654400-1799656200@castillodelreybrisas.com
SUMMARY:Oración
DESCRIPTION:
URL:https://castillodelreybrisas.com/evento/oracion-2/2027-01-11/
LOCATION:Mini Auditorio
CATEGORIES:Ordinarios
END:VEVENT
BEGIN:VEVENT
DTSTART;TZID=America/Mexico_City:20270112T080000
DTEND;TZID=America/Mexico_City:20270112T083000
DTSTAMP:20260423T211223
CREATED:20241021T183021Z
LAST-MODIFIED:20241021T183026Z
UID:10002398-1799740800-1799742600@castillodelreybrisas.com
SUMMARY:Oración
DESCRIPTION:
URL:https://castillodelreybrisas.com/evento/oracion-2/2027-01-12/
LOCATION:Mini Auditorio
CATEGORIES:Ordinarios
END:VEVENT
BEGIN:VEVENT
DTSTART;TZID=America/Mexico_City:20270113T080000
DTEND;TZID=America/Mexico_City:20270113T083000
DTSTAMP:20260423T211223
CREATED:20241021T183021Z
LAST-MODIFIED:20241021T183026Z
UID:10002399-1799827200-1799829000@castillodelreybrisas.com
SUMMARY:Oración
DESCRIPTION:
URL:https://castillodelreybrisas.com/evento/oracion-2/2027-01-13/
LOCATION:Mini Auditorio
CATEGORIES:Ordinarios
END:VEVENT
BEGIN:VEVENT
DTSTART;TZID=America/Mexico_City:20270114T080000
DTEND;TZID=America/Mexico_City:20270114T083000
DTSTAMP:20260423T211223
CREATED:20241021T183021Z
LAST-MODIFIED:20241021T183026Z
UID:10002400-1799913600-1799915400@castillodelreybrisas.com
SUMMARY:Oración
DESCRIPTION:
URL:https://castillodelreybrisas.com/evento/oracion-2/2027-01-14/
LOCATION:Mini Auditorio
CATEGORIES:Ordinarios
END:VEVENT
BEGIN:VEVENT
DTSTART;TZID=America/Mexico_City:20270115T080000
DTEND;TZID=America/Mexico_City:20270115T083000
DTSTAMP:20260423T211223
CREATED:20241021T183021Z
LAST-MODIFIED:20241021T183026Z
UID:10002401-1800000000-1800001800@castillodelreybrisas.com
SUMMARY:Oración
DESCRIPTION:
URL:https://castillodelreybrisas.com/evento/oracion-2/2027-01-15/
LOCATION:Mini Auditorio
CATEGORIES:Ordinarios
END:VEVENT
BEGIN:VEVENT
DTSTART;TZID=America/Mexico_City:20270116T180000
DTEND;TZID=America/Mexico_City:20270116T200000
DTSTAMP:20260423T211223
CREATED:20240811T154100Z
LAST-MODIFIED:20250508T172554Z
UID:10000132-1800122400-1800129600@castillodelreybrisas.com
SUMMARY:Jóvenes de Brisas
DESCRIPTION:
URL:https://castillodelreybrisas.com/evento/reunion-de-jovenes/2027-01-16/
LOCATION:Mini Auditorio
CATEGORIES:Ordinarios
END:VEVENT
BEGIN:VEVENT
DTSTART;TZID=America/Mexico_City:20270117T100000
DTEND;TZID=America/Mexico_City:20270117T113000
DTSTAMP:20260423T211223
CREATED:20241022T161633Z
LAST-MODIFIED:20241215T005141Z
UID:10003529-1800180000-1800185400@castillodelreybrisas.com
SUMMARY:Primera Reunión Dominical
DESCRIPTION:
URL:https://castillodelreybrisas.com/evento/primera-reunion-dominical/2027-01-17/
LOCATION:Castillo del Rey Brisas\, Castillo del Rey Brisas\, Monterrey\, Nuevo León\, 64764\, Mexico
CATEGORIES:Ordinarios
END:VEVENT
BEGIN:VEVENT
DTSTART;TZID=America/Mexico_City:20270117T123000
DTEND;TZID=America/Mexico_City:20270117T140000
DTSTAMP:20260423T211223
CREATED:20241022T162004Z
LAST-MODIFIED:20241215T005226Z
UID:10004312-1800189000-1800194400@castillodelreybrisas.com
SUMMARY:Segunda Reunión Dominical
DESCRIPTION:
URL:https://castillodelreybrisas.com/evento/segunda-reunion-dominical/2027-01-17/
LOCATION:Castillo del Rey Brisas\, Castillo del Rey Brisas\, Monterrey\, Nuevo León\, 64764\, Mexico
CATEGORIES:Ordinarios
END:VEVENT
BEGIN:VEVENT
DTSTART;TZID=America/Mexico_City:20270118T080000
DTEND;TZID=America/Mexico_City:20270118T083000
DTSTAMP:20260423T211223
CREATED:20241021T183021Z
LAST-MODIFIED:20241021T183026Z
UID:10002404-1800259200-1800261000@castillodelreybrisas.com
SUMMARY:Oración
DESCRIPTION:
URL:https://castillodelreybrisas.com/evento/oracion-2/2027-01-18/
LOCATION:Mini Auditorio
CATEGORIES:Ordinarios
END:VEVENT
BEGIN:VEVENT
DTSTART;TZID=America/Mexico_City:20270119T080000
DTEND;TZID=America/Mexico_City:20270119T083000
DTSTAMP:20260423T211223
CREATED:20241021T183021Z
LAST-MODIFIED:20241021T183026Z
UID:10002405-1800345600-1800347400@castillodelreybrisas.com
SUMMARY:Oración
DESCRIPTION:
URL:https://castillodelreybrisas.com/evento/oracion-2/2027-01-19/
LOCATION:Mini Auditorio
CATEGORIES:Ordinarios
END:VEVENT
BEGIN:VEVENT
DTSTART;TZID=America/Mexico_City:20270120T080000
DTEND;TZID=America/Mexico_City:20270120T083000
DTSTAMP:20260423T211223
CREATED:20241021T183021Z
LAST-MODIFIED:20241021T183026Z
UID:10002406-1800432000-1800433800@castillodelreybrisas.com
SUMMARY:Oración
DESCRIPTION:
URL:https://castillodelreybrisas.com/evento/oracion-2/2027-01-20/
LOCATION:Mini Auditorio
CATEGORIES:Ordinarios
END:VEVENT
BEGIN:VEVENT
DTSTART;TZID=America/Mexico_City:20270121T080000
DTEND;TZID=America/Mexico_City:20270121T083000
DTSTAMP:20260423T211223
CREATED:20241021T183021Z
LAST-MODIFIED:20241021T183026Z
UID:10002407-1800518400-1800520200@castillodelreybrisas.com
SUMMARY:Oración
DESCRIPTION:
URL:https://castillodelreybrisas.com/evento/oracion-2/2027-01-21/
LOCATION:Mini Auditorio
CATEGORIES:Ordinarios
END:VEVENT
BEGIN:VEVENT
DTSTART;TZID=America/Mexico_City:20270122T080000
DTEND;TZID=America/Mexico_City:20270122T083000
DTSTAMP:20260423T211223
CREATED:20241021T183021Z
LAST-MODIFIED:20241021T183026Z
UID:10002408-1800604800-1800606600@castillodelreybrisas.com
SUMMARY:Oración
DESCRIPTION:
URL:https://castillodelreybrisas.com/evento/oracion-2/2027-01-22/
LOCATION:Mini Auditorio
CATEGORIES:Ordinarios
END:VEVENT
BEGIN:VEVENT
DTSTART;TZID=America/Mexico_City:20270123T180000
DTEND;TZID=America/Mexico_City:20270123T200000
DTSTAMP:20260423T211223
CREATED:20240811T154100Z
LAST-MODIFIED:20250508T172554Z
UID:10000133-1800727200-1800734400@castillodelreybrisas.com
SUMMARY:Jóvenes de Brisas
DESCRIPTION:
URL:https://castillodelreybrisas.com/evento/reunion-de-jovenes/2027-01-23/
LOCATION:Mini Auditorio
CATEGORIES:Ordinarios
END:VEVENT
BEGIN:VEVENT
DTSTART;TZID=America/Mexico_City:20270124T100000
DTEND;TZID=America/Mexico_City:20270124T113000
DTSTAMP:20260423T211223
CREATED:20241022T161633Z
LAST-MODIFIED:20241215T005141Z
UID:10003530-1800784800-1800790200@castillodelreybrisas.com
SUMMARY:Primera Reunión Dominical
DESCRIPTION:
URL:https://castillodelreybrisas.com/evento/primera-reunion-dominical/2027-01-24/
LOCATION:Castillo del Rey Brisas\, Castillo del Rey Brisas\, Monterrey\, Nuevo León\, 64764\, Mexico
CATEGORIES:Ordinarios
END:VEVENT
BEGIN:VEVENT
DTSTART;TZID=America/Mexico_City:20270124T123000
DTEND;TZID=America/Mexico_City:20270124T140000
DTSTAMP:20260423T211223
CREATED:20241022T162004Z
LAST-MODIFIED:20241215T005226Z
UID:10004313-1800793800-1800799200@castillodelreybrisas.com
SUMMARY:Segunda Reunión Dominical
DESCRIPTION:
URL:https://castillodelreybrisas.com/evento/segunda-reunion-dominical/2027-01-24/
LOCATION:Castillo del Rey Brisas\, Castillo del Rey Brisas\, Monterrey\, Nuevo León\, 64764\, Mexico
CATEGORIES:Ordinarios
END:VEVENT
BEGIN:VEVENT
DTSTART;TZID=America/Mexico_City:20270125T080000
DTEND;TZID=America/Mexico_City:20270125T083000
DTSTAMP:20260423T211223
CREATED:20241021T183021Z
LAST-MODIFIED:20241021T183026Z
UID:10002411-1800864000-1800865800@castillodelreybrisas.com
SUMMARY:Oración
DESCRIPTION:
URL:https://castillodelreybrisas.com/evento/oracion-2/2027-01-25/
LOCATION:Mini Auditorio
CATEGORIES:Ordinarios
END:VEVENT
BEGIN:VEVENT
DTSTART;TZID=America/Mexico_City:20270126T080000
DTEND;TZID=America/Mexico_City:20270126T083000
DTSTAMP:20260423T211223
CREATED:20241021T183021Z
LAST-MODIFIED:20241021T183026Z
UID:10002412-1800950400-1800952200@castillodelreybrisas.com
SUMMARY:Oración
DESCRIPTION:
URL:https://castillodelreybrisas.com/evento/oracion-2/2027-01-26/
LOCATION:Mini Auditorio
CATEGORIES:Ordinarios
END:VEVENT
END:VCALENDAR