BEGIN:VCALENDAR
VERSION:2.0
PRODID:-//Castillo del Rey Brisas - ECPv6.15.16//NONSGML v1.0//EN
CALSCALE:GREGORIAN
METHOD:PUBLISH
X-WR-CALNAME:Castillo del Rey Brisas
X-ORIGINAL-URL:https://castillodelreybrisas.com
X-WR-CALDESC:Eventos para Castillo del Rey Brisas
REFRESH-INTERVAL;VALUE=DURATION:PT1H
X-Robots-Tag:noindex
X-PUBLISHED-TTL:PT1H
BEGIN:VTIMEZONE
TZID:America/Mexico_City
BEGIN:STANDARD
TZOFFSETFROM:-0600
TZOFFSETTO:-0600
TZNAME:CST
DTSTART:20250101T000000
END:STANDARD
END:VTIMEZONE
BEGIN:VEVENT
DTSTART;TZID=America/Mexico_City:20261201T080000
DTEND;TZID=America/Mexico_City:20261201T083000
DTSTAMP:20260423T194222
CREATED:20241021T183021Z
LAST-MODIFIED:20241021T183026Z
UID:10002356-1796112000-1796113800@castillodelreybrisas.com
SUMMARY:Oración
DESCRIPTION:
URL:https://castillodelreybrisas.com/evento/oracion-2/2026-12-01/
LOCATION:Mini Auditorio
CATEGORIES:Ordinarios
END:VEVENT
BEGIN:VEVENT
DTSTART;TZID=America/Mexico_City:20261202T080000
DTEND;TZID=America/Mexico_City:20261202T083000
DTSTAMP:20260423T194222
CREATED:20241021T183021Z
LAST-MODIFIED:20241021T183026Z
UID:10002357-1796198400-1796200200@castillodelreybrisas.com
SUMMARY:Oración
DESCRIPTION:
URL:https://castillodelreybrisas.com/evento/oracion-2/2026-12-02/
LOCATION:Mini Auditorio
CATEGORIES:Ordinarios
END:VEVENT
BEGIN:VEVENT
DTSTART;TZID=America/Mexico_City:20261203T080000
DTEND;TZID=America/Mexico_City:20261203T083000
DTSTAMP:20260423T194222
CREATED:20241021T183021Z
LAST-MODIFIED:20241021T183026Z
UID:10002358-1796284800-1796286600@castillodelreybrisas.com
SUMMARY:Oración
DESCRIPTION:
URL:https://castillodelreybrisas.com/evento/oracion-2/2026-12-03/
LOCATION:Mini Auditorio
CATEGORIES:Ordinarios
END:VEVENT
BEGIN:VEVENT
DTSTART;TZID=America/Mexico_City:20261204T080000
DTEND;TZID=America/Mexico_City:20261204T083000
DTSTAMP:20260423T194222
CREATED:20241021T183021Z
LAST-MODIFIED:20241021T183026Z
UID:10002359-1796371200-1796373000@castillodelreybrisas.com
SUMMARY:Oración
DESCRIPTION:
URL:https://castillodelreybrisas.com/evento/oracion-2/2026-12-04/
LOCATION:Mini Auditorio
CATEGORIES:Ordinarios
END:VEVENT
BEGIN:VEVENT
DTSTART;TZID=America/Mexico_City:20261205T180000
DTEND;TZID=America/Mexico_City:20261205T200000
DTSTAMP:20260423T194222
CREATED:20240811T154100Z
LAST-MODIFIED:20250508T172554Z
UID:10000126-1796493600-1796500800@castillodelreybrisas.com
SUMMARY:Jóvenes de Brisas
DESCRIPTION:
URL:https://castillodelreybrisas.com/evento/reunion-de-jovenes/2026-12-05/
LOCATION:Mini Auditorio
CATEGORIES:Ordinarios
END:VEVENT
BEGIN:VEVENT
DTSTART;TZID=America/Mexico_City:20261206T100000
DTEND;TZID=America/Mexico_City:20261206T113000
DTSTAMP:20260423T194222
CREATED:20241022T161633Z
LAST-MODIFIED:20241215T005141Z
UID:10003523-1796551200-1796556600@castillodelreybrisas.com
SUMMARY:Primera Reunión Dominical
DESCRIPTION:
URL:https://castillodelreybrisas.com/evento/primera-reunion-dominical/2026-12-06/
LOCATION:Castillo del Rey Brisas\, Castillo del Rey Brisas\, Monterrey\, Nuevo León\, 64764\, Mexico
CATEGORIES:Ordinarios
END:VEVENT
BEGIN:VEVENT
DTSTART;TZID=America/Mexico_City:20261206T123000
DTEND;TZID=America/Mexico_City:20261206T140000
DTSTAMP:20260423T194222
CREATED:20241022T162004Z
LAST-MODIFIED:20241215T005226Z
UID:10004306-1796560200-1796565600@castillodelreybrisas.com
SUMMARY:Segunda Reunión Dominical
DESCRIPTION:
URL:https://castillodelreybrisas.com/evento/segunda-reunion-dominical/2026-12-06/
LOCATION:Castillo del Rey Brisas\, Castillo del Rey Brisas\, Monterrey\, Nuevo León\, 64764\, Mexico
CATEGORIES:Ordinarios
END:VEVENT
BEGIN:VEVENT
DTSTART;TZID=America/Mexico_City:20261207T080000
DTEND;TZID=America/Mexico_City:20261207T083000
DTSTAMP:20260423T194222
CREATED:20241021T183021Z
LAST-MODIFIED:20241021T183026Z
UID:10002362-1796630400-1796632200@castillodelreybrisas.com
SUMMARY:Oración
DESCRIPTION:
URL:https://castillodelreybrisas.com/evento/oracion-2/2026-12-07/
LOCATION:Mini Auditorio
CATEGORIES:Ordinarios
END:VEVENT
BEGIN:VEVENT
DTSTART;TZID=America/Mexico_City:20261208T080000
DTEND;TZID=America/Mexico_City:20261208T083000
DTSTAMP:20260423T194222
CREATED:20241021T183021Z
LAST-MODIFIED:20241021T183026Z
UID:10002363-1796716800-1796718600@castillodelreybrisas.com
SUMMARY:Oración
DESCRIPTION:
URL:https://castillodelreybrisas.com/evento/oracion-2/2026-12-08/
LOCATION:Mini Auditorio
CATEGORIES:Ordinarios
END:VEVENT
BEGIN:VEVENT
DTSTART;TZID=America/Mexico_City:20261209T080000
DTEND;TZID=America/Mexico_City:20261209T083000
DTSTAMP:20260423T194222
CREATED:20241021T183021Z
LAST-MODIFIED:20241021T183026Z
UID:10002364-1796803200-1796805000@castillodelreybrisas.com
SUMMARY:Oración
DESCRIPTION:
URL:https://castillodelreybrisas.com/evento/oracion-2/2026-12-09/
LOCATION:Mini Auditorio
CATEGORIES:Ordinarios
END:VEVENT
BEGIN:VEVENT
DTSTART;TZID=America/Mexico_City:20261210T080000
DTEND;TZID=America/Mexico_City:20261210T083000
DTSTAMP:20260423T194222
CREATED:20241021T183021Z
LAST-MODIFIED:20241021T183026Z
UID:10002365-1796889600-1796891400@castillodelreybrisas.com
SUMMARY:Oración
DESCRIPTION:
URL:https://castillodelreybrisas.com/evento/oracion-2/2026-12-10/
LOCATION:Mini Auditorio
CATEGORIES:Ordinarios
END:VEVENT
BEGIN:VEVENT
DTSTART;TZID=America/Mexico_City:20261211T080000
DTEND;TZID=America/Mexico_City:20261211T083000
DTSTAMP:20260423T194222
CREATED:20241021T183021Z
LAST-MODIFIED:20241021T183026Z
UID:10002366-1796976000-1796977800@castillodelreybrisas.com
SUMMARY:Oración
DESCRIPTION:
URL:https://castillodelreybrisas.com/evento/oracion-2/2026-12-11/
LOCATION:Mini Auditorio
CATEGORIES:Ordinarios
END:VEVENT
BEGIN:VEVENT
DTSTART;TZID=America/Mexico_City:20261212T180000
DTEND;TZID=America/Mexico_City:20261212T200000
DTSTAMP:20260423T194222
CREATED:20240811T154100Z
LAST-MODIFIED:20250508T172554Z
UID:10000127-1797098400-1797105600@castillodelreybrisas.com
SUMMARY:Jóvenes de Brisas
DESCRIPTION:
URL:https://castillodelreybrisas.com/evento/reunion-de-jovenes/2026-12-12/
LOCATION:Mini Auditorio
CATEGORIES:Ordinarios
END:VEVENT
BEGIN:VEVENT
DTSTART;TZID=America/Mexico_City:20261213T100000
DTEND;TZID=America/Mexico_City:20261213T113000
DTSTAMP:20260423T194222
CREATED:20241022T161633Z
LAST-MODIFIED:20241215T005141Z
UID:10003524-1797156000-1797161400@castillodelreybrisas.com
SUMMARY:Primera Reunión Dominical
DESCRIPTION:
URL:https://castillodelreybrisas.com/evento/primera-reunion-dominical/2026-12-13/
LOCATION:Castillo del Rey Brisas\, Castillo del Rey Brisas\, Monterrey\, Nuevo León\, 64764\, Mexico
CATEGORIES:Ordinarios
END:VEVENT
BEGIN:VEVENT
DTSTART;TZID=America/Mexico_City:20261213T123000
DTEND;TZID=America/Mexico_City:20261213T140000
DTSTAMP:20260423T194222
CREATED:20241022T162004Z
LAST-MODIFIED:20241215T005226Z
UID:10004307-1797165000-1797170400@castillodelreybrisas.com
SUMMARY:Segunda Reunión Dominical
DESCRIPTION:
URL:https://castillodelreybrisas.com/evento/segunda-reunion-dominical/2026-12-13/
LOCATION:Castillo del Rey Brisas\, Castillo del Rey Brisas\, Monterrey\, Nuevo León\, 64764\, Mexico
CATEGORIES:Ordinarios
END:VEVENT
BEGIN:VEVENT
DTSTART;TZID=America/Mexico_City:20261214T080000
DTEND;TZID=America/Mexico_City:20261214T083000
DTSTAMP:20260423T194222
CREATED:20241021T183021Z
LAST-MODIFIED:20241021T183026Z
UID:10002369-1797235200-1797237000@castillodelreybrisas.com
SUMMARY:Oración
DESCRIPTION:
URL:https://castillodelreybrisas.com/evento/oracion-2/2026-12-14/
LOCATION:Mini Auditorio
CATEGORIES:Ordinarios
END:VEVENT
BEGIN:VEVENT
DTSTART;TZID=America/Mexico_City:20261215T080000
DTEND;TZID=America/Mexico_City:20261215T083000
DTSTAMP:20260423T194222
CREATED:20241021T183021Z
LAST-MODIFIED:20241021T183026Z
UID:10002370-1797321600-1797323400@castillodelreybrisas.com
SUMMARY:Oración
DESCRIPTION:
URL:https://castillodelreybrisas.com/evento/oracion-2/2026-12-15/
LOCATION:Mini Auditorio
CATEGORIES:Ordinarios
END:VEVENT
BEGIN:VEVENT
DTSTART;TZID=America/Mexico_City:20261216T080000
DTEND;TZID=America/Mexico_City:20261216T083000
DTSTAMP:20260423T194222
CREATED:20241021T183021Z
LAST-MODIFIED:20241021T183026Z
UID:10002371-1797408000-1797409800@castillodelreybrisas.com
SUMMARY:Oración
DESCRIPTION:
URL:https://castillodelreybrisas.com/evento/oracion-2/2026-12-16/
LOCATION:Mini Auditorio
CATEGORIES:Ordinarios
END:VEVENT
BEGIN:VEVENT
DTSTART;TZID=America/Mexico_City:20261217T080000
DTEND;TZID=America/Mexico_City:20261217T083000
DTSTAMP:20260423T194222
CREATED:20241021T183021Z
LAST-MODIFIED:20241021T183026Z
UID:10002372-1797494400-1797496200@castillodelreybrisas.com
SUMMARY:Oración
DESCRIPTION:
URL:https://castillodelreybrisas.com/evento/oracion-2/2026-12-17/
LOCATION:Mini Auditorio
CATEGORIES:Ordinarios
END:VEVENT
BEGIN:VEVENT
DTSTART;TZID=America/Mexico_City:20261218T080000
DTEND;TZID=America/Mexico_City:20261218T083000
DTSTAMP:20260423T194222
CREATED:20241021T183021Z
LAST-MODIFIED:20241021T183026Z
UID:10002373-1797580800-1797582600@castillodelreybrisas.com
SUMMARY:Oración
DESCRIPTION:
URL:https://castillodelreybrisas.com/evento/oracion-2/2026-12-18/
LOCATION:Mini Auditorio
CATEGORIES:Ordinarios
END:VEVENT
BEGIN:VEVENT
DTSTART;TZID=America/Mexico_City:20261219T180000
DTEND;TZID=America/Mexico_City:20261219T200000
DTSTAMP:20260423T194222
CREATED:20240811T154100Z
LAST-MODIFIED:20250508T172554Z
UID:10000128-1797703200-1797710400@castillodelreybrisas.com
SUMMARY:Jóvenes de Brisas
DESCRIPTION:
URL:https://castillodelreybrisas.com/evento/reunion-de-jovenes/2026-12-19/
LOCATION:Mini Auditorio
CATEGORIES:Ordinarios
END:VEVENT
BEGIN:VEVENT
DTSTART;TZID=America/Mexico_City:20261220T100000
DTEND;TZID=America/Mexico_City:20261220T113000
DTSTAMP:20260423T194222
CREATED:20241022T161633Z
LAST-MODIFIED:20241215T005141Z
UID:10003525-1797760800-1797766200@castillodelreybrisas.com
SUMMARY:Primera Reunión Dominical
DESCRIPTION:
URL:https://castillodelreybrisas.com/evento/primera-reunion-dominical/2026-12-20/
LOCATION:Castillo del Rey Brisas\, Castillo del Rey Brisas\, Monterrey\, Nuevo León\, 64764\, Mexico
CATEGORIES:Ordinarios
END:VEVENT
BEGIN:VEVENT
DTSTART;TZID=America/Mexico_City:20261220T123000
DTEND;TZID=America/Mexico_City:20261220T140000
DTSTAMP:20260423T194222
CREATED:20241022T162004Z
LAST-MODIFIED:20241215T005226Z
UID:10004308-1797769800-1797775200@castillodelreybrisas.com
SUMMARY:Segunda Reunión Dominical
DESCRIPTION:
URL:https://castillodelreybrisas.com/evento/segunda-reunion-dominical/2026-12-20/
LOCATION:Castillo del Rey Brisas\, Castillo del Rey Brisas\, Monterrey\, Nuevo León\, 64764\, Mexico
CATEGORIES:Ordinarios
END:VEVENT
BEGIN:VEVENT
DTSTART;TZID=America/Mexico_City:20261221T080000
DTEND;TZID=America/Mexico_City:20261221T083000
DTSTAMP:20260423T194222
CREATED:20241021T183021Z
LAST-MODIFIED:20241021T183026Z
UID:10002376-1797840000-1797841800@castillodelreybrisas.com
SUMMARY:Oración
DESCRIPTION:
URL:https://castillodelreybrisas.com/evento/oracion-2/2026-12-21/
LOCATION:Mini Auditorio
CATEGORIES:Ordinarios
END:VEVENT
BEGIN:VEVENT
DTSTART;TZID=America/Mexico_City:20261222T080000
DTEND;TZID=America/Mexico_City:20261222T083000
DTSTAMP:20260423T194222
CREATED:20241021T183021Z
LAST-MODIFIED:20241021T183026Z
UID:10002377-1797926400-1797928200@castillodelreybrisas.com
SUMMARY:Oración
DESCRIPTION:
URL:https://castillodelreybrisas.com/evento/oracion-2/2026-12-22/
LOCATION:Mini Auditorio
CATEGORIES:Ordinarios
END:VEVENT
BEGIN:VEVENT
DTSTART;TZID=America/Mexico_City:20261223T080000
DTEND;TZID=America/Mexico_City:20261223T083000
DTSTAMP:20260423T194222
CREATED:20241021T183021Z
LAST-MODIFIED:20241021T183026Z
UID:10002378-1798012800-1798014600@castillodelreybrisas.com
SUMMARY:Oración
DESCRIPTION:
URL:https://castillodelreybrisas.com/evento/oracion-2/2026-12-23/
LOCATION:Mini Auditorio
CATEGORIES:Ordinarios
END:VEVENT
BEGIN:VEVENT
DTSTART;TZID=America/Mexico_City:20261224T080000
DTEND;TZID=America/Mexico_City:20261224T083000
DTSTAMP:20260423T194222
CREATED:20241021T183021Z
LAST-MODIFIED:20241021T183026Z
UID:10002379-1798099200-1798101000@castillodelreybrisas.com
SUMMARY:Oración
DESCRIPTION:
URL:https://castillodelreybrisas.com/evento/oracion-2/2026-12-24/
LOCATION:Mini Auditorio
CATEGORIES:Ordinarios
END:VEVENT
BEGIN:VEVENT
DTSTART;TZID=America/Mexico_City:20261225T080000
DTEND;TZID=America/Mexico_City:20261225T083000
DTSTAMP:20260423T194222
CREATED:20241021T183021Z
LAST-MODIFIED:20241021T183026Z
UID:10002380-1798185600-1798187400@castillodelreybrisas.com
SUMMARY:Oración
DESCRIPTION:
URL:https://castillodelreybrisas.com/evento/oracion-2/2026-12-25/
LOCATION:Mini Auditorio
CATEGORIES:Ordinarios
END:VEVENT
BEGIN:VEVENT
DTSTART;TZID=America/Mexico_City:20261226T180000
DTEND;TZID=America/Mexico_City:20261226T200000
DTSTAMP:20260423T194222
CREATED:20240811T154100Z
LAST-MODIFIED:20250508T172554Z
UID:10000129-1798308000-1798315200@castillodelreybrisas.com
SUMMARY:Jóvenes de Brisas
DESCRIPTION:
URL:https://castillodelreybrisas.com/evento/reunion-de-jovenes/2026-12-26/
LOCATION:Mini Auditorio
CATEGORIES:Ordinarios
END:VEVENT
BEGIN:VEVENT
DTSTART;TZID=America/Mexico_City:20261227T100000
DTEND;TZID=America/Mexico_City:20261227T113000
DTSTAMP:20260423T194222
CREATED:20241022T161633Z
LAST-MODIFIED:20241215T005141Z
UID:10003526-1798365600-1798371000@castillodelreybrisas.com
SUMMARY:Primera Reunión Dominical
DESCRIPTION:
URL:https://castillodelreybrisas.com/evento/primera-reunion-dominical/2026-12-27/
LOCATION:Castillo del Rey Brisas\, Castillo del Rey Brisas\, Monterrey\, Nuevo León\, 64764\, Mexico
CATEGORIES:Ordinarios
END:VEVENT
END:VCALENDAR