BEGIN:VCALENDAR
VERSION:2.0
PRODID:-//Castillo del Rey Brisas - ECPv6.15.16//NONSGML v1.0//EN
CALSCALE:GREGORIAN
METHOD:PUBLISH
X-WR-CALNAME:Castillo del Rey Brisas
X-ORIGINAL-URL:https://castillodelreybrisas.com
X-WR-CALDESC:Eventos para Castillo del Rey Brisas
REFRESH-INTERVAL;VALUE=DURATION:PT1H
X-Robots-Tag:noindex
X-PUBLISHED-TTL:PT1H
BEGIN:VTIMEZONE
TZID:America/Mexico_City
BEGIN:STANDARD
TZOFFSETFROM:-0600
TZOFFSETTO:-0600
TZNAME:CST
DTSTART:20250101T000000
END:STANDARD
END:VTIMEZONE
BEGIN:VEVENT
DTSTART;TZID=America/Mexico_City:20261001T080000
DTEND;TZID=America/Mexico_City:20261001T083000
DTSTAMP:20260423T154828
CREATED:20241021T183021Z
LAST-MODIFIED:20241021T183026Z
UID:10002295-1790841600-1790843400@castillodelreybrisas.com
SUMMARY:Oración
DESCRIPTION:
URL:https://castillodelreybrisas.com/evento/oracion-2/2026-10-01/
LOCATION:Mini Auditorio
CATEGORIES:Ordinarios
END:VEVENT
BEGIN:VEVENT
DTSTART;TZID=America/Mexico_City:20261002T080000
DTEND;TZID=America/Mexico_City:20261002T083000
DTSTAMP:20260423T154828
CREATED:20241021T183021Z
LAST-MODIFIED:20241021T183026Z
UID:10002296-1790928000-1790929800@castillodelreybrisas.com
SUMMARY:Oración
DESCRIPTION:
URL:https://castillodelreybrisas.com/evento/oracion-2/2026-10-02/
LOCATION:Mini Auditorio
CATEGORIES:Ordinarios
END:VEVENT
BEGIN:VEVENT
DTSTART;TZID=America/Mexico_City:20261003T180000
DTEND;TZID=America/Mexico_City:20261003T200000
DTSTAMP:20260423T154828
CREATED:20240811T154100Z
LAST-MODIFIED:20250508T172554Z
UID:10000117-1791050400-1791057600@castillodelreybrisas.com
SUMMARY:Jóvenes de Brisas
DESCRIPTION:
URL:https://castillodelreybrisas.com/evento/reunion-de-jovenes/2026-10-03/
LOCATION:Mini Auditorio
CATEGORIES:Ordinarios
END:VEVENT
BEGIN:VEVENT
DTSTART;TZID=America/Mexico_City:20261004T100000
DTEND;TZID=America/Mexico_City:20261004T113000
DTSTAMP:20260423T154828
CREATED:20241022T161633Z
LAST-MODIFIED:20241215T005141Z
UID:10003514-1791108000-1791113400@castillodelreybrisas.com
SUMMARY:Primera Reunión Dominical
DESCRIPTION:
URL:https://castillodelreybrisas.com/evento/primera-reunion-dominical/2026-10-04/
LOCATION:Castillo del Rey Brisas\, Castillo del Rey Brisas\, Monterrey\, Nuevo León\, 64764\, Mexico
CATEGORIES:Ordinarios
END:VEVENT
BEGIN:VEVENT
DTSTART;TZID=America/Mexico_City:20261004T123000
DTEND;TZID=America/Mexico_City:20261004T140000
DTSTAMP:20260423T154828
CREATED:20241022T162004Z
LAST-MODIFIED:20241215T005226Z
UID:10004297-1791117000-1791122400@castillodelreybrisas.com
SUMMARY:Segunda Reunión Dominical
DESCRIPTION:
URL:https://castillodelreybrisas.com/evento/segunda-reunion-dominical/2026-10-04/
LOCATION:Castillo del Rey Brisas\, Castillo del Rey Brisas\, Monterrey\, Nuevo León\, 64764\, Mexico
CATEGORIES:Ordinarios
END:VEVENT
BEGIN:VEVENT
DTSTART;TZID=America/Mexico_City:20261005T080000
DTEND;TZID=America/Mexico_City:20261005T083000
DTSTAMP:20260423T154828
CREATED:20241021T183021Z
LAST-MODIFIED:20241021T183026Z
UID:10002299-1791187200-1791189000@castillodelreybrisas.com
SUMMARY:Oración
DESCRIPTION:
URL:https://castillodelreybrisas.com/evento/oracion-2/2026-10-05/
LOCATION:Mini Auditorio
CATEGORIES:Ordinarios
END:VEVENT
BEGIN:VEVENT
DTSTART;TZID=America/Mexico_City:20261006T080000
DTEND;TZID=America/Mexico_City:20261006T083000
DTSTAMP:20260423T154828
CREATED:20241021T183021Z
LAST-MODIFIED:20241021T183026Z
UID:10002300-1791273600-1791275400@castillodelreybrisas.com
SUMMARY:Oración
DESCRIPTION:
URL:https://castillodelreybrisas.com/evento/oracion-2/2026-10-06/
LOCATION:Mini Auditorio
CATEGORIES:Ordinarios
END:VEVENT
BEGIN:VEVENT
DTSTART;TZID=America/Mexico_City:20261007T080000
DTEND;TZID=America/Mexico_City:20261007T083000
DTSTAMP:20260423T154829
CREATED:20241021T183021Z
LAST-MODIFIED:20241021T183026Z
UID:10002301-1791360000-1791361800@castillodelreybrisas.com
SUMMARY:Oración
DESCRIPTION:
URL:https://castillodelreybrisas.com/evento/oracion-2/2026-10-07/
LOCATION:Mini Auditorio
CATEGORIES:Ordinarios
END:VEVENT
BEGIN:VEVENT
DTSTART;TZID=America/Mexico_City:20261008T080000
DTEND;TZID=America/Mexico_City:20261008T083000
DTSTAMP:20260423T154829
CREATED:20241021T183021Z
LAST-MODIFIED:20241021T183026Z
UID:10002302-1791446400-1791448200@castillodelreybrisas.com
SUMMARY:Oración
DESCRIPTION:
URL:https://castillodelreybrisas.com/evento/oracion-2/2026-10-08/
LOCATION:Mini Auditorio
CATEGORIES:Ordinarios
END:VEVENT
BEGIN:VEVENT
DTSTART;TZID=America/Mexico_City:20261009T080000
DTEND;TZID=America/Mexico_City:20261009T083000
DTSTAMP:20260423T154829
CREATED:20241021T183021Z
LAST-MODIFIED:20241021T183026Z
UID:10002303-1791532800-1791534600@castillodelreybrisas.com
SUMMARY:Oración
DESCRIPTION:
URL:https://castillodelreybrisas.com/evento/oracion-2/2026-10-09/
LOCATION:Mini Auditorio
CATEGORIES:Ordinarios
END:VEVENT
BEGIN:VEVENT
DTSTART;TZID=America/Mexico_City:20261010T180000
DTEND;TZID=America/Mexico_City:20261010T200000
DTSTAMP:20260423T154829
CREATED:20240811T154100Z
LAST-MODIFIED:20250508T172554Z
UID:10000118-1791655200-1791662400@castillodelreybrisas.com
SUMMARY:Jóvenes de Brisas
DESCRIPTION:
URL:https://castillodelreybrisas.com/evento/reunion-de-jovenes/2026-10-10/
LOCATION:Mini Auditorio
CATEGORIES:Ordinarios
END:VEVENT
BEGIN:VEVENT
DTSTART;TZID=America/Mexico_City:20261011T100000
DTEND;TZID=America/Mexico_City:20261011T113000
DTSTAMP:20260423T154829
CREATED:20241022T161633Z
LAST-MODIFIED:20241215T005141Z
UID:10003515-1791712800-1791718200@castillodelreybrisas.com
SUMMARY:Primera Reunión Dominical
DESCRIPTION:
URL:https://castillodelreybrisas.com/evento/primera-reunion-dominical/2026-10-11/
LOCATION:Castillo del Rey Brisas\, Castillo del Rey Brisas\, Monterrey\, Nuevo León\, 64764\, Mexico
CATEGORIES:Ordinarios
END:VEVENT
BEGIN:VEVENT
DTSTART;TZID=America/Mexico_City:20261011T123000
DTEND;TZID=America/Mexico_City:20261011T140000
DTSTAMP:20260423T154829
CREATED:20241022T162004Z
LAST-MODIFIED:20241215T005226Z
UID:10004298-1791721800-1791727200@castillodelreybrisas.com
SUMMARY:Segunda Reunión Dominical
DESCRIPTION:
URL:https://castillodelreybrisas.com/evento/segunda-reunion-dominical/2026-10-11/
LOCATION:Castillo del Rey Brisas\, Castillo del Rey Brisas\, Monterrey\, Nuevo León\, 64764\, Mexico
CATEGORIES:Ordinarios
END:VEVENT
BEGIN:VEVENT
DTSTART;TZID=America/Mexico_City:20261012T080000
DTEND;TZID=America/Mexico_City:20261012T083000
DTSTAMP:20260423T154829
CREATED:20241021T183021Z
LAST-MODIFIED:20241021T183026Z
UID:10002306-1791792000-1791793800@castillodelreybrisas.com
SUMMARY:Oración
DESCRIPTION:
URL:https://castillodelreybrisas.com/evento/oracion-2/2026-10-12/
LOCATION:Mini Auditorio
CATEGORIES:Ordinarios
END:VEVENT
BEGIN:VEVENT
DTSTART;TZID=America/Mexico_City:20261013T080000
DTEND;TZID=America/Mexico_City:20261013T083000
DTSTAMP:20260423T154829
CREATED:20241021T183021Z
LAST-MODIFIED:20241021T183026Z
UID:10002307-1791878400-1791880200@castillodelreybrisas.com
SUMMARY:Oración
DESCRIPTION:
URL:https://castillodelreybrisas.com/evento/oracion-2/2026-10-13/
LOCATION:Mini Auditorio
CATEGORIES:Ordinarios
END:VEVENT
BEGIN:VEVENT
DTSTART;TZID=America/Mexico_City:20261014T080000
DTEND;TZID=America/Mexico_City:20261014T083000
DTSTAMP:20260423T154829
CREATED:20241021T183021Z
LAST-MODIFIED:20241021T183026Z
UID:10002308-1791964800-1791966600@castillodelreybrisas.com
SUMMARY:Oración
DESCRIPTION:
URL:https://castillodelreybrisas.com/evento/oracion-2/2026-10-14/
LOCATION:Mini Auditorio
CATEGORIES:Ordinarios
END:VEVENT
BEGIN:VEVENT
DTSTART;TZID=America/Mexico_City:20261015T080000
DTEND;TZID=America/Mexico_City:20261015T083000
DTSTAMP:20260423T154829
CREATED:20241021T183021Z
LAST-MODIFIED:20241021T183026Z
UID:10002309-1792051200-1792053000@castillodelreybrisas.com
SUMMARY:Oración
DESCRIPTION:
URL:https://castillodelreybrisas.com/evento/oracion-2/2026-10-15/
LOCATION:Mini Auditorio
CATEGORIES:Ordinarios
END:VEVENT
BEGIN:VEVENT
DTSTART;TZID=America/Mexico_City:20261016T080000
DTEND;TZID=America/Mexico_City:20261016T083000
DTSTAMP:20260423T154829
CREATED:20241021T183021Z
LAST-MODIFIED:20241021T183026Z
UID:10002310-1792137600-1792139400@castillodelreybrisas.com
SUMMARY:Oración
DESCRIPTION:
URL:https://castillodelreybrisas.com/evento/oracion-2/2026-10-16/
LOCATION:Mini Auditorio
CATEGORIES:Ordinarios
END:VEVENT
BEGIN:VEVENT
DTSTART;TZID=America/Mexico_City:20261017T180000
DTEND;TZID=America/Mexico_City:20261017T200000
DTSTAMP:20260423T154829
CREATED:20240811T154100Z
LAST-MODIFIED:20250508T172554Z
UID:10000119-1792260000-1792267200@castillodelreybrisas.com
SUMMARY:Jóvenes de Brisas
DESCRIPTION:
URL:https://castillodelreybrisas.com/evento/reunion-de-jovenes/2026-10-17/
LOCATION:Mini Auditorio
CATEGORIES:Ordinarios
END:VEVENT
BEGIN:VEVENT
DTSTART;TZID=America/Mexico_City:20261018T100000
DTEND;TZID=America/Mexico_City:20261018T113000
DTSTAMP:20260423T154829
CREATED:20241022T161633Z
LAST-MODIFIED:20241215T005141Z
UID:10003516-1792317600-1792323000@castillodelreybrisas.com
SUMMARY:Primera Reunión Dominical
DESCRIPTION:
URL:https://castillodelreybrisas.com/evento/primera-reunion-dominical/2026-10-18/
LOCATION:Castillo del Rey Brisas\, Castillo del Rey Brisas\, Monterrey\, Nuevo León\, 64764\, Mexico
CATEGORIES:Ordinarios
END:VEVENT
BEGIN:VEVENT
DTSTART;TZID=America/Mexico_City:20261018T123000
DTEND;TZID=America/Mexico_City:20261018T140000
DTSTAMP:20260423T154829
CREATED:20241022T162004Z
LAST-MODIFIED:20241215T005226Z
UID:10004299-1792326600-1792332000@castillodelreybrisas.com
SUMMARY:Segunda Reunión Dominical
DESCRIPTION:
URL:https://castillodelreybrisas.com/evento/segunda-reunion-dominical/2026-10-18/
LOCATION:Castillo del Rey Brisas\, Castillo del Rey Brisas\, Monterrey\, Nuevo León\, 64764\, Mexico
CATEGORIES:Ordinarios
END:VEVENT
BEGIN:VEVENT
DTSTART;TZID=America/Mexico_City:20261019T080000
DTEND;TZID=America/Mexico_City:20261019T083000
DTSTAMP:20260423T154829
CREATED:20241021T183021Z
LAST-MODIFIED:20241021T183026Z
UID:10002313-1792396800-1792398600@castillodelreybrisas.com
SUMMARY:Oración
DESCRIPTION:
URL:https://castillodelreybrisas.com/evento/oracion-2/2026-10-19/
LOCATION:Mini Auditorio
CATEGORIES:Ordinarios
END:VEVENT
BEGIN:VEVENT
DTSTART;TZID=America/Mexico_City:20261020T080000
DTEND;TZID=America/Mexico_City:20261020T083000
DTSTAMP:20260423T154829
CREATED:20241021T183021Z
LAST-MODIFIED:20241021T183026Z
UID:10002314-1792483200-1792485000@castillodelreybrisas.com
SUMMARY:Oración
DESCRIPTION:
URL:https://castillodelreybrisas.com/evento/oracion-2/2026-10-20/
LOCATION:Mini Auditorio
CATEGORIES:Ordinarios
END:VEVENT
BEGIN:VEVENT
DTSTART;TZID=America/Mexico_City:20261021T080000
DTEND;TZID=America/Mexico_City:20261021T083000
DTSTAMP:20260423T154829
CREATED:20241021T183021Z
LAST-MODIFIED:20241021T183026Z
UID:10002315-1792569600-1792571400@castillodelreybrisas.com
SUMMARY:Oración
DESCRIPTION:
URL:https://castillodelreybrisas.com/evento/oracion-2/2026-10-21/
LOCATION:Mini Auditorio
CATEGORIES:Ordinarios
END:VEVENT
BEGIN:VEVENT
DTSTART;TZID=America/Mexico_City:20261022T080000
DTEND;TZID=America/Mexico_City:20261022T083000
DTSTAMP:20260423T154829
CREATED:20241021T183021Z
LAST-MODIFIED:20241021T183026Z
UID:10002316-1792656000-1792657800@castillodelreybrisas.com
SUMMARY:Oración
DESCRIPTION:
URL:https://castillodelreybrisas.com/evento/oracion-2/2026-10-22/
LOCATION:Mini Auditorio
CATEGORIES:Ordinarios
END:VEVENT
BEGIN:VEVENT
DTSTART;TZID=America/Mexico_City:20261023T080000
DTEND;TZID=America/Mexico_City:20261023T083000
DTSTAMP:20260423T154829
CREATED:20241021T183021Z
LAST-MODIFIED:20241021T183026Z
UID:10002317-1792742400-1792744200@castillodelreybrisas.com
SUMMARY:Oración
DESCRIPTION:
URL:https://castillodelreybrisas.com/evento/oracion-2/2026-10-23/
LOCATION:Mini Auditorio
CATEGORIES:Ordinarios
END:VEVENT
BEGIN:VEVENT
DTSTART;TZID=America/Mexico_City:20261024T180000
DTEND;TZID=America/Mexico_City:20261024T200000
DTSTAMP:20260423T154829
CREATED:20240811T154100Z
LAST-MODIFIED:20250508T172554Z
UID:10000120-1792864800-1792872000@castillodelreybrisas.com
SUMMARY:Jóvenes de Brisas
DESCRIPTION:
URL:https://castillodelreybrisas.com/evento/reunion-de-jovenes/2026-10-24/
LOCATION:Mini Auditorio
CATEGORIES:Ordinarios
END:VEVENT
BEGIN:VEVENT
DTSTART;TZID=America/Mexico_City:20261025T100000
DTEND;TZID=America/Mexico_City:20261025T113000
DTSTAMP:20260423T154829
CREATED:20241022T161633Z
LAST-MODIFIED:20241215T005141Z
UID:10003517-1792922400-1792927800@castillodelreybrisas.com
SUMMARY:Primera Reunión Dominical
DESCRIPTION:
URL:https://castillodelreybrisas.com/evento/primera-reunion-dominical/2026-10-25/
LOCATION:Castillo del Rey Brisas\, Castillo del Rey Brisas\, Monterrey\, Nuevo León\, 64764\, Mexico
CATEGORIES:Ordinarios
END:VEVENT
BEGIN:VEVENT
DTSTART;TZID=America/Mexico_City:20261025T123000
DTEND;TZID=America/Mexico_City:20261025T140000
DTSTAMP:20260423T154829
CREATED:20241022T162004Z
LAST-MODIFIED:20241215T005226Z
UID:10004300-1792931400-1792936800@castillodelreybrisas.com
SUMMARY:Segunda Reunión Dominical
DESCRIPTION:
URL:https://castillodelreybrisas.com/evento/segunda-reunion-dominical/2026-10-25/
LOCATION:Castillo del Rey Brisas\, Castillo del Rey Brisas\, Monterrey\, Nuevo León\, 64764\, Mexico
CATEGORIES:Ordinarios
END:VEVENT
BEGIN:VEVENT
DTSTART;TZID=America/Mexico_City:20261026T080000
DTEND;TZID=America/Mexico_City:20261026T083000
DTSTAMP:20260423T154829
CREATED:20241021T183021Z
LAST-MODIFIED:20241021T183026Z
UID:10002320-1793001600-1793003400@castillodelreybrisas.com
SUMMARY:Oración
DESCRIPTION:
URL:https://castillodelreybrisas.com/evento/oracion-2/2026-10-26/
LOCATION:Mini Auditorio
CATEGORIES:Ordinarios
END:VEVENT
END:VCALENDAR