BEGIN:VCALENDAR
VERSION:2.0
PRODID:-//Castillo del Rey Brisas - ECPv6.15.16//NONSGML v1.0//EN
CALSCALE:GREGORIAN
METHOD:PUBLISH
X-WR-CALNAME:Castillo del Rey Brisas
X-ORIGINAL-URL:https://castillodelreybrisas.com
X-WR-CALDESC:Eventos para Castillo del Rey Brisas
REFRESH-INTERVAL;VALUE=DURATION:PT1H
X-Robots-Tag:noindex
X-PUBLISHED-TTL:PT1H
BEGIN:VTIMEZONE
TZID:America/Mexico_City
BEGIN:STANDARD
TZOFFSETFROM:-0600
TZOFFSETTO:-0600
TZNAME:CST
DTSTART:20250101T000000
END:STANDARD
END:VTIMEZONE
BEGIN:VEVENT
DTSTART;TZID=America/Mexico_City:20260801T180000
DTEND;TZID=America/Mexico_City:20260801T200000
DTSTAMP:20260423T130451
CREATED:20240811T154100Z
LAST-MODIFIED:20250508T172554Z
UID:10000108-1785607200-1785614400@castillodelreybrisas.com
SUMMARY:Jóvenes de Brisas
DESCRIPTION:
URL:https://castillodelreybrisas.com/evento/reunion-de-jovenes/2026-08-01/
LOCATION:Mini Auditorio
CATEGORIES:Ordinarios
END:VEVENT
BEGIN:VEVENT
DTSTART;TZID=America/Mexico_City:20260802T100000
DTEND;TZID=America/Mexico_City:20260802T113000
DTSTAMP:20260423T130451
CREATED:20241022T161633Z
LAST-MODIFIED:20241215T005141Z
UID:10003505-1785664800-1785670200@castillodelreybrisas.com
SUMMARY:Primera Reunión Dominical
DESCRIPTION:
URL:https://castillodelreybrisas.com/evento/primera-reunion-dominical/2026-08-02/
LOCATION:Castillo del Rey Brisas\, Castillo del Rey Brisas\, Monterrey\, Nuevo León\, 64764\, Mexico
CATEGORIES:Ordinarios
END:VEVENT
BEGIN:VEVENT
DTSTART;TZID=America/Mexico_City:20260802T123000
DTEND;TZID=America/Mexico_City:20260802T140000
DTSTAMP:20260423T130451
CREATED:20241022T162004Z
LAST-MODIFIED:20241215T005226Z
UID:10004288-1785673800-1785679200@castillodelreybrisas.com
SUMMARY:Segunda Reunión Dominical
DESCRIPTION:
URL:https://castillodelreybrisas.com/evento/segunda-reunion-dominical/2026-08-02/
LOCATION:Castillo del Rey Brisas\, Castillo del Rey Brisas\, Monterrey\, Nuevo León\, 64764\, Mexico
CATEGORIES:Ordinarios
END:VEVENT
BEGIN:VEVENT
DTSTART;TZID=America/Mexico_City:20260803T080000
DTEND;TZID=America/Mexico_City:20260803T083000
DTSTAMP:20260423T130451
CREATED:20241021T183021Z
LAST-MODIFIED:20241021T183026Z
UID:10002236-1785744000-1785745800@castillodelreybrisas.com
SUMMARY:Oración
DESCRIPTION:
URL:https://castillodelreybrisas.com/evento/oracion-2/2026-08-03/
LOCATION:Mini Auditorio
CATEGORIES:Ordinarios
END:VEVENT
BEGIN:VEVENT
DTSTART;TZID=America/Mexico_City:20260804T080000
DTEND;TZID=America/Mexico_City:20260804T083000
DTSTAMP:20260423T130451
CREATED:20241021T183021Z
LAST-MODIFIED:20241021T183026Z
UID:10002237-1785830400-1785832200@castillodelreybrisas.com
SUMMARY:Oración
DESCRIPTION:
URL:https://castillodelreybrisas.com/evento/oracion-2/2026-08-04/
LOCATION:Mini Auditorio
CATEGORIES:Ordinarios
END:VEVENT
BEGIN:VEVENT
DTSTART;TZID=America/Mexico_City:20260805T080000
DTEND;TZID=America/Mexico_City:20260805T083000
DTSTAMP:20260423T130451
CREATED:20241021T183021Z
LAST-MODIFIED:20241021T183026Z
UID:10002238-1785916800-1785918600@castillodelreybrisas.com
SUMMARY:Oración
DESCRIPTION:
URL:https://castillodelreybrisas.com/evento/oracion-2/2026-08-05/
LOCATION:Mini Auditorio
CATEGORIES:Ordinarios
END:VEVENT
BEGIN:VEVENT
DTSTART;TZID=America/Mexico_City:20260806T080000
DTEND;TZID=America/Mexico_City:20260806T083000
DTSTAMP:20260423T130451
CREATED:20241021T183021Z
LAST-MODIFIED:20241021T183026Z
UID:10002239-1786003200-1786005000@castillodelreybrisas.com
SUMMARY:Oración
DESCRIPTION:
URL:https://castillodelreybrisas.com/evento/oracion-2/2026-08-06/
LOCATION:Mini Auditorio
CATEGORIES:Ordinarios
END:VEVENT
BEGIN:VEVENT
DTSTART;TZID=America/Mexico_City:20260807T080000
DTEND;TZID=America/Mexico_City:20260807T083000
DTSTAMP:20260423T130451
CREATED:20241021T183021Z
LAST-MODIFIED:20241021T183026Z
UID:10002240-1786089600-1786091400@castillodelreybrisas.com
SUMMARY:Oración
DESCRIPTION:
URL:https://castillodelreybrisas.com/evento/oracion-2/2026-08-07/
LOCATION:Mini Auditorio
CATEGORIES:Ordinarios
END:VEVENT
BEGIN:VEVENT
DTSTART;TZID=America/Mexico_City:20260808T180000
DTEND;TZID=America/Mexico_City:20260808T200000
DTSTAMP:20260423T130451
CREATED:20240811T154100Z
LAST-MODIFIED:20250508T172554Z
UID:10000109-1786212000-1786219200@castillodelreybrisas.com
SUMMARY:Jóvenes de Brisas
DESCRIPTION:
URL:https://castillodelreybrisas.com/evento/reunion-de-jovenes/2026-08-08/
LOCATION:Mini Auditorio
CATEGORIES:Ordinarios
END:VEVENT
BEGIN:VEVENT
DTSTART;TZID=America/Mexico_City:20260809T100000
DTEND;TZID=America/Mexico_City:20260809T113000
DTSTAMP:20260423T130451
CREATED:20241022T161633Z
LAST-MODIFIED:20241215T005141Z
UID:10003506-1786269600-1786275000@castillodelreybrisas.com
SUMMARY:Primera Reunión Dominical
DESCRIPTION:
URL:https://castillodelreybrisas.com/evento/primera-reunion-dominical/2026-08-09/
LOCATION:Castillo del Rey Brisas\, Castillo del Rey Brisas\, Monterrey\, Nuevo León\, 64764\, Mexico
CATEGORIES:Ordinarios
END:VEVENT
BEGIN:VEVENT
DTSTART;TZID=America/Mexico_City:20260809T123000
DTEND;TZID=America/Mexico_City:20260809T140000
DTSTAMP:20260423T130451
CREATED:20241022T162004Z
LAST-MODIFIED:20241215T005226Z
UID:10004289-1786278600-1786284000@castillodelreybrisas.com
SUMMARY:Segunda Reunión Dominical
DESCRIPTION:
URL:https://castillodelreybrisas.com/evento/segunda-reunion-dominical/2026-08-09/
LOCATION:Castillo del Rey Brisas\, Castillo del Rey Brisas\, Monterrey\, Nuevo León\, 64764\, Mexico
CATEGORIES:Ordinarios
END:VEVENT
BEGIN:VEVENT
DTSTART;TZID=America/Mexico_City:20260810T080000
DTEND;TZID=America/Mexico_City:20260810T083000
DTSTAMP:20260423T130451
CREATED:20241021T183021Z
LAST-MODIFIED:20241021T183026Z
UID:10002243-1786348800-1786350600@castillodelreybrisas.com
SUMMARY:Oración
DESCRIPTION:
URL:https://castillodelreybrisas.com/evento/oracion-2/2026-08-10/
LOCATION:Mini Auditorio
CATEGORIES:Ordinarios
END:VEVENT
BEGIN:VEVENT
DTSTART;TZID=America/Mexico_City:20260811T080000
DTEND;TZID=America/Mexico_City:20260811T083000
DTSTAMP:20260423T130451
CREATED:20241021T183021Z
LAST-MODIFIED:20241021T183026Z
UID:10002244-1786435200-1786437000@castillodelreybrisas.com
SUMMARY:Oración
DESCRIPTION:
URL:https://castillodelreybrisas.com/evento/oracion-2/2026-08-11/
LOCATION:Mini Auditorio
CATEGORIES:Ordinarios
END:VEVENT
BEGIN:VEVENT
DTSTART;TZID=America/Mexico_City:20260812T080000
DTEND;TZID=America/Mexico_City:20260812T083000
DTSTAMP:20260423T130451
CREATED:20241021T183021Z
LAST-MODIFIED:20241021T183026Z
UID:10002245-1786521600-1786523400@castillodelreybrisas.com
SUMMARY:Oración
DESCRIPTION:
URL:https://castillodelreybrisas.com/evento/oracion-2/2026-08-12/
LOCATION:Mini Auditorio
CATEGORIES:Ordinarios
END:VEVENT
BEGIN:VEVENT
DTSTART;TZID=America/Mexico_City:20260813T080000
DTEND;TZID=America/Mexico_City:20260813T083000
DTSTAMP:20260423T130451
CREATED:20241021T183021Z
LAST-MODIFIED:20241021T183026Z
UID:10002246-1786608000-1786609800@castillodelreybrisas.com
SUMMARY:Oración
DESCRIPTION:
URL:https://castillodelreybrisas.com/evento/oracion-2/2026-08-13/
LOCATION:Mini Auditorio
CATEGORIES:Ordinarios
END:VEVENT
BEGIN:VEVENT
DTSTART;TZID=America/Mexico_City:20260814T080000
DTEND;TZID=America/Mexico_City:20260814T083000
DTSTAMP:20260423T130451
CREATED:20241021T183021Z
LAST-MODIFIED:20241021T183026Z
UID:10002247-1786694400-1786696200@castillodelreybrisas.com
SUMMARY:Oración
DESCRIPTION:
URL:https://castillodelreybrisas.com/evento/oracion-2/2026-08-14/
LOCATION:Mini Auditorio
CATEGORIES:Ordinarios
END:VEVENT
BEGIN:VEVENT
DTSTART;TZID=America/Mexico_City:20260815T180000
DTEND;TZID=America/Mexico_City:20260815T200000
DTSTAMP:20260423T130451
CREATED:20240811T154100Z
LAST-MODIFIED:20250508T172554Z
UID:10000110-1786816800-1786824000@castillodelreybrisas.com
SUMMARY:Jóvenes de Brisas
DESCRIPTION:
URL:https://castillodelreybrisas.com/evento/reunion-de-jovenes/2026-08-15/
LOCATION:Mini Auditorio
CATEGORIES:Ordinarios
END:VEVENT
BEGIN:VEVENT
DTSTART;TZID=America/Mexico_City:20260816T100000
DTEND;TZID=America/Mexico_City:20260816T113000
DTSTAMP:20260423T130451
CREATED:20241022T161633Z
LAST-MODIFIED:20241215T005141Z
UID:10003507-1786874400-1786879800@castillodelreybrisas.com
SUMMARY:Primera Reunión Dominical
DESCRIPTION:
URL:https://castillodelreybrisas.com/evento/primera-reunion-dominical/2026-08-16/
LOCATION:Castillo del Rey Brisas\, Castillo del Rey Brisas\, Monterrey\, Nuevo León\, 64764\, Mexico
CATEGORIES:Ordinarios
END:VEVENT
BEGIN:VEVENT
DTSTART;TZID=America/Mexico_City:20260816T123000
DTEND;TZID=America/Mexico_City:20260816T140000
DTSTAMP:20260423T130451
CREATED:20241022T162004Z
LAST-MODIFIED:20241215T005226Z
UID:10004290-1786883400-1786888800@castillodelreybrisas.com
SUMMARY:Segunda Reunión Dominical
DESCRIPTION:
URL:https://castillodelreybrisas.com/evento/segunda-reunion-dominical/2026-08-16/
LOCATION:Castillo del Rey Brisas\, Castillo del Rey Brisas\, Monterrey\, Nuevo León\, 64764\, Mexico
CATEGORIES:Ordinarios
END:VEVENT
BEGIN:VEVENT
DTSTART;TZID=America/Mexico_City:20260817T080000
DTEND;TZID=America/Mexico_City:20260817T083000
DTSTAMP:20260423T130451
CREATED:20241021T183021Z
LAST-MODIFIED:20241021T183026Z
UID:10002250-1786953600-1786955400@castillodelreybrisas.com
SUMMARY:Oración
DESCRIPTION:
URL:https://castillodelreybrisas.com/evento/oracion-2/2026-08-17/
LOCATION:Mini Auditorio
CATEGORIES:Ordinarios
END:VEVENT
BEGIN:VEVENT
DTSTART;TZID=America/Mexico_City:20260818T080000
DTEND;TZID=America/Mexico_City:20260818T083000
DTSTAMP:20260423T130451
CREATED:20241021T183021Z
LAST-MODIFIED:20241021T183026Z
UID:10002251-1787040000-1787041800@castillodelreybrisas.com
SUMMARY:Oración
DESCRIPTION:
URL:https://castillodelreybrisas.com/evento/oracion-2/2026-08-18/
LOCATION:Mini Auditorio
CATEGORIES:Ordinarios
END:VEVENT
BEGIN:VEVENT
DTSTART;TZID=America/Mexico_City:20260819T080000
DTEND;TZID=America/Mexico_City:20260819T083000
DTSTAMP:20260423T130451
CREATED:20241021T183021Z
LAST-MODIFIED:20241021T183026Z
UID:10002252-1787126400-1787128200@castillodelreybrisas.com
SUMMARY:Oración
DESCRIPTION:
URL:https://castillodelreybrisas.com/evento/oracion-2/2026-08-19/
LOCATION:Mini Auditorio
CATEGORIES:Ordinarios
END:VEVENT
BEGIN:VEVENT
DTSTART;TZID=America/Mexico_City:20260820T080000
DTEND;TZID=America/Mexico_City:20260820T083000
DTSTAMP:20260423T130451
CREATED:20241021T183021Z
LAST-MODIFIED:20241021T183026Z
UID:10002253-1787212800-1787214600@castillodelreybrisas.com
SUMMARY:Oración
DESCRIPTION:
URL:https://castillodelreybrisas.com/evento/oracion-2/2026-08-20/
LOCATION:Mini Auditorio
CATEGORIES:Ordinarios
END:VEVENT
BEGIN:VEVENT
DTSTART;TZID=America/Mexico_City:20260821T080000
DTEND;TZID=America/Mexico_City:20260821T083000
DTSTAMP:20260423T130452
CREATED:20241021T183021Z
LAST-MODIFIED:20241021T183026Z
UID:10002254-1787299200-1787301000@castillodelreybrisas.com
SUMMARY:Oración
DESCRIPTION:
URL:https://castillodelreybrisas.com/evento/oracion-2/2026-08-21/
LOCATION:Mini Auditorio
CATEGORIES:Ordinarios
END:VEVENT
BEGIN:VEVENT
DTSTART;TZID=America/Mexico_City:20260822T180000
DTEND;TZID=America/Mexico_City:20260822T200000
DTSTAMP:20260423T130452
CREATED:20240811T154100Z
LAST-MODIFIED:20250508T172554Z
UID:10000111-1787421600-1787428800@castillodelreybrisas.com
SUMMARY:Jóvenes de Brisas
DESCRIPTION:
URL:https://castillodelreybrisas.com/evento/reunion-de-jovenes/2026-08-22/
LOCATION:Mini Auditorio
CATEGORIES:Ordinarios
END:VEVENT
BEGIN:VEVENT
DTSTART;TZID=America/Mexico_City:20260823T100000
DTEND;TZID=America/Mexico_City:20260823T113000
DTSTAMP:20260423T130452
CREATED:20241022T161633Z
LAST-MODIFIED:20241215T005141Z
UID:10003508-1787479200-1787484600@castillodelreybrisas.com
SUMMARY:Primera Reunión Dominical
DESCRIPTION:
URL:https://castillodelreybrisas.com/evento/primera-reunion-dominical/2026-08-23/
LOCATION:Castillo del Rey Brisas\, Castillo del Rey Brisas\, Monterrey\, Nuevo León\, 64764\, Mexico
CATEGORIES:Ordinarios
END:VEVENT
BEGIN:VEVENT
DTSTART;TZID=America/Mexico_City:20260823T123000
DTEND;TZID=America/Mexico_City:20260823T140000
DTSTAMP:20260423T130452
CREATED:20241022T162004Z
LAST-MODIFIED:20241215T005226Z
UID:10004291-1787488200-1787493600@castillodelreybrisas.com
SUMMARY:Segunda Reunión Dominical
DESCRIPTION:
URL:https://castillodelreybrisas.com/evento/segunda-reunion-dominical/2026-08-23/
LOCATION:Castillo del Rey Brisas\, Castillo del Rey Brisas\, Monterrey\, Nuevo León\, 64764\, Mexico
CATEGORIES:Ordinarios
END:VEVENT
BEGIN:VEVENT
DTSTART;TZID=America/Mexico_City:20260824T080000
DTEND;TZID=America/Mexico_City:20260824T083000
DTSTAMP:20260423T130452
CREATED:20241021T183021Z
LAST-MODIFIED:20241021T183026Z
UID:10002257-1787558400-1787560200@castillodelreybrisas.com
SUMMARY:Oración
DESCRIPTION:
URL:https://castillodelreybrisas.com/evento/oracion-2/2026-08-24/
LOCATION:Mini Auditorio
CATEGORIES:Ordinarios
END:VEVENT
BEGIN:VEVENT
DTSTART;TZID=America/Mexico_City:20260825T080000
DTEND;TZID=America/Mexico_City:20260825T083000
DTSTAMP:20260423T130452
CREATED:20241021T183021Z
LAST-MODIFIED:20241021T183026Z
UID:10002258-1787644800-1787646600@castillodelreybrisas.com
SUMMARY:Oración
DESCRIPTION:
URL:https://castillodelreybrisas.com/evento/oracion-2/2026-08-25/
LOCATION:Mini Auditorio
CATEGORIES:Ordinarios
END:VEVENT
BEGIN:VEVENT
DTSTART;TZID=America/Mexico_City:20260826T080000
DTEND;TZID=America/Mexico_City:20260826T083000
DTSTAMP:20260423T130452
CREATED:20241021T183021Z
LAST-MODIFIED:20241021T183026Z
UID:10002259-1787731200-1787733000@castillodelreybrisas.com
SUMMARY:Oración
DESCRIPTION:
URL:https://castillodelreybrisas.com/evento/oracion-2/2026-08-26/
LOCATION:Mini Auditorio
CATEGORIES:Ordinarios
END:VEVENT
END:VCALENDAR