BEGIN:VCALENDAR
VERSION:2.0
PRODID:-//Castillo del Rey Brisas - ECPv6.15.16//NONSGML v1.0//EN
CALSCALE:GREGORIAN
METHOD:PUBLISH
X-WR-CALNAME:Castillo del Rey Brisas
X-ORIGINAL-URL:https://castillodelreybrisas.com
X-WR-CALDESC:Eventos para Castillo del Rey Brisas
REFRESH-INTERVAL;VALUE=DURATION:PT1H
X-Robots-Tag:noindex
X-PUBLISHED-TTL:PT1H
BEGIN:VTIMEZONE
TZID:America/Mexico_City
BEGIN:STANDARD
TZOFFSETFROM:-0600
TZOFFSETTO:-0600
TZNAME:CST
DTSTART:20250101T000000
END:STANDARD
END:VTIMEZONE
BEGIN:VEVENT
DTSTART;TZID=America/Mexico_City:20260701T080000
DTEND;TZID=America/Mexico_City:20260701T083000
DTSTAMP:20260423T114417
CREATED:20241021T183021Z
LAST-MODIFIED:20241021T183026Z
UID:10002203-1782892800-1782894600@castillodelreybrisas.com
SUMMARY:Oración
DESCRIPTION:
URL:https://castillodelreybrisas.com/evento/oracion-2/2026-07-01/
LOCATION:Mini Auditorio
CATEGORIES:Ordinarios
END:VEVENT
BEGIN:VEVENT
DTSTART;TZID=America/Mexico_City:20260702T080000
DTEND;TZID=America/Mexico_City:20260702T083000
DTSTAMP:20260423T114417
CREATED:20241021T183021Z
LAST-MODIFIED:20241021T183026Z
UID:10002204-1782979200-1782981000@castillodelreybrisas.com
SUMMARY:Oración
DESCRIPTION:
URL:https://castillodelreybrisas.com/evento/oracion-2/2026-07-02/
LOCATION:Mini Auditorio
CATEGORIES:Ordinarios
END:VEVENT
BEGIN:VEVENT
DTSTART;TZID=America/Mexico_City:20260703T080000
DTEND;TZID=America/Mexico_City:20260703T083000
DTSTAMP:20260423T114417
CREATED:20241021T183021Z
LAST-MODIFIED:20241021T183026Z
UID:10002205-1783065600-1783067400@castillodelreybrisas.com
SUMMARY:Oración
DESCRIPTION:
URL:https://castillodelreybrisas.com/evento/oracion-2/2026-07-03/
LOCATION:Mini Auditorio
CATEGORIES:Ordinarios
END:VEVENT
BEGIN:VEVENT
DTSTART;TZID=America/Mexico_City:20260704T180000
DTEND;TZID=America/Mexico_City:20260704T200000
DTSTAMP:20260423T114417
CREATED:20240811T154100Z
LAST-MODIFIED:20250508T172554Z
UID:10000104-1783188000-1783195200@castillodelreybrisas.com
SUMMARY:Jóvenes de Brisas
DESCRIPTION:
URL:https://castillodelreybrisas.com/evento/reunion-de-jovenes/2026-07-04/
LOCATION:Mini Auditorio
CATEGORIES:Ordinarios
END:VEVENT
BEGIN:VEVENT
DTSTART;TZID=America/Mexico_City:20260705T100000
DTEND;TZID=America/Mexico_City:20260705T113000
DTSTAMP:20260423T114417
CREATED:20241022T161633Z
LAST-MODIFIED:20241215T005141Z
UID:10003501-1783245600-1783251000@castillodelreybrisas.com
SUMMARY:Primera Reunión Dominical
DESCRIPTION:
URL:https://castillodelreybrisas.com/evento/primera-reunion-dominical/2026-07-05/
LOCATION:Castillo del Rey Brisas\, Castillo del Rey Brisas\, Monterrey\, Nuevo León\, 64764\, Mexico
CATEGORIES:Ordinarios
END:VEVENT
BEGIN:VEVENT
DTSTART;TZID=America/Mexico_City:20260705T123000
DTEND;TZID=America/Mexico_City:20260705T140000
DTSTAMP:20260423T114417
CREATED:20241022T162004Z
LAST-MODIFIED:20241215T005226Z
UID:10004284-1783254600-1783260000@castillodelreybrisas.com
SUMMARY:Segunda Reunión Dominical
DESCRIPTION:
URL:https://castillodelreybrisas.com/evento/segunda-reunion-dominical/2026-07-05/
LOCATION:Castillo del Rey Brisas\, Castillo del Rey Brisas\, Monterrey\, Nuevo León\, 64764\, Mexico
CATEGORIES:Ordinarios
END:VEVENT
BEGIN:VEVENT
DTSTART;TZID=America/Mexico_City:20260706T080000
DTEND;TZID=America/Mexico_City:20260706T083000
DTSTAMP:20260423T114417
CREATED:20241021T183021Z
LAST-MODIFIED:20241021T183026Z
UID:10002208-1783324800-1783326600@castillodelreybrisas.com
SUMMARY:Oración
DESCRIPTION:
URL:https://castillodelreybrisas.com/evento/oracion-2/2026-07-06/
LOCATION:Mini Auditorio
CATEGORIES:Ordinarios
END:VEVENT
BEGIN:VEVENT
DTSTART;TZID=America/Mexico_City:20260707T080000
DTEND;TZID=America/Mexico_City:20260707T083000
DTSTAMP:20260423T114417
CREATED:20241021T183021Z
LAST-MODIFIED:20241021T183026Z
UID:10002209-1783411200-1783413000@castillodelreybrisas.com
SUMMARY:Oración
DESCRIPTION:
URL:https://castillodelreybrisas.com/evento/oracion-2/2026-07-07/
LOCATION:Mini Auditorio
CATEGORIES:Ordinarios
END:VEVENT
BEGIN:VEVENT
DTSTART;VALUE=DATE:20260708
DTEND;VALUE=DATE:20260712
DTSTAMP:20260423T114417
CREATED:20260420T162557Z
LAST-MODIFIED:20260420T162835Z
UID:10004704-1783468800-1783814399@castillodelreybrisas.com
SUMMARY:Congreso Reto Juvenil 2026
DESCRIPTION:Fecha: \nCongreso: Del 8 al 11 de Julio \nConcierto Karen Espinosa: Sábado 11 de Julio a las 7:30 p.m. \n  \nCosto: \nCongreso Reto Juvenil 2026 + Concierto Karen Espinosa = $500 \nConcierto Karen Espinosa = $500
URL:https://castillodelreybrisas.com/evento/congreso-reto-juvenil-2026/
LOCATION:Castillo del Rey Brisas\, Castillo del Rey Brisas\, Monterrey\, Nuevo León\, 64764\, Mexico
CATEGORIES:Especiales
ATTACH;FMTTYPE=image/jpeg:https://castillodelreybrisas.com/wp-content/uploads/2026/04/Pantalla-Adaptacion-link-de-compra.jpg
END:VEVENT
BEGIN:VEVENT
DTSTART;TZID=America/Mexico_City:20260708T080000
DTEND;TZID=America/Mexico_City:20260708T083000
DTSTAMP:20260423T114417
CREATED:20241021T183021Z
LAST-MODIFIED:20241021T183026Z
UID:10002210-1783497600-1783499400@castillodelreybrisas.com
SUMMARY:Oración
DESCRIPTION:
URL:https://castillodelreybrisas.com/evento/oracion-2/2026-07-08/
LOCATION:Mini Auditorio
CATEGORIES:Ordinarios
END:VEVENT
BEGIN:VEVENT
DTSTART;TZID=America/Mexico_City:20260709T080000
DTEND;TZID=America/Mexico_City:20260709T083000
DTSTAMP:20260423T114417
CREATED:20241021T183021Z
LAST-MODIFIED:20241021T183026Z
UID:10002211-1783584000-1783585800@castillodelreybrisas.com
SUMMARY:Oración
DESCRIPTION:
URL:https://castillodelreybrisas.com/evento/oracion-2/2026-07-09/
LOCATION:Mini Auditorio
CATEGORIES:Ordinarios
END:VEVENT
BEGIN:VEVENT
DTSTART;TZID=America/Mexico_City:20260710T080000
DTEND;TZID=America/Mexico_City:20260710T083000
DTSTAMP:20260423T114417
CREATED:20241021T183021Z
LAST-MODIFIED:20241021T183026Z
UID:10002212-1783670400-1783672200@castillodelreybrisas.com
SUMMARY:Oración
DESCRIPTION:
URL:https://castillodelreybrisas.com/evento/oracion-2/2026-07-10/
LOCATION:Mini Auditorio
CATEGORIES:Ordinarios
END:VEVENT
BEGIN:VEVENT
DTSTART;TZID=America/Mexico_City:20260711T180000
DTEND;TZID=America/Mexico_City:20260711T200000
DTSTAMP:20260423T114417
CREATED:20240811T154100Z
LAST-MODIFIED:20250508T172554Z
UID:10000105-1783792800-1783800000@castillodelreybrisas.com
SUMMARY:Jóvenes de Brisas
DESCRIPTION:
URL:https://castillodelreybrisas.com/evento/reunion-de-jovenes/2026-07-11/
LOCATION:Mini Auditorio
CATEGORIES:Ordinarios
END:VEVENT
BEGIN:VEVENT
DTSTART;TZID=America/Mexico_City:20260712T100000
DTEND;TZID=America/Mexico_City:20260712T113000
DTSTAMP:20260423T114417
CREATED:20241022T161633Z
LAST-MODIFIED:20241215T005141Z
UID:10003502-1783850400-1783855800@castillodelreybrisas.com
SUMMARY:Primera Reunión Dominical
DESCRIPTION:
URL:https://castillodelreybrisas.com/evento/primera-reunion-dominical/2026-07-12/
LOCATION:Castillo del Rey Brisas\, Castillo del Rey Brisas\, Monterrey\, Nuevo León\, 64764\, Mexico
CATEGORIES:Ordinarios
END:VEVENT
BEGIN:VEVENT
DTSTART;TZID=America/Mexico_City:20260712T123000
DTEND;TZID=America/Mexico_City:20260712T140000
DTSTAMP:20260423T114417
CREATED:20241022T162004Z
LAST-MODIFIED:20241215T005226Z
UID:10004285-1783859400-1783864800@castillodelreybrisas.com
SUMMARY:Segunda Reunión Dominical
DESCRIPTION:
URL:https://castillodelreybrisas.com/evento/segunda-reunion-dominical/2026-07-12/
LOCATION:Castillo del Rey Brisas\, Castillo del Rey Brisas\, Monterrey\, Nuevo León\, 64764\, Mexico
CATEGORIES:Ordinarios
END:VEVENT
BEGIN:VEVENT
DTSTART;TZID=America/Mexico_City:20260713T080000
DTEND;TZID=America/Mexico_City:20260713T083000
DTSTAMP:20260423T114417
CREATED:20241021T183021Z
LAST-MODIFIED:20241021T183026Z
UID:10002215-1783929600-1783931400@castillodelreybrisas.com
SUMMARY:Oración
DESCRIPTION:
URL:https://castillodelreybrisas.com/evento/oracion-2/2026-07-13/
LOCATION:Mini Auditorio
CATEGORIES:Ordinarios
END:VEVENT
BEGIN:VEVENT
DTSTART;TZID=America/Mexico_City:20260714T080000
DTEND;TZID=America/Mexico_City:20260714T083000
DTSTAMP:20260423T114417
CREATED:20241021T183021Z
LAST-MODIFIED:20241021T183026Z
UID:10002216-1784016000-1784017800@castillodelreybrisas.com
SUMMARY:Oración
DESCRIPTION:
URL:https://castillodelreybrisas.com/evento/oracion-2/2026-07-14/
LOCATION:Mini Auditorio
CATEGORIES:Ordinarios
END:VEVENT
BEGIN:VEVENT
DTSTART;TZID=America/Mexico_City:20260715T080000
DTEND;TZID=America/Mexico_City:20260715T083000
DTSTAMP:20260423T114417
CREATED:20241021T183021Z
LAST-MODIFIED:20241021T183026Z
UID:10002217-1784102400-1784104200@castillodelreybrisas.com
SUMMARY:Oración
DESCRIPTION:
URL:https://castillodelreybrisas.com/evento/oracion-2/2026-07-15/
LOCATION:Mini Auditorio
CATEGORIES:Ordinarios
END:VEVENT
BEGIN:VEVENT
DTSTART;TZID=America/Mexico_City:20260716T080000
DTEND;TZID=America/Mexico_City:20260716T083000
DTSTAMP:20260423T114417
CREATED:20241021T183021Z
LAST-MODIFIED:20241021T183026Z
UID:10002218-1784188800-1784190600@castillodelreybrisas.com
SUMMARY:Oración
DESCRIPTION:
URL:https://castillodelreybrisas.com/evento/oracion-2/2026-07-16/
LOCATION:Mini Auditorio
CATEGORIES:Ordinarios
END:VEVENT
BEGIN:VEVENT
DTSTART;TZID=America/Mexico_City:20260717T080000
DTEND;TZID=America/Mexico_City:20260717T083000
DTSTAMP:20260423T114417
CREATED:20241021T183021Z
LAST-MODIFIED:20241021T183026Z
UID:10002219-1784275200-1784277000@castillodelreybrisas.com
SUMMARY:Oración
DESCRIPTION:
URL:https://castillodelreybrisas.com/evento/oracion-2/2026-07-17/
LOCATION:Mini Auditorio
CATEGORIES:Ordinarios
END:VEVENT
BEGIN:VEVENT
DTSTART;TZID=America/Mexico_City:20260718T180000
DTEND;TZID=America/Mexico_City:20260718T200000
DTSTAMP:20260423T114417
CREATED:20240811T154100Z
LAST-MODIFIED:20250508T172554Z
UID:10000106-1784397600-1784404800@castillodelreybrisas.com
SUMMARY:Jóvenes de Brisas
DESCRIPTION:
URL:https://castillodelreybrisas.com/evento/reunion-de-jovenes/2026-07-18/
LOCATION:Mini Auditorio
CATEGORIES:Ordinarios
END:VEVENT
BEGIN:VEVENT
DTSTART;TZID=America/Mexico_City:20260719T100000
DTEND;TZID=America/Mexico_City:20260719T113000
DTSTAMP:20260423T114417
CREATED:20241022T161633Z
LAST-MODIFIED:20241215T005141Z
UID:10003503-1784455200-1784460600@castillodelreybrisas.com
SUMMARY:Primera Reunión Dominical
DESCRIPTION:
URL:https://castillodelreybrisas.com/evento/primera-reunion-dominical/2026-07-19/
LOCATION:Castillo del Rey Brisas\, Castillo del Rey Brisas\, Monterrey\, Nuevo León\, 64764\, Mexico
CATEGORIES:Ordinarios
END:VEVENT
BEGIN:VEVENT
DTSTART;TZID=America/Mexico_City:20260719T123000
DTEND;TZID=America/Mexico_City:20260719T140000
DTSTAMP:20260423T114417
CREATED:20241022T162004Z
LAST-MODIFIED:20241215T005226Z
UID:10004286-1784464200-1784469600@castillodelreybrisas.com
SUMMARY:Segunda Reunión Dominical
DESCRIPTION:
URL:https://castillodelreybrisas.com/evento/segunda-reunion-dominical/2026-07-19/
LOCATION:Castillo del Rey Brisas\, Castillo del Rey Brisas\, Monterrey\, Nuevo León\, 64764\, Mexico
CATEGORIES:Ordinarios
END:VEVENT
BEGIN:VEVENT
DTSTART;TZID=America/Mexico_City:20260720T080000
DTEND;TZID=America/Mexico_City:20260720T083000
DTSTAMP:20260423T114417
CREATED:20241021T183021Z
LAST-MODIFIED:20241021T183026Z
UID:10002222-1784534400-1784536200@castillodelreybrisas.com
SUMMARY:Oración
DESCRIPTION:
URL:https://castillodelreybrisas.com/evento/oracion-2/2026-07-20/
LOCATION:Mini Auditorio
CATEGORIES:Ordinarios
END:VEVENT
BEGIN:VEVENT
DTSTART;TZID=America/Mexico_City:20260721T080000
DTEND;TZID=America/Mexico_City:20260721T083000
DTSTAMP:20260423T114417
CREATED:20241021T183021Z
LAST-MODIFIED:20241021T183026Z
UID:10002223-1784620800-1784622600@castillodelreybrisas.com
SUMMARY:Oración
DESCRIPTION:
URL:https://castillodelreybrisas.com/evento/oracion-2/2026-07-21/
LOCATION:Mini Auditorio
CATEGORIES:Ordinarios
END:VEVENT
BEGIN:VEVENT
DTSTART;TZID=America/Mexico_City:20260722T080000
DTEND;TZID=America/Mexico_City:20260722T083000
DTSTAMP:20260423T114417
CREATED:20241021T183021Z
LAST-MODIFIED:20241021T183026Z
UID:10002224-1784707200-1784709000@castillodelreybrisas.com
SUMMARY:Oración
DESCRIPTION:
URL:https://castillodelreybrisas.com/evento/oracion-2/2026-07-22/
LOCATION:Mini Auditorio
CATEGORIES:Ordinarios
END:VEVENT
BEGIN:VEVENT
DTSTART;TZID=America/Mexico_City:20260723T080000
DTEND;TZID=America/Mexico_City:20260723T083000
DTSTAMP:20260423T114417
CREATED:20241021T183021Z
LAST-MODIFIED:20241021T183026Z
UID:10002225-1784793600-1784795400@castillodelreybrisas.com
SUMMARY:Oración
DESCRIPTION:
URL:https://castillodelreybrisas.com/evento/oracion-2/2026-07-23/
LOCATION:Mini Auditorio
CATEGORIES:Ordinarios
END:VEVENT
BEGIN:VEVENT
DTSTART;TZID=America/Mexico_City:20260724T080000
DTEND;TZID=America/Mexico_City:20260724T083000
DTSTAMP:20260423T114417
CREATED:20241021T183021Z
LAST-MODIFIED:20241021T183026Z
UID:10002226-1784880000-1784881800@castillodelreybrisas.com
SUMMARY:Oración
DESCRIPTION:
URL:https://castillodelreybrisas.com/evento/oracion-2/2026-07-24/
LOCATION:Mini Auditorio
CATEGORIES:Ordinarios
END:VEVENT
BEGIN:VEVENT
DTSTART;TZID=America/Mexico_City:20260725T180000
DTEND;TZID=America/Mexico_City:20260725T200000
DTSTAMP:20260423T114417
CREATED:20240811T154100Z
LAST-MODIFIED:20250508T172554Z
UID:10000107-1785002400-1785009600@castillodelreybrisas.com
SUMMARY:Jóvenes de Brisas
DESCRIPTION:
URL:https://castillodelreybrisas.com/evento/reunion-de-jovenes/2026-07-25/
LOCATION:Mini Auditorio
CATEGORIES:Ordinarios
END:VEVENT
BEGIN:VEVENT
DTSTART;TZID=America/Mexico_City:20260726T100000
DTEND;TZID=America/Mexico_City:20260726T113000
DTSTAMP:20260423T114417
CREATED:20241022T161633Z
LAST-MODIFIED:20241215T005141Z
UID:10003504-1785060000-1785065400@castillodelreybrisas.com
SUMMARY:Primera Reunión Dominical
DESCRIPTION:
URL:https://castillodelreybrisas.com/evento/primera-reunion-dominical/2026-07-26/
LOCATION:Castillo del Rey Brisas\, Castillo del Rey Brisas\, Monterrey\, Nuevo León\, 64764\, Mexico
CATEGORIES:Ordinarios
END:VEVENT
END:VCALENDAR