BEGIN:VCALENDAR
VERSION:2.0
PRODID:-//Castillo del Rey Brisas - ECPv6.15.16//NONSGML v1.0//EN
CALSCALE:GREGORIAN
METHOD:PUBLISH
X-ORIGINAL-URL:https://castillodelreybrisas.com
X-WR-CALDESC:Eventos para Castillo del Rey Brisas
REFRESH-INTERVAL;VALUE=DURATION:PT1H
X-Robots-Tag:noindex
X-PUBLISHED-TTL:PT1H
BEGIN:VTIMEZONE
TZID:America/Mexico_City
BEGIN:STANDARD
TZOFFSETFROM:-0600
TZOFFSETTO:-0600
TZNAME:CST
DTSTART:20250101T000000
END:STANDARD
END:VTIMEZONE
BEGIN:VEVENT
DTSTART;TZID=America/Mexico_City:20260601T080000
DTEND;TZID=America/Mexico_City:20260601T083000
DTSTAMP:20260423T102255
CREATED:20241021T183021Z
LAST-MODIFIED:20241021T183026Z
UID:10002173-1780300800-1780302600@castillodelreybrisas.com
SUMMARY:Oración
DESCRIPTION:
URL:https://castillodelreybrisas.com/evento/oracion-2/2026-06-01/
LOCATION:Mini Auditorio
CATEGORIES:Ordinarios
END:VEVENT
BEGIN:VEVENT
DTSTART;TZID=America/Mexico_City:20260602T080000
DTEND;TZID=America/Mexico_City:20260602T083000
DTSTAMP:20260423T102255
CREATED:20241021T183021Z
LAST-MODIFIED:20241021T183026Z
UID:10002174-1780387200-1780389000@castillodelreybrisas.com
SUMMARY:Oración
DESCRIPTION:
URL:https://castillodelreybrisas.com/evento/oracion-2/2026-06-02/
LOCATION:Mini Auditorio
CATEGORIES:Ordinarios
END:VEVENT
BEGIN:VEVENT
DTSTART;TZID=America/Mexico_City:20260603T080000
DTEND;TZID=America/Mexico_City:20260603T083000
DTSTAMP:20260423T102255
CREATED:20241021T183021Z
LAST-MODIFIED:20241021T183026Z
UID:10002175-1780473600-1780475400@castillodelreybrisas.com
SUMMARY:Oración
DESCRIPTION:
URL:https://castillodelreybrisas.com/evento/oracion-2/2026-06-03/
LOCATION:Mini Auditorio
CATEGORIES:Ordinarios
END:VEVENT
BEGIN:VEVENT
DTSTART;TZID=America/Mexico_City:20260604T080000
DTEND;TZID=America/Mexico_City:20260604T083000
DTSTAMP:20260423T102255
CREATED:20241021T183021Z
LAST-MODIFIED:20241021T183026Z
UID:10002176-1780560000-1780561800@castillodelreybrisas.com
SUMMARY:Oración
DESCRIPTION:
URL:https://castillodelreybrisas.com/evento/oracion-2/2026-06-04/
LOCATION:Mini Auditorio
CATEGORIES:Ordinarios
END:VEVENT
BEGIN:VEVENT
DTSTART;TZID=America/Mexico_City:20260605T080000
DTEND;TZID=America/Mexico_City:20260605T083000
DTSTAMP:20260423T102255
CREATED:20241021T183021Z
LAST-MODIFIED:20241021T183026Z
UID:10002177-1780646400-1780648200@castillodelreybrisas.com
SUMMARY:Oración
DESCRIPTION:
URL:https://castillodelreybrisas.com/evento/oracion-2/2026-06-05/
LOCATION:Mini Auditorio
CATEGORIES:Ordinarios
END:VEVENT
BEGIN:VEVENT
DTSTART;TZID=America/Mexico_City:20260606T180000
DTEND;TZID=America/Mexico_City:20260606T200000
DTSTAMP:20260423T102255
CREATED:20240811T154100Z
LAST-MODIFIED:20250508T172554Z
UID:10000100-1780768800-1780776000@castillodelreybrisas.com
SUMMARY:Jóvenes de Brisas
DESCRIPTION:
URL:https://castillodelreybrisas.com/evento/reunion-de-jovenes/2026-06-06/
LOCATION:Mini Auditorio
CATEGORIES:Ordinarios
END:VEVENT
BEGIN:VEVENT
DTSTART;TZID=America/Mexico_City:20260607T100000
DTEND;TZID=America/Mexico_City:20260607T113000
DTSTAMP:20260423T102255
CREATED:20241022T161633Z
LAST-MODIFIED:20241215T005141Z
UID:10003497-1780826400-1780831800@castillodelreybrisas.com
SUMMARY:Primera Reunión Dominical
DESCRIPTION:
URL:https://castillodelreybrisas.com/evento/primera-reunion-dominical/2026-06-07/
LOCATION:Castillo del Rey Brisas\, Castillo del Rey Brisas\, Monterrey\, Nuevo León\, 64764\, Mexico
CATEGORIES:Ordinarios
END:VEVENT
BEGIN:VEVENT
DTSTART;TZID=America/Mexico_City:20260607T123000
DTEND;TZID=America/Mexico_City:20260607T140000
DTSTAMP:20260423T102255
CREATED:20241022T162004Z
LAST-MODIFIED:20241215T005226Z
UID:10004280-1780835400-1780840800@castillodelreybrisas.com
SUMMARY:Segunda Reunión Dominical
DESCRIPTION:
URL:https://castillodelreybrisas.com/evento/segunda-reunion-dominical/2026-06-07/
LOCATION:Castillo del Rey Brisas\, Castillo del Rey Brisas\, Monterrey\, Nuevo León\, 64764\, Mexico
CATEGORIES:Ordinarios
END:VEVENT
BEGIN:VEVENT
DTSTART;TZID=America/Mexico_City:20260608T080000
DTEND;TZID=America/Mexico_City:20260608T083000
DTSTAMP:20260423T102256
CREATED:20241021T183021Z
LAST-MODIFIED:20241021T183026Z
UID:10002180-1780905600-1780907400@castillodelreybrisas.com
SUMMARY:Oración
DESCRIPTION:
URL:https://castillodelreybrisas.com/evento/oracion-2/2026-06-08/
LOCATION:Mini Auditorio
CATEGORIES:Ordinarios
END:VEVENT
BEGIN:VEVENT
DTSTART;TZID=America/Mexico_City:20260609T080000
DTEND;TZID=America/Mexico_City:20260609T083000
DTSTAMP:20260423T102256
CREATED:20241021T183021Z
LAST-MODIFIED:20241021T183026Z
UID:10002181-1780992000-1780993800@castillodelreybrisas.com
SUMMARY:Oración
DESCRIPTION:
URL:https://castillodelreybrisas.com/evento/oracion-2/2026-06-09/
LOCATION:Mini Auditorio
CATEGORIES:Ordinarios
END:VEVENT
BEGIN:VEVENT
DTSTART;TZID=America/Mexico_City:20260610T080000
DTEND;TZID=America/Mexico_City:20260610T083000
DTSTAMP:20260423T102256
CREATED:20241021T183021Z
LAST-MODIFIED:20241021T183026Z
UID:10002182-1781078400-1781080200@castillodelreybrisas.com
SUMMARY:Oración
DESCRIPTION:
URL:https://castillodelreybrisas.com/evento/oracion-2/2026-06-10/
LOCATION:Mini Auditorio
CATEGORIES:Ordinarios
END:VEVENT
BEGIN:VEVENT
DTSTART;TZID=America/Mexico_City:20260611T080000
DTEND;TZID=America/Mexico_City:20260611T083000
DTSTAMP:20260423T102256
CREATED:20241021T183021Z
LAST-MODIFIED:20241021T183026Z
UID:10002183-1781164800-1781166600@castillodelreybrisas.com
SUMMARY:Oración
DESCRIPTION:
URL:https://castillodelreybrisas.com/evento/oracion-2/2026-06-11/
LOCATION:Mini Auditorio
CATEGORIES:Ordinarios
END:VEVENT
BEGIN:VEVENT
DTSTART;TZID=America/Mexico_City:20260612T080000
DTEND;TZID=America/Mexico_City:20260612T083000
DTSTAMP:20260423T102256
CREATED:20241021T183021Z
LAST-MODIFIED:20241021T183026Z
UID:10002184-1781251200-1781253000@castillodelreybrisas.com
SUMMARY:Oración
DESCRIPTION:
URL:https://castillodelreybrisas.com/evento/oracion-2/2026-06-12/
LOCATION:Mini Auditorio
CATEGORIES:Ordinarios
END:VEVENT
BEGIN:VEVENT
DTSTART;TZID=America/Mexico_City:20260613T180000
DTEND;TZID=America/Mexico_City:20260613T200000
DTSTAMP:20260423T102256
CREATED:20240811T154100Z
LAST-MODIFIED:20250508T172554Z
UID:10000101-1781373600-1781380800@castillodelreybrisas.com
SUMMARY:Jóvenes de Brisas
DESCRIPTION:
URL:https://castillodelreybrisas.com/evento/reunion-de-jovenes/2026-06-13/
LOCATION:Mini Auditorio
CATEGORIES:Ordinarios
END:VEVENT
BEGIN:VEVENT
DTSTART;TZID=America/Mexico_City:20260614T100000
DTEND;TZID=America/Mexico_City:20260614T113000
DTSTAMP:20260423T102256
CREATED:20241022T161633Z
LAST-MODIFIED:20241215T005141Z
UID:10003498-1781431200-1781436600@castillodelreybrisas.com
SUMMARY:Primera Reunión Dominical
DESCRIPTION:
URL:https://castillodelreybrisas.com/evento/primera-reunion-dominical/2026-06-14/
LOCATION:Castillo del Rey Brisas\, Castillo del Rey Brisas\, Monterrey\, Nuevo León\, 64764\, Mexico
CATEGORIES:Ordinarios
END:VEVENT
BEGIN:VEVENT
DTSTART;TZID=America/Mexico_City:20260614T123000
DTEND;TZID=America/Mexico_City:20260614T140000
DTSTAMP:20260423T102256
CREATED:20241022T162004Z
LAST-MODIFIED:20241215T005226Z
UID:10004281-1781440200-1781445600@castillodelreybrisas.com
SUMMARY:Segunda Reunión Dominical
DESCRIPTION:
URL:https://castillodelreybrisas.com/evento/segunda-reunion-dominical/2026-06-14/
LOCATION:Castillo del Rey Brisas\, Castillo del Rey Brisas\, Monterrey\, Nuevo León\, 64764\, Mexico
CATEGORIES:Ordinarios
END:VEVENT
BEGIN:VEVENT
DTSTART;TZID=America/Mexico_City:20260615T080000
DTEND;TZID=America/Mexico_City:20260615T083000
DTSTAMP:20260423T102256
CREATED:20241021T183021Z
LAST-MODIFIED:20241021T183026Z
UID:10002187-1781510400-1781512200@castillodelreybrisas.com
SUMMARY:Oración
DESCRIPTION:
URL:https://castillodelreybrisas.com/evento/oracion-2/2026-06-15/
LOCATION:Mini Auditorio
CATEGORIES:Ordinarios
END:VEVENT
BEGIN:VEVENT
DTSTART;TZID=America/Mexico_City:20260616T080000
DTEND;TZID=America/Mexico_City:20260616T083000
DTSTAMP:20260423T102256
CREATED:20241021T183021Z
LAST-MODIFIED:20241021T183026Z
UID:10002188-1781596800-1781598600@castillodelreybrisas.com
SUMMARY:Oración
DESCRIPTION:
URL:https://castillodelreybrisas.com/evento/oracion-2/2026-06-16/
LOCATION:Mini Auditorio
CATEGORIES:Ordinarios
END:VEVENT
BEGIN:VEVENT
DTSTART;TZID=America/Mexico_City:20260617T080000
DTEND;TZID=America/Mexico_City:20260617T083000
DTSTAMP:20260423T102256
CREATED:20241021T183021Z
LAST-MODIFIED:20241021T183026Z
UID:10002189-1781683200-1781685000@castillodelreybrisas.com
SUMMARY:Oración
DESCRIPTION:
URL:https://castillodelreybrisas.com/evento/oracion-2/2026-06-17/
LOCATION:Mini Auditorio
CATEGORIES:Ordinarios
END:VEVENT
BEGIN:VEVENT
DTSTART;TZID=America/Mexico_City:20260618T080000
DTEND;TZID=America/Mexico_City:20260618T083000
DTSTAMP:20260423T102256
CREATED:20241021T183021Z
LAST-MODIFIED:20241021T183026Z
UID:10002190-1781769600-1781771400@castillodelreybrisas.com
SUMMARY:Oración
DESCRIPTION:
URL:https://castillodelreybrisas.com/evento/oracion-2/2026-06-18/
LOCATION:Mini Auditorio
CATEGORIES:Ordinarios
END:VEVENT
BEGIN:VEVENT
DTSTART;TZID=America/Mexico_City:20260619T080000
DTEND;TZID=America/Mexico_City:20260619T083000
DTSTAMP:20260423T102256
CREATED:20241021T183021Z
LAST-MODIFIED:20241021T183026Z
UID:10002191-1781856000-1781857800@castillodelreybrisas.com
SUMMARY:Oración
DESCRIPTION:
URL:https://castillodelreybrisas.com/evento/oracion-2/2026-06-19/
LOCATION:Mini Auditorio
CATEGORIES:Ordinarios
END:VEVENT
BEGIN:VEVENT
DTSTART;TZID=America/Mexico_City:20260620T180000
DTEND;TZID=America/Mexico_City:20260620T200000
DTSTAMP:20260423T102256
CREATED:20240811T154100Z
LAST-MODIFIED:20250508T172554Z
UID:10000102-1781978400-1781985600@castillodelreybrisas.com
SUMMARY:Jóvenes de Brisas
DESCRIPTION:
URL:https://castillodelreybrisas.com/evento/reunion-de-jovenes/2026-06-20/
LOCATION:Mini Auditorio
CATEGORIES:Ordinarios
END:VEVENT
BEGIN:VEVENT
DTSTART;TZID=America/Mexico_City:20260621T100000
DTEND;TZID=America/Mexico_City:20260621T113000
DTSTAMP:20260423T102256
CREATED:20241022T161633Z
LAST-MODIFIED:20241215T005141Z
UID:10003499-1782036000-1782041400@castillodelreybrisas.com
SUMMARY:Primera Reunión Dominical
DESCRIPTION:
URL:https://castillodelreybrisas.com/evento/primera-reunion-dominical/2026-06-21/
LOCATION:Castillo del Rey Brisas\, Castillo del Rey Brisas\, Monterrey\, Nuevo León\, 64764\, Mexico
CATEGORIES:Ordinarios
END:VEVENT
BEGIN:VEVENT
DTSTART;TZID=America/Mexico_City:20260621T123000
DTEND;TZID=America/Mexico_City:20260621T140000
DTSTAMP:20260423T102256
CREATED:20241022T162004Z
LAST-MODIFIED:20241215T005226Z
UID:10004282-1782045000-1782050400@castillodelreybrisas.com
SUMMARY:Segunda Reunión Dominical
DESCRIPTION:
URL:https://castillodelreybrisas.com/evento/segunda-reunion-dominical/2026-06-21/
LOCATION:Castillo del Rey Brisas\, Castillo del Rey Brisas\, Monterrey\, Nuevo León\, 64764\, Mexico
CATEGORIES:Ordinarios
END:VEVENT
BEGIN:VEVENT
DTSTART;TZID=America/Mexico_City:20260622T080000
DTEND;TZID=America/Mexico_City:20260622T083000
DTSTAMP:20260423T102256
CREATED:20241021T183021Z
LAST-MODIFIED:20241021T183026Z
UID:10002194-1782115200-1782117000@castillodelreybrisas.com
SUMMARY:Oración
DESCRIPTION:
URL:https://castillodelreybrisas.com/evento/oracion-2/2026-06-22/
LOCATION:Mini Auditorio
CATEGORIES:Ordinarios
END:VEVENT
BEGIN:VEVENT
DTSTART;TZID=America/Mexico_City:20260623T080000
DTEND;TZID=America/Mexico_City:20260623T083000
DTSTAMP:20260423T102256
CREATED:20241021T183021Z
LAST-MODIFIED:20241021T183026Z
UID:10002195-1782201600-1782203400@castillodelreybrisas.com
SUMMARY:Oración
DESCRIPTION:
URL:https://castillodelreybrisas.com/evento/oracion-2/2026-06-23/
LOCATION:Mini Auditorio
CATEGORIES:Ordinarios
END:VEVENT
BEGIN:VEVENT
DTSTART;TZID=America/Mexico_City:20260624T080000
DTEND;TZID=America/Mexico_City:20260624T083000
DTSTAMP:20260423T102256
CREATED:20241021T183021Z
LAST-MODIFIED:20241021T183026Z
UID:10002196-1782288000-1782289800@castillodelreybrisas.com
SUMMARY:Oración
DESCRIPTION:
URL:https://castillodelreybrisas.com/evento/oracion-2/2026-06-24/
LOCATION:Mini Auditorio
CATEGORIES:Ordinarios
END:VEVENT
BEGIN:VEVENT
DTSTART;TZID=America/Mexico_City:20260625T080000
DTEND;TZID=America/Mexico_City:20260625T083000
DTSTAMP:20260423T102256
CREATED:20241021T183021Z
LAST-MODIFIED:20241021T183026Z
UID:10002197-1782374400-1782376200@castillodelreybrisas.com
SUMMARY:Oración
DESCRIPTION:
URL:https://castillodelreybrisas.com/evento/oracion-2/2026-06-25/
LOCATION:Mini Auditorio
CATEGORIES:Ordinarios
END:VEVENT
BEGIN:VEVENT
DTSTART;TZID=America/Mexico_City:20260626T080000
DTEND;TZID=America/Mexico_City:20260626T083000
DTSTAMP:20260423T102256
CREATED:20241021T183021Z
LAST-MODIFIED:20241021T183026Z
UID:10002198-1782460800-1782462600@castillodelreybrisas.com
SUMMARY:Oración
DESCRIPTION:
URL:https://castillodelreybrisas.com/evento/oracion-2/2026-06-26/
LOCATION:Mini Auditorio
CATEGORIES:Ordinarios
END:VEVENT
BEGIN:VEVENT
DTSTART;TZID=America/Mexico_City:20260627T180000
DTEND;TZID=America/Mexico_City:20260627T200000
DTSTAMP:20260423T102256
CREATED:20240811T154100Z
LAST-MODIFIED:20250508T172554Z
UID:10000103-1782583200-1782590400@castillodelreybrisas.com
SUMMARY:Jóvenes de Brisas
DESCRIPTION:
URL:https://castillodelreybrisas.com/evento/reunion-de-jovenes/2026-06-27/
LOCATION:Mini Auditorio
CATEGORIES:Ordinarios
END:VEVENT
END:VCALENDAR