BEGIN:VCALENDAR
VERSION:2.0
PRODID:-//Castillo del Rey Brisas - ECPv6.15.16//NONSGML v1.0//EN
CALSCALE:GREGORIAN
METHOD:PUBLISH
X-ORIGINAL-URL:https://castillodelreybrisas.com
X-WR-CALDESC:Eventos para Castillo del Rey Brisas
REFRESH-INTERVAL;VALUE=DURATION:PT1H
X-Robots-Tag:noindex
X-PUBLISHED-TTL:PT1H
BEGIN:VTIMEZONE
TZID:America/Mexico_City
BEGIN:STANDARD
TZOFFSETFROM:-0600
TZOFFSETTO:-0600
TZNAME:CST
DTSTART:20250101T000000
END:STANDARD
END:VTIMEZONE
BEGIN:VEVENT
DTSTART;TZID=America/Mexico_City:20260301T100000
DTEND;TZID=America/Mexico_City:20260301T113000
DTSTAMP:20260423T090022
CREATED:20241022T161633Z
LAST-MODIFIED:20241215T005141Z
UID:10003483-1772359200-1772364600@castillodelreybrisas.com
SUMMARY:Primera Reunión Dominical
DESCRIPTION:
URL:https://castillodelreybrisas.com/evento/primera-reunion-dominical/2026-03-01/
LOCATION:Castillo del Rey Brisas\, Castillo del Rey Brisas\, Monterrey\, Nuevo León\, 64764\, Mexico
CATEGORIES:Ordinarios
END:VEVENT
BEGIN:VEVENT
DTSTART;TZID=America/Mexico_City:20260301T123000
DTEND;TZID=America/Mexico_City:20260301T140000
DTSTAMP:20260423T090022
CREATED:20241022T162004Z
LAST-MODIFIED:20241215T005226Z
UID:10004266-1772368200-1772373600@castillodelreybrisas.com
SUMMARY:Segunda Reunión Dominical
DESCRIPTION:
URL:https://castillodelreybrisas.com/evento/segunda-reunion-dominical/2026-03-01/
LOCATION:Castillo del Rey Brisas\, Castillo del Rey Brisas\, Monterrey\, Nuevo León\, 64764\, Mexico
CATEGORIES:Ordinarios
END:VEVENT
BEGIN:VEVENT
DTSTART;TZID=America/Mexico_City:20260302T080000
DTEND;TZID=America/Mexico_City:20260302T083000
DTSTAMP:20260423T090022
CREATED:20241021T183021Z
LAST-MODIFIED:20241021T183026Z
UID:10002082-1772438400-1772440200@castillodelreybrisas.com
SUMMARY:Oración
DESCRIPTION:
URL:https://castillodelreybrisas.com/evento/oracion-2/2026-03-02/
LOCATION:Mini Auditorio
CATEGORIES:Ordinarios
END:VEVENT
BEGIN:VEVENT
DTSTART;TZID=America/Mexico_City:20260302T200000
DTEND;TZID=America/Mexico_City:20260302T210000
DTSTAMP:20260423T090022
CREATED:20260112T163356Z
LAST-MODIFIED:20260225T164317Z
UID:10004689-1772481600-1772485200@castillodelreybrisas.com
SUMMARY:Mi Comienzo con Dios
DESCRIPTION:
URL:https://castillodelreybrisas.com/evento/mi-comienzo-con-dios/2026-03-02/
CATEGORIES:Ordinarios
END:VEVENT
BEGIN:VEVENT
DTSTART;TZID=America/Mexico_City:20260303T080000
DTEND;TZID=America/Mexico_City:20260303T083000
DTSTAMP:20260423T090022
CREATED:20241021T183021Z
LAST-MODIFIED:20241021T183026Z
UID:10002083-1772524800-1772526600@castillodelreybrisas.com
SUMMARY:Oración
DESCRIPTION:
URL:https://castillodelreybrisas.com/evento/oracion-2/2026-03-03/
LOCATION:Mini Auditorio
CATEGORIES:Ordinarios
END:VEVENT
BEGIN:VEVENT
DTSTART;TZID=America/Mexico_City:20260304T080000
DTEND;TZID=America/Mexico_City:20260304T083000
DTSTAMP:20260423T090022
CREATED:20241021T183021Z
LAST-MODIFIED:20241021T183026Z
UID:10002084-1772611200-1772613000@castillodelreybrisas.com
SUMMARY:Oración
DESCRIPTION:
URL:https://castillodelreybrisas.com/evento/oracion-2/2026-03-04/
LOCATION:Mini Auditorio
CATEGORIES:Ordinarios
END:VEVENT
BEGIN:VEVENT
DTSTART;TZID=America/Mexico_City:20260305T080000
DTEND;TZID=America/Mexico_City:20260305T083000
DTSTAMP:20260423T090022
CREATED:20241021T183021Z
LAST-MODIFIED:20241021T183026Z
UID:10002085-1772697600-1772699400@castillodelreybrisas.com
SUMMARY:Oración
DESCRIPTION:
URL:https://castillodelreybrisas.com/evento/oracion-2/2026-03-05/
LOCATION:Mini Auditorio
CATEGORIES:Ordinarios
END:VEVENT
BEGIN:VEVENT
DTSTART;TZID=America/Mexico_City:20260306T080000
DTEND;TZID=America/Mexico_City:20260306T083000
DTSTAMP:20260423T090022
CREATED:20241021T183021Z
LAST-MODIFIED:20241021T183026Z
UID:10002086-1772784000-1772785800@castillodelreybrisas.com
SUMMARY:Oración
DESCRIPTION:
URL:https://castillodelreybrisas.com/evento/oracion-2/2026-03-06/
LOCATION:Mini Auditorio
CATEGORIES:Ordinarios
END:VEVENT
BEGIN:VEVENT
DTSTART;TZID=America/Mexico_City:20260307T180000
DTEND;TZID=America/Mexico_City:20260307T200000
DTSTAMP:20260423T090022
CREATED:20240811T154100Z
LAST-MODIFIED:20250508T172554Z
UID:10000087-1772906400-1772913600@castillodelreybrisas.com
SUMMARY:Jóvenes de Brisas
DESCRIPTION:
URL:https://castillodelreybrisas.com/evento/reunion-de-jovenes/2026-03-07/
LOCATION:Mini Auditorio
CATEGORIES:Ordinarios
END:VEVENT
BEGIN:VEVENT
DTSTART;TZID=America/Mexico_City:20260308T100000
DTEND;TZID=America/Mexico_City:20260308T113000
DTSTAMP:20260423T090022
CREATED:20241022T161633Z
LAST-MODIFIED:20241215T005141Z
UID:10003484-1772964000-1772969400@castillodelreybrisas.com
SUMMARY:Primera Reunión Dominical
DESCRIPTION:
URL:https://castillodelreybrisas.com/evento/primera-reunion-dominical/2026-03-08/
LOCATION:Castillo del Rey Brisas\, Castillo del Rey Brisas\, Monterrey\, Nuevo León\, 64764\, Mexico
CATEGORIES:Ordinarios
END:VEVENT
BEGIN:VEVENT
DTSTART;TZID=America/Mexico_City:20260308T123000
DTEND;TZID=America/Mexico_City:20260308T140000
DTSTAMP:20260423T090022
CREATED:20241022T162004Z
LAST-MODIFIED:20241215T005226Z
UID:10004267-1772973000-1772978400@castillodelreybrisas.com
SUMMARY:Segunda Reunión Dominical
DESCRIPTION:
URL:https://castillodelreybrisas.com/evento/segunda-reunion-dominical/2026-03-08/
LOCATION:Castillo del Rey Brisas\, Castillo del Rey Brisas\, Monterrey\, Nuevo León\, 64764\, Mexico
CATEGORIES:Ordinarios
END:VEVENT
BEGIN:VEVENT
DTSTART;TZID=America/Mexico_City:20260309T080000
DTEND;TZID=America/Mexico_City:20260309T083000
DTSTAMP:20260423T090022
CREATED:20241021T183021Z
LAST-MODIFIED:20241021T183026Z
UID:10002089-1773043200-1773045000@castillodelreybrisas.com
SUMMARY:Oración
DESCRIPTION:
URL:https://castillodelreybrisas.com/evento/oracion-2/2026-03-09/
LOCATION:Mini Auditorio
CATEGORIES:Ordinarios
END:VEVENT
BEGIN:VEVENT
DTSTART;TZID=America/Mexico_City:20260309T200000
DTEND;TZID=America/Mexico_City:20260309T210000
DTSTAMP:20260423T090022
CREATED:20260112T163356Z
LAST-MODIFIED:20260225T164317Z
UID:10004690-1773086400-1773090000@castillodelreybrisas.com
SUMMARY:Mi Comienzo con Dios
DESCRIPTION:
URL:https://castillodelreybrisas.com/evento/mi-comienzo-con-dios/2026-03-09/
CATEGORIES:Ordinarios
END:VEVENT
BEGIN:VEVENT
DTSTART;TZID=America/Mexico_City:20260310T080000
DTEND;TZID=America/Mexico_City:20260310T083000
DTSTAMP:20260423T090022
CREATED:20241021T183021Z
LAST-MODIFIED:20241021T183026Z
UID:10002090-1773129600-1773131400@castillodelreybrisas.com
SUMMARY:Oración
DESCRIPTION:
URL:https://castillodelreybrisas.com/evento/oracion-2/2026-03-10/
LOCATION:Mini Auditorio
CATEGORIES:Ordinarios
END:VEVENT
BEGIN:VEVENT
DTSTART;TZID=America/Mexico_City:20260311T080000
DTEND;TZID=America/Mexico_City:20260311T083000
DTSTAMP:20260423T090022
CREATED:20241021T183021Z
LAST-MODIFIED:20241021T183026Z
UID:10002091-1773216000-1773217800@castillodelreybrisas.com
SUMMARY:Oración
DESCRIPTION:
URL:https://castillodelreybrisas.com/evento/oracion-2/2026-03-11/
LOCATION:Mini Auditorio
CATEGORIES:Ordinarios
END:VEVENT
BEGIN:VEVENT
DTSTART;TZID=America/Mexico_City:20260312T080000
DTEND;TZID=America/Mexico_City:20260312T083000
DTSTAMP:20260423T090022
CREATED:20241021T183021Z
LAST-MODIFIED:20241021T183026Z
UID:10002092-1773302400-1773304200@castillodelreybrisas.com
SUMMARY:Oración
DESCRIPTION:
URL:https://castillodelreybrisas.com/evento/oracion-2/2026-03-12/
LOCATION:Mini Auditorio
CATEGORIES:Ordinarios
END:VEVENT
BEGIN:VEVENT
DTSTART;TZID=America/Mexico_City:20260313T080000
DTEND;TZID=America/Mexico_City:20260313T083000
DTSTAMP:20260423T090022
CREATED:20241021T183021Z
LAST-MODIFIED:20241021T183026Z
UID:10002093-1773388800-1773390600@castillodelreybrisas.com
SUMMARY:Oración
DESCRIPTION:
URL:https://castillodelreybrisas.com/evento/oracion-2/2026-03-13/
LOCATION:Mini Auditorio
CATEGORIES:Ordinarios
END:VEVENT
BEGIN:VEVENT
DTSTART;TZID=America/Mexico_City:20260314T180000
DTEND;TZID=America/Mexico_City:20260314T200000
DTSTAMP:20260423T090022
CREATED:20240811T154100Z
LAST-MODIFIED:20250508T172554Z
UID:10000088-1773511200-1773518400@castillodelreybrisas.com
SUMMARY:Jóvenes de Brisas
DESCRIPTION:
URL:https://castillodelreybrisas.com/evento/reunion-de-jovenes/2026-03-14/
LOCATION:Mini Auditorio
CATEGORIES:Ordinarios
END:VEVENT
BEGIN:VEVENT
DTSTART;TZID=America/Mexico_City:20260315T100000
DTEND;TZID=America/Mexico_City:20260315T113000
DTSTAMP:20260423T090022
CREATED:20241022T161633Z
LAST-MODIFIED:20241215T005141Z
UID:10003485-1773568800-1773574200@castillodelreybrisas.com
SUMMARY:Primera Reunión Dominical
DESCRIPTION:
URL:https://castillodelreybrisas.com/evento/primera-reunion-dominical/2026-03-15/
LOCATION:Castillo del Rey Brisas\, Castillo del Rey Brisas\, Monterrey\, Nuevo León\, 64764\, Mexico
CATEGORIES:Ordinarios
END:VEVENT
BEGIN:VEVENT
DTSTART;TZID=America/Mexico_City:20260315T123000
DTEND;TZID=America/Mexico_City:20260315T140000
DTSTAMP:20260423T090022
CREATED:20241022T162004Z
LAST-MODIFIED:20241215T005226Z
UID:10004268-1773577800-1773583200@castillodelreybrisas.com
SUMMARY:Segunda Reunión Dominical
DESCRIPTION:
URL:https://castillodelreybrisas.com/evento/segunda-reunion-dominical/2026-03-15/
LOCATION:Castillo del Rey Brisas\, Castillo del Rey Brisas\, Monterrey\, Nuevo León\, 64764\, Mexico
CATEGORIES:Ordinarios
END:VEVENT
BEGIN:VEVENT
DTSTART;TZID=America/Mexico_City:20260316T080000
DTEND;TZID=America/Mexico_City:20260316T083000
DTSTAMP:20260423T090022
CREATED:20241021T183021Z
LAST-MODIFIED:20241021T183026Z
UID:10002096-1773648000-1773649800@castillodelreybrisas.com
SUMMARY:Oración
DESCRIPTION:
URL:https://castillodelreybrisas.com/evento/oracion-2/2026-03-16/
LOCATION:Mini Auditorio
CATEGORIES:Ordinarios
END:VEVENT
BEGIN:VEVENT
DTSTART;TZID=America/Mexico_City:20260316T200000
DTEND;TZID=America/Mexico_City:20260316T210000
DTSTAMP:20260423T090022
CREATED:20260112T163356Z
LAST-MODIFIED:20260225T164317Z
UID:10004691-1773691200-1773694800@castillodelreybrisas.com
SUMMARY:Mi Comienzo con Dios
DESCRIPTION:
URL:https://castillodelreybrisas.com/evento/mi-comienzo-con-dios/2026-03-16/
CATEGORIES:Ordinarios
END:VEVENT
BEGIN:VEVENT
DTSTART;TZID=America/Mexico_City:20260317T080000
DTEND;TZID=America/Mexico_City:20260317T083000
DTSTAMP:20260423T090022
CREATED:20241021T183021Z
LAST-MODIFIED:20241021T183026Z
UID:10002097-1773734400-1773736200@castillodelreybrisas.com
SUMMARY:Oración
DESCRIPTION:
URL:https://castillodelreybrisas.com/evento/oracion-2/2026-03-17/
LOCATION:Mini Auditorio
CATEGORIES:Ordinarios
END:VEVENT
BEGIN:VEVENT
DTSTART;TZID=America/Mexico_City:20260318T080000
DTEND;TZID=America/Mexico_City:20260318T083000
DTSTAMP:20260423T090022
CREATED:20241021T183021Z
LAST-MODIFIED:20241021T183026Z
UID:10002098-1773820800-1773822600@castillodelreybrisas.com
SUMMARY:Oración
DESCRIPTION:
URL:https://castillodelreybrisas.com/evento/oracion-2/2026-03-18/
LOCATION:Mini Auditorio
CATEGORIES:Ordinarios
END:VEVENT
BEGIN:VEVENT
DTSTART;TZID=America/Mexico_City:20260319T080000
DTEND;TZID=America/Mexico_City:20260319T083000
DTSTAMP:20260423T090022
CREATED:20241021T183021Z
LAST-MODIFIED:20241021T183026Z
UID:10002099-1773907200-1773909000@castillodelreybrisas.com
SUMMARY:Oración
DESCRIPTION:
URL:https://castillodelreybrisas.com/evento/oracion-2/2026-03-19/
LOCATION:Mini Auditorio
CATEGORIES:Ordinarios
END:VEVENT
BEGIN:VEVENT
DTSTART;TZID=America/Mexico_City:20260320T080000
DTEND;TZID=America/Mexico_City:20260320T083000
DTSTAMP:20260423T090022
CREATED:20241021T183021Z
LAST-MODIFIED:20241021T183026Z
UID:10002100-1773993600-1773995400@castillodelreybrisas.com
SUMMARY:Oración
DESCRIPTION:
URL:https://castillodelreybrisas.com/evento/oracion-2/2026-03-20/
LOCATION:Mini Auditorio
CATEGORIES:Ordinarios
END:VEVENT
BEGIN:VEVENT
DTSTART;TZID=America/Mexico_City:20260321T180000
DTEND;TZID=America/Mexico_City:20260321T200000
DTSTAMP:20260423T090022
CREATED:20240811T154100Z
LAST-MODIFIED:20250508T172554Z
UID:10000089-1774116000-1774123200@castillodelreybrisas.com
SUMMARY:Jóvenes de Brisas
DESCRIPTION:
URL:https://castillodelreybrisas.com/evento/reunion-de-jovenes/2026-03-21/
LOCATION:Mini Auditorio
CATEGORIES:Ordinarios
END:VEVENT
BEGIN:VEVENT
DTSTART;TZID=America/Mexico_City:20260322T100000
DTEND;TZID=America/Mexico_City:20260322T113000
DTSTAMP:20260423T090022
CREATED:20241022T161633Z
LAST-MODIFIED:20241215T005141Z
UID:10003486-1774173600-1774179000@castillodelreybrisas.com
SUMMARY:Primera Reunión Dominical
DESCRIPTION:
URL:https://castillodelreybrisas.com/evento/primera-reunion-dominical/2026-03-22/
LOCATION:Castillo del Rey Brisas\, Castillo del Rey Brisas\, Monterrey\, Nuevo León\, 64764\, Mexico
CATEGORIES:Ordinarios
END:VEVENT
BEGIN:VEVENT
DTSTART;TZID=America/Mexico_City:20260322T123000
DTEND;TZID=America/Mexico_City:20260322T140000
DTSTAMP:20260423T090022
CREATED:20241022T162004Z
LAST-MODIFIED:20241215T005226Z
UID:10004269-1774182600-1774188000@castillodelreybrisas.com
SUMMARY:Segunda Reunión Dominical
DESCRIPTION:
URL:https://castillodelreybrisas.com/evento/segunda-reunion-dominical/2026-03-22/
LOCATION:Castillo del Rey Brisas\, Castillo del Rey Brisas\, Monterrey\, Nuevo León\, 64764\, Mexico
CATEGORIES:Ordinarios
END:VEVENT
BEGIN:VEVENT
DTSTART;TZID=America/Mexico_City:20260323T080000
DTEND;TZID=America/Mexico_City:20260323T083000
DTSTAMP:20260423T090022
CREATED:20241021T183021Z
LAST-MODIFIED:20241021T183026Z
UID:10002103-1774252800-1774254600@castillodelreybrisas.com
SUMMARY:Oración
DESCRIPTION:
URL:https://castillodelreybrisas.com/evento/oracion-2/2026-03-23/
LOCATION:Mini Auditorio
CATEGORIES:Ordinarios
END:VEVENT
END:VCALENDAR