BEGIN:VCALENDAR
VERSION:2.0
PRODID:-//Castillo del Rey Brisas - ECPv6.15.16//NONSGML v1.0//EN
CALSCALE:GREGORIAN
METHOD:PUBLISH
X-WR-CALNAME:Castillo del Rey Brisas
X-ORIGINAL-URL:https://castillodelreybrisas.com
X-WR-CALDESC:Eventos para Castillo del Rey Brisas
REFRESH-INTERVAL;VALUE=DURATION:PT1H
X-Robots-Tag:noindex
X-PUBLISHED-TTL:PT1H
BEGIN:VTIMEZONE
TZID:America/Mexico_City
BEGIN:STANDARD
TZOFFSETFROM:-0600
TZOFFSETTO:-0600
TZNAME:CST
DTSTART:20240101T000000
END:STANDARD
END:VTIMEZONE
BEGIN:VEVENT
DTSTART;TZID=America/Mexico_City:20251201T080000
DTEND;TZID=America/Mexico_City:20251201T083000
DTSTAMP:20260423T130448
CREATED:20241021T183021Z
LAST-MODIFIED:20241021T183026Z
UID:10001991-1764576000-1764577800@castillodelreybrisas.com
SUMMARY:Oración
DESCRIPTION:
URL:https://castillodelreybrisas.com/evento/oracion-2/2025-12-01/
LOCATION:Mini Auditorio
CATEGORIES:Ordinarios
END:VEVENT
BEGIN:VEVENT
DTSTART;TZID=America/Mexico_City:20251202T080000
DTEND;TZID=America/Mexico_City:20251202T083000
DTSTAMP:20260423T130448
CREATED:20241021T183021Z
LAST-MODIFIED:20241021T183026Z
UID:10001992-1764662400-1764664200@castillodelreybrisas.com
SUMMARY:Oración
DESCRIPTION:
URL:https://castillodelreybrisas.com/evento/oracion-2/2025-12-02/
LOCATION:Mini Auditorio
CATEGORIES:Ordinarios
END:VEVENT
BEGIN:VEVENT
DTSTART;TZID=America/Mexico_City:20251203T080000
DTEND;TZID=America/Mexico_City:20251203T083000
DTSTAMP:20260423T130449
CREATED:20241021T183021Z
LAST-MODIFIED:20241021T183026Z
UID:10001993-1764748800-1764750600@castillodelreybrisas.com
SUMMARY:Oración
DESCRIPTION:
URL:https://castillodelreybrisas.com/evento/oracion-2/2025-12-03/
LOCATION:Mini Auditorio
CATEGORIES:Ordinarios
END:VEVENT
BEGIN:VEVENT
DTSTART;TZID=America/Mexico_City:20251204T080000
DTEND;TZID=America/Mexico_City:20251204T083000
DTSTAMP:20260423T130449
CREATED:20241021T183021Z
LAST-MODIFIED:20241021T183026Z
UID:10001994-1764835200-1764837000@castillodelreybrisas.com
SUMMARY:Oración
DESCRIPTION:
URL:https://castillodelreybrisas.com/evento/oracion-2/2025-12-04/
LOCATION:Mini Auditorio
CATEGORIES:Ordinarios
END:VEVENT
BEGIN:VEVENT
DTSTART;TZID=America/Mexico_City:20251205T080000
DTEND;TZID=America/Mexico_City:20251205T083000
DTSTAMP:20260423T130449
CREATED:20241021T183021Z
LAST-MODIFIED:20241021T183026Z
UID:10001995-1764921600-1764923400@castillodelreybrisas.com
SUMMARY:Oración
DESCRIPTION:
URL:https://castillodelreybrisas.com/evento/oracion-2/2025-12-05/
LOCATION:Mini Auditorio
CATEGORIES:Ordinarios
END:VEVENT
BEGIN:VEVENT
DTSTART;TZID=America/Mexico_City:20251206T180000
DTEND;TZID=America/Mexico_City:20251206T200000
DTSTAMP:20260423T130449
CREATED:20240811T154100Z
LAST-MODIFIED:20250508T172554Z
UID:10000074-1765044000-1765051200@castillodelreybrisas.com
SUMMARY:Jóvenes de Brisas
DESCRIPTION:
URL:https://castillodelreybrisas.com/evento/reunion-de-jovenes/2025-12-06/
LOCATION:Mini Auditorio
CATEGORIES:Ordinarios
END:VEVENT
BEGIN:VEVENT
DTSTART;TZID=America/Mexico_City:20251207T100000
DTEND;TZID=America/Mexico_City:20251207T113000
DTSTAMP:20260423T130449
CREATED:20241022T161633Z
LAST-MODIFIED:20241215T005141Z
UID:10003471-1765101600-1765107000@castillodelreybrisas.com
SUMMARY:Primera Reunión Dominical
DESCRIPTION:
URL:https://castillodelreybrisas.com/evento/primera-reunion-dominical/2025-12-07/
LOCATION:Castillo del Rey Brisas\, Castillo del Rey Brisas\, Monterrey\, Nuevo León\, 64764\, Mexico
CATEGORIES:Ordinarios
END:VEVENT
BEGIN:VEVENT
DTSTART;TZID=America/Mexico_City:20251207T123000
DTEND;TZID=America/Mexico_City:20251207T140000
DTSTAMP:20260423T130449
CREATED:20241022T162004Z
LAST-MODIFIED:20241215T005226Z
UID:10004254-1765110600-1765116000@castillodelreybrisas.com
SUMMARY:Segunda Reunión Dominical
DESCRIPTION:
URL:https://castillodelreybrisas.com/evento/segunda-reunion-dominical/2025-12-07/
LOCATION:Castillo del Rey Brisas\, Castillo del Rey Brisas\, Monterrey\, Nuevo León\, 64764\, Mexico
CATEGORIES:Ordinarios
END:VEVENT
BEGIN:VEVENT
DTSTART;TZID=America/Mexico_City:20251208T080000
DTEND;TZID=America/Mexico_City:20251208T083000
DTSTAMP:20260423T130449
CREATED:20241021T183021Z
LAST-MODIFIED:20241021T183026Z
UID:10001998-1765180800-1765182600@castillodelreybrisas.com
SUMMARY:Oración
DESCRIPTION:
URL:https://castillodelreybrisas.com/evento/oracion-2/2025-12-08/
LOCATION:Mini Auditorio
CATEGORIES:Ordinarios
END:VEVENT
BEGIN:VEVENT
DTSTART;TZID=America/Mexico_City:20251209T080000
DTEND;TZID=America/Mexico_City:20251209T083000
DTSTAMP:20260423T130449
CREATED:20241021T183021Z
LAST-MODIFIED:20241021T183026Z
UID:10001999-1765267200-1765269000@castillodelreybrisas.com
SUMMARY:Oración
DESCRIPTION:
URL:https://castillodelreybrisas.com/evento/oracion-2/2025-12-09/
LOCATION:Mini Auditorio
CATEGORIES:Ordinarios
END:VEVENT
BEGIN:VEVENT
DTSTART;TZID=America/Mexico_City:20251210T080000
DTEND;TZID=America/Mexico_City:20251210T083000
DTSTAMP:20260423T130449
CREATED:20241021T183021Z
LAST-MODIFIED:20241021T183026Z
UID:10002000-1765353600-1765355400@castillodelreybrisas.com
SUMMARY:Oración
DESCRIPTION:
URL:https://castillodelreybrisas.com/evento/oracion-2/2025-12-10/
LOCATION:Mini Auditorio
CATEGORIES:Ordinarios
END:VEVENT
BEGIN:VEVENT
DTSTART;TZID=America/Mexico_City:20251211T080000
DTEND;TZID=America/Mexico_City:20251211T083000
DTSTAMP:20260423T130449
CREATED:20241021T183021Z
LAST-MODIFIED:20241021T183026Z
UID:10002001-1765440000-1765441800@castillodelreybrisas.com
SUMMARY:Oración
DESCRIPTION:
URL:https://castillodelreybrisas.com/evento/oracion-2/2025-12-11/
LOCATION:Mini Auditorio
CATEGORIES:Ordinarios
END:VEVENT
BEGIN:VEVENT
DTSTART;TZID=America/Mexico_City:20251212T080000
DTEND;TZID=America/Mexico_City:20251212T083000
DTSTAMP:20260423T130449
CREATED:20241021T183021Z
LAST-MODIFIED:20241021T183026Z
UID:10002002-1765526400-1765528200@castillodelreybrisas.com
SUMMARY:Oración
DESCRIPTION:
URL:https://castillodelreybrisas.com/evento/oracion-2/2025-12-12/
LOCATION:Mini Auditorio
CATEGORIES:Ordinarios
END:VEVENT
BEGIN:VEVENT
DTSTART;TZID=America/Mexico_City:20251213T180000
DTEND;TZID=America/Mexico_City:20251213T200000
DTSTAMP:20260423T130449
CREATED:20240811T154100Z
LAST-MODIFIED:20250508T172554Z
UID:10000075-1765648800-1765656000@castillodelreybrisas.com
SUMMARY:Jóvenes de Brisas
DESCRIPTION:
URL:https://castillodelreybrisas.com/evento/reunion-de-jovenes/2025-12-13/
LOCATION:Mini Auditorio
CATEGORIES:Ordinarios
END:VEVENT
BEGIN:VEVENT
DTSTART;TZID=America/Mexico_City:20251214T100000
DTEND;TZID=America/Mexico_City:20251214T113000
DTSTAMP:20260423T130449
CREATED:20241022T161633Z
LAST-MODIFIED:20241215T005141Z
UID:10003472-1765706400-1765711800@castillodelreybrisas.com
SUMMARY:Primera Reunión Dominical
DESCRIPTION:
URL:https://castillodelreybrisas.com/evento/primera-reunion-dominical/2025-12-14/
LOCATION:Castillo del Rey Brisas\, Castillo del Rey Brisas\, Monterrey\, Nuevo León\, 64764\, Mexico
CATEGORIES:Ordinarios
END:VEVENT
BEGIN:VEVENT
DTSTART;TZID=America/Mexico_City:20251214T123000
DTEND;TZID=America/Mexico_City:20251214T140000
DTSTAMP:20260423T130449
CREATED:20241022T162004Z
LAST-MODIFIED:20241215T005226Z
UID:10004255-1765715400-1765720800@castillodelreybrisas.com
SUMMARY:Segunda Reunión Dominical
DESCRIPTION:
URL:https://castillodelreybrisas.com/evento/segunda-reunion-dominical/2025-12-14/
LOCATION:Castillo del Rey Brisas\, Castillo del Rey Brisas\, Monterrey\, Nuevo León\, 64764\, Mexico
CATEGORIES:Ordinarios
END:VEVENT
BEGIN:VEVENT
DTSTART;TZID=America/Mexico_City:20251215T080000
DTEND;TZID=America/Mexico_City:20251215T083000
DTSTAMP:20260423T130449
CREATED:20241021T183021Z
LAST-MODIFIED:20241021T183026Z
UID:10002005-1765785600-1765787400@castillodelreybrisas.com
SUMMARY:Oración
DESCRIPTION:
URL:https://castillodelreybrisas.com/evento/oracion-2/2025-12-15/
LOCATION:Mini Auditorio
CATEGORIES:Ordinarios
END:VEVENT
BEGIN:VEVENT
DTSTART;TZID=America/Mexico_City:20251216T080000
DTEND;TZID=America/Mexico_City:20251216T083000
DTSTAMP:20260423T130449
CREATED:20241021T183021Z
LAST-MODIFIED:20241021T183026Z
UID:10002006-1765872000-1765873800@castillodelreybrisas.com
SUMMARY:Oración
DESCRIPTION:
URL:https://castillodelreybrisas.com/evento/oracion-2/2025-12-16/
LOCATION:Mini Auditorio
CATEGORIES:Ordinarios
END:VEVENT
BEGIN:VEVENT
DTSTART;TZID=America/Mexico_City:20251217T080000
DTEND;TZID=America/Mexico_City:20251217T083000
DTSTAMP:20260423T130449
CREATED:20241021T183021Z
LAST-MODIFIED:20241021T183026Z
UID:10002007-1765958400-1765960200@castillodelreybrisas.com
SUMMARY:Oración
DESCRIPTION:
URL:https://castillodelreybrisas.com/evento/oracion-2/2025-12-17/
LOCATION:Mini Auditorio
CATEGORIES:Ordinarios
END:VEVENT
BEGIN:VEVENT
DTSTART;TZID=America/Mexico_City:20251218T080000
DTEND;TZID=America/Mexico_City:20251218T083000
DTSTAMP:20260423T130449
CREATED:20241021T183021Z
LAST-MODIFIED:20241021T183026Z
UID:10002008-1766044800-1766046600@castillodelreybrisas.com
SUMMARY:Oración
DESCRIPTION:
URL:https://castillodelreybrisas.com/evento/oracion-2/2025-12-18/
LOCATION:Mini Auditorio
CATEGORIES:Ordinarios
END:VEVENT
BEGIN:VEVENT
DTSTART;TZID=America/Mexico_City:20251219T080000
DTEND;TZID=America/Mexico_City:20251219T083000
DTSTAMP:20260423T130449
CREATED:20241021T183021Z
LAST-MODIFIED:20241021T183026Z
UID:10002009-1766131200-1766133000@castillodelreybrisas.com
SUMMARY:Oración
DESCRIPTION:
URL:https://castillodelreybrisas.com/evento/oracion-2/2025-12-19/
LOCATION:Mini Auditorio
CATEGORIES:Ordinarios
END:VEVENT
BEGIN:VEVENT
DTSTART;TZID=America/Mexico_City:20251220T180000
DTEND;TZID=America/Mexico_City:20251220T200000
DTSTAMP:20260423T130449
CREATED:20240811T154100Z
LAST-MODIFIED:20250508T172554Z
UID:10000076-1766253600-1766260800@castillodelreybrisas.com
SUMMARY:Jóvenes de Brisas
DESCRIPTION:
URL:https://castillodelreybrisas.com/evento/reunion-de-jovenes/2025-12-20/
LOCATION:Mini Auditorio
CATEGORIES:Ordinarios
END:VEVENT
BEGIN:VEVENT
DTSTART;TZID=America/Mexico_City:20251221T100000
DTEND;TZID=America/Mexico_City:20251221T113000
DTSTAMP:20260423T130449
CREATED:20241022T161633Z
LAST-MODIFIED:20241215T005141Z
UID:10003473-1766311200-1766316600@castillodelreybrisas.com
SUMMARY:Primera Reunión Dominical
DESCRIPTION:
URL:https://castillodelreybrisas.com/evento/primera-reunion-dominical/2025-12-21/
LOCATION:Castillo del Rey Brisas\, Castillo del Rey Brisas\, Monterrey\, Nuevo León\, 64764\, Mexico
CATEGORIES:Ordinarios
END:VEVENT
BEGIN:VEVENT
DTSTART;TZID=America/Mexico_City:20251221T123000
DTEND;TZID=America/Mexico_City:20251221T140000
DTSTAMP:20260423T130449
CREATED:20241022T162004Z
LAST-MODIFIED:20241215T005226Z
UID:10004256-1766320200-1766325600@castillodelreybrisas.com
SUMMARY:Segunda Reunión Dominical
DESCRIPTION:
URL:https://castillodelreybrisas.com/evento/segunda-reunion-dominical/2025-12-21/
LOCATION:Castillo del Rey Brisas\, Castillo del Rey Brisas\, Monterrey\, Nuevo León\, 64764\, Mexico
CATEGORIES:Ordinarios
END:VEVENT
BEGIN:VEVENT
DTSTART;TZID=America/Mexico_City:20251222T080000
DTEND;TZID=America/Mexico_City:20251222T083000
DTSTAMP:20260423T130449
CREATED:20241021T183021Z
LAST-MODIFIED:20241021T183026Z
UID:10002012-1766390400-1766392200@castillodelreybrisas.com
SUMMARY:Oración
DESCRIPTION:
URL:https://castillodelreybrisas.com/evento/oracion-2/2025-12-22/
LOCATION:Mini Auditorio
CATEGORIES:Ordinarios
END:VEVENT
BEGIN:VEVENT
DTSTART;TZID=America/Mexico_City:20251223T080000
DTEND;TZID=America/Mexico_City:20251223T083000
DTSTAMP:20260423T130449
CREATED:20241021T183021Z
LAST-MODIFIED:20241021T183026Z
UID:10002013-1766476800-1766478600@castillodelreybrisas.com
SUMMARY:Oración
DESCRIPTION:
URL:https://castillodelreybrisas.com/evento/oracion-2/2025-12-23/
LOCATION:Mini Auditorio
CATEGORIES:Ordinarios
END:VEVENT
BEGIN:VEVENT
DTSTART;TZID=America/Mexico_City:20251224T080000
DTEND;TZID=America/Mexico_City:20251224T083000
DTSTAMP:20260423T130449
CREATED:20241021T183021Z
LAST-MODIFIED:20241021T183026Z
UID:10002014-1766563200-1766565000@castillodelreybrisas.com
SUMMARY:Oración
DESCRIPTION:
URL:https://castillodelreybrisas.com/evento/oracion-2/2025-12-24/
LOCATION:Mini Auditorio
CATEGORIES:Ordinarios
END:VEVENT
BEGIN:VEVENT
DTSTART;TZID=America/Mexico_City:20251225T080000
DTEND;TZID=America/Mexico_City:20251225T083000
DTSTAMP:20260423T130449
CREATED:20241021T183021Z
LAST-MODIFIED:20241021T183026Z
UID:10002015-1766649600-1766651400@castillodelreybrisas.com
SUMMARY:Oración
DESCRIPTION:
URL:https://castillodelreybrisas.com/evento/oracion-2/2025-12-25/
LOCATION:Mini Auditorio
CATEGORIES:Ordinarios
END:VEVENT
BEGIN:VEVENT
DTSTART;TZID=America/Mexico_City:20251226T080000
DTEND;TZID=America/Mexico_City:20251226T083000
DTSTAMP:20260423T130449
CREATED:20241021T183021Z
LAST-MODIFIED:20241021T183026Z
UID:10002016-1766736000-1766737800@castillodelreybrisas.com
SUMMARY:Oración
DESCRIPTION:
URL:https://castillodelreybrisas.com/evento/oracion-2/2025-12-26/
LOCATION:Mini Auditorio
CATEGORIES:Ordinarios
END:VEVENT
BEGIN:VEVENT
DTSTART;TZID=America/Mexico_City:20251227T180000
DTEND;TZID=America/Mexico_City:20251227T200000
DTSTAMP:20260423T130449
CREATED:20240811T154100Z
LAST-MODIFIED:20250508T172554Z
UID:10000077-1766858400-1766865600@castillodelreybrisas.com
SUMMARY:Jóvenes de Brisas
DESCRIPTION:
URL:https://castillodelreybrisas.com/evento/reunion-de-jovenes/2025-12-27/
LOCATION:Mini Auditorio
CATEGORIES:Ordinarios
END:VEVENT
END:VCALENDAR