BEGIN:VCALENDAR
VERSION:2.0
PRODID:-//Castillo del Rey Brisas - ECPv6.15.16//NONSGML v1.0//EN
CALSCALE:GREGORIAN
METHOD:PUBLISH
X-ORIGINAL-URL:https://castillodelreybrisas.com
X-WR-CALDESC:Eventos para Castillo del Rey Brisas
REFRESH-INTERVAL;VALUE=DURATION:PT1H
X-Robots-Tag:noindex
X-PUBLISHED-TTL:PT1H
BEGIN:VTIMEZONE
TZID:America/Mexico_City
BEGIN:STANDARD
TZOFFSETFROM:-0600
TZOFFSETTO:-0600
TZNAME:CST
DTSTART:20240101T000000
END:STANDARD
END:VTIMEZONE
BEGIN:VEVENT
DTSTART;TZID=America/Mexico_City:20251101T180000
DTEND;TZID=America/Mexico_City:20251101T200000
DTSTAMP:20260423T143227
CREATED:20240811T154100Z
LAST-MODIFIED:20250508T172554Z
UID:10000069-1762020000-1762027200@castillodelreybrisas.com
SUMMARY:Jóvenes de Brisas
DESCRIPTION:
URL:https://castillodelreybrisas.com/evento/reunion-de-jovenes/2025-11-01/
LOCATION:Mini Auditorio
CATEGORIES:Ordinarios
END:VEVENT
BEGIN:VEVENT
DTSTART;TZID=America/Mexico_City:20251102T100000
DTEND;TZID=America/Mexico_City:20251102T113000
DTSTAMP:20260423T143227
CREATED:20241022T161633Z
LAST-MODIFIED:20241215T005141Z
UID:10003466-1762077600-1762083000@castillodelreybrisas.com
SUMMARY:Primera Reunión Dominical
DESCRIPTION:
URL:https://castillodelreybrisas.com/evento/primera-reunion-dominical/2025-11-02/
LOCATION:Castillo del Rey Brisas\, Castillo del Rey Brisas\, Monterrey\, Nuevo León\, 64764\, Mexico
CATEGORIES:Ordinarios
END:VEVENT
BEGIN:VEVENT
DTSTART;TZID=America/Mexico_City:20251102T123000
DTEND;TZID=America/Mexico_City:20251102T140000
DTSTAMP:20260423T143227
CREATED:20241022T162004Z
LAST-MODIFIED:20241215T005226Z
UID:10004249-1762086600-1762092000@castillodelreybrisas.com
SUMMARY:Segunda Reunión Dominical
DESCRIPTION:
URL:https://castillodelreybrisas.com/evento/segunda-reunion-dominical/2025-11-02/
LOCATION:Castillo del Rey Brisas\, Castillo del Rey Brisas\, Monterrey\, Nuevo León\, 64764\, Mexico
CATEGORIES:Ordinarios
END:VEVENT
BEGIN:VEVENT
DTSTART;TZID=America/Mexico_City:20251103T080000
DTEND;TZID=America/Mexico_City:20251103T083000
DTSTAMP:20260423T143227
CREATED:20241021T183021Z
LAST-MODIFIED:20241021T183026Z
UID:10001963-1762156800-1762158600@castillodelreybrisas.com
SUMMARY:Oración
DESCRIPTION:
URL:https://castillodelreybrisas.com/evento/oracion-2/2025-11-03/
LOCATION:Mini Auditorio
CATEGORIES:Ordinarios
END:VEVENT
BEGIN:VEVENT
DTSTART;TZID=America/Mexico_City:20251104T080000
DTEND;TZID=America/Mexico_City:20251104T083000
DTSTAMP:20260423T143227
CREATED:20241021T183021Z
LAST-MODIFIED:20241021T183026Z
UID:10001964-1762243200-1762245000@castillodelreybrisas.com
SUMMARY:Oración
DESCRIPTION:
URL:https://castillodelreybrisas.com/evento/oracion-2/2025-11-04/
LOCATION:Mini Auditorio
CATEGORIES:Ordinarios
END:VEVENT
BEGIN:VEVENT
DTSTART;TZID=America/Mexico_City:20251105T080000
DTEND;TZID=America/Mexico_City:20251105T083000
DTSTAMP:20260423T143227
CREATED:20241021T183021Z
LAST-MODIFIED:20241021T183026Z
UID:10001965-1762329600-1762331400@castillodelreybrisas.com
SUMMARY:Oración
DESCRIPTION:
URL:https://castillodelreybrisas.com/evento/oracion-2/2025-11-05/
LOCATION:Mini Auditorio
CATEGORIES:Ordinarios
END:VEVENT
BEGIN:VEVENT
DTSTART;TZID=America/Mexico_City:20251106T080000
DTEND;TZID=America/Mexico_City:20251106T083000
DTSTAMP:20260423T143227
CREATED:20241021T183021Z
LAST-MODIFIED:20241021T183026Z
UID:10001966-1762416000-1762417800@castillodelreybrisas.com
SUMMARY:Oración
DESCRIPTION:
URL:https://castillodelreybrisas.com/evento/oracion-2/2025-11-06/
LOCATION:Mini Auditorio
CATEGORIES:Ordinarios
END:VEVENT
BEGIN:VEVENT
DTSTART;TZID=America/Mexico_City:20251107T080000
DTEND;TZID=America/Mexico_City:20251107T083000
DTSTAMP:20260423T143227
CREATED:20241021T183021Z
LAST-MODIFIED:20241021T183026Z
UID:10001967-1762502400-1762504200@castillodelreybrisas.com
SUMMARY:Oración
DESCRIPTION:
URL:https://castillodelreybrisas.com/evento/oracion-2/2025-11-07/
LOCATION:Mini Auditorio
CATEGORIES:Ordinarios
END:VEVENT
BEGIN:VEVENT
DTSTART;TZID=America/Mexico_City:20251108T180000
DTEND;TZID=America/Mexico_City:20251108T200000
DTSTAMP:20260423T143227
CREATED:20240811T154100Z
LAST-MODIFIED:20250508T172554Z
UID:10000070-1762624800-1762632000@castillodelreybrisas.com
SUMMARY:Jóvenes de Brisas
DESCRIPTION:
URL:https://castillodelreybrisas.com/evento/reunion-de-jovenes/2025-11-08/
LOCATION:Mini Auditorio
CATEGORIES:Ordinarios
END:VEVENT
BEGIN:VEVENT
DTSTART;TZID=America/Mexico_City:20251109T100000
DTEND;TZID=America/Mexico_City:20251109T113000
DTSTAMP:20260423T143227
CREATED:20241022T161633Z
LAST-MODIFIED:20241215T005141Z
UID:10003467-1762682400-1762687800@castillodelreybrisas.com
SUMMARY:Primera Reunión Dominical
DESCRIPTION:
URL:https://castillodelreybrisas.com/evento/primera-reunion-dominical/2025-11-09/
LOCATION:Castillo del Rey Brisas\, Castillo del Rey Brisas\, Monterrey\, Nuevo León\, 64764\, Mexico
CATEGORIES:Ordinarios
END:VEVENT
BEGIN:VEVENT
DTSTART;TZID=America/Mexico_City:20251109T123000
DTEND;TZID=America/Mexico_City:20251109T140000
DTSTAMP:20260423T143227
CREATED:20241022T162004Z
LAST-MODIFIED:20241215T005226Z
UID:10004250-1762691400-1762696800@castillodelreybrisas.com
SUMMARY:Segunda Reunión Dominical
DESCRIPTION:
URL:https://castillodelreybrisas.com/evento/segunda-reunion-dominical/2025-11-09/
LOCATION:Castillo del Rey Brisas\, Castillo del Rey Brisas\, Monterrey\, Nuevo León\, 64764\, Mexico
CATEGORIES:Ordinarios
END:VEVENT
BEGIN:VEVENT
DTSTART;TZID=America/Mexico_City:20251110T080000
DTEND;TZID=America/Mexico_City:20251110T083000
DTSTAMP:20260423T143227
CREATED:20241021T183021Z
LAST-MODIFIED:20241021T183026Z
UID:10001970-1762761600-1762763400@castillodelreybrisas.com
SUMMARY:Oración
DESCRIPTION:
URL:https://castillodelreybrisas.com/evento/oracion-2/2025-11-10/
LOCATION:Mini Auditorio
CATEGORIES:Ordinarios
END:VEVENT
BEGIN:VEVENT
DTSTART;TZID=America/Mexico_City:20251111T080000
DTEND;TZID=America/Mexico_City:20251111T083000
DTSTAMP:20260423T143227
CREATED:20241021T183021Z
LAST-MODIFIED:20241021T183026Z
UID:10001971-1762848000-1762849800@castillodelreybrisas.com
SUMMARY:Oración
DESCRIPTION:
URL:https://castillodelreybrisas.com/evento/oracion-2/2025-11-11/
LOCATION:Mini Auditorio
CATEGORIES:Ordinarios
END:VEVENT
BEGIN:VEVENT
DTSTART;TZID=America/Mexico_City:20251112T080000
DTEND;TZID=America/Mexico_City:20251112T083000
DTSTAMP:20260423T143227
CREATED:20241021T183021Z
LAST-MODIFIED:20241021T183026Z
UID:10001972-1762934400-1762936200@castillodelreybrisas.com
SUMMARY:Oración
DESCRIPTION:
URL:https://castillodelreybrisas.com/evento/oracion-2/2025-11-12/
LOCATION:Mini Auditorio
CATEGORIES:Ordinarios
END:VEVENT
BEGIN:VEVENT
DTSTART;TZID=America/Mexico_City:20251113T080000
DTEND;TZID=America/Mexico_City:20251113T083000
DTSTAMP:20260423T143227
CREATED:20241021T183021Z
LAST-MODIFIED:20241021T183026Z
UID:10001973-1763020800-1763022600@castillodelreybrisas.com
SUMMARY:Oración
DESCRIPTION:
URL:https://castillodelreybrisas.com/evento/oracion-2/2025-11-13/
LOCATION:Mini Auditorio
CATEGORIES:Ordinarios
END:VEVENT
BEGIN:VEVENT
DTSTART;TZID=America/Mexico_City:20251114T080000
DTEND;TZID=America/Mexico_City:20251114T083000
DTSTAMP:20260423T143227
CREATED:20241021T183021Z
LAST-MODIFIED:20241021T183026Z
UID:10001974-1763107200-1763109000@castillodelreybrisas.com
SUMMARY:Oración
DESCRIPTION:
URL:https://castillodelreybrisas.com/evento/oracion-2/2025-11-14/
LOCATION:Mini Auditorio
CATEGORIES:Ordinarios
END:VEVENT
BEGIN:VEVENT
DTSTART;TZID=America/Mexico_City:20251115T180000
DTEND;TZID=America/Mexico_City:20251115T200000
DTSTAMP:20260423T143227
CREATED:20240811T154100Z
LAST-MODIFIED:20250508T172554Z
UID:10000071-1763229600-1763236800@castillodelreybrisas.com
SUMMARY:Jóvenes de Brisas
DESCRIPTION:
URL:https://castillodelreybrisas.com/evento/reunion-de-jovenes/2025-11-15/
LOCATION:Mini Auditorio
CATEGORIES:Ordinarios
END:VEVENT
BEGIN:VEVENT
DTSTART;TZID=America/Mexico_City:20251116T100000
DTEND;TZID=America/Mexico_City:20251116T113000
DTSTAMP:20260423T143227
CREATED:20241022T161633Z
LAST-MODIFIED:20241215T005141Z
UID:10003468-1763287200-1763292600@castillodelreybrisas.com
SUMMARY:Primera Reunión Dominical
DESCRIPTION:
URL:https://castillodelreybrisas.com/evento/primera-reunion-dominical/2025-11-16/
LOCATION:Castillo del Rey Brisas\, Castillo del Rey Brisas\, Monterrey\, Nuevo León\, 64764\, Mexico
CATEGORIES:Ordinarios
END:VEVENT
BEGIN:VEVENT
DTSTART;TZID=America/Mexico_City:20251116T123000
DTEND;TZID=America/Mexico_City:20251116T140000
DTSTAMP:20260423T143227
CREATED:20241022T162004Z
LAST-MODIFIED:20241215T005226Z
UID:10004251-1763296200-1763301600@castillodelreybrisas.com
SUMMARY:Segunda Reunión Dominical
DESCRIPTION:
URL:https://castillodelreybrisas.com/evento/segunda-reunion-dominical/2025-11-16/
LOCATION:Castillo del Rey Brisas\, Castillo del Rey Brisas\, Monterrey\, Nuevo León\, 64764\, Mexico
CATEGORIES:Ordinarios
END:VEVENT
BEGIN:VEVENT
DTSTART;TZID=America/Mexico_City:20251117T080000
DTEND;TZID=America/Mexico_City:20251117T083000
DTSTAMP:20260423T143227
CREATED:20241021T183021Z
LAST-MODIFIED:20241021T183026Z
UID:10001977-1763366400-1763368200@castillodelreybrisas.com
SUMMARY:Oración
DESCRIPTION:
URL:https://castillodelreybrisas.com/evento/oracion-2/2025-11-17/
LOCATION:Mini Auditorio
CATEGORIES:Ordinarios
END:VEVENT
BEGIN:VEVENT
DTSTART;TZID=America/Mexico_City:20251118T080000
DTEND;TZID=America/Mexico_City:20251118T083000
DTSTAMP:20260423T143227
CREATED:20241021T183021Z
LAST-MODIFIED:20241021T183026Z
UID:10001978-1763452800-1763454600@castillodelreybrisas.com
SUMMARY:Oración
DESCRIPTION:
URL:https://castillodelreybrisas.com/evento/oracion-2/2025-11-18/
LOCATION:Mini Auditorio
CATEGORIES:Ordinarios
END:VEVENT
BEGIN:VEVENT
DTSTART;TZID=America/Mexico_City:20251119T080000
DTEND;TZID=America/Mexico_City:20251119T083000
DTSTAMP:20260423T143227
CREATED:20241021T183021Z
LAST-MODIFIED:20241021T183026Z
UID:10001979-1763539200-1763541000@castillodelreybrisas.com
SUMMARY:Oración
DESCRIPTION:
URL:https://castillodelreybrisas.com/evento/oracion-2/2025-11-19/
LOCATION:Mini Auditorio
CATEGORIES:Ordinarios
END:VEVENT
BEGIN:VEVENT
DTSTART;TZID=America/Mexico_City:20251120T080000
DTEND;TZID=America/Mexico_City:20251120T083000
DTSTAMP:20260423T143227
CREATED:20241021T183021Z
LAST-MODIFIED:20241021T183026Z
UID:10001980-1763625600-1763627400@castillodelreybrisas.com
SUMMARY:Oración
DESCRIPTION:
URL:https://castillodelreybrisas.com/evento/oracion-2/2025-11-20/
LOCATION:Mini Auditorio
CATEGORIES:Ordinarios
END:VEVENT
BEGIN:VEVENT
DTSTART;TZID=America/Mexico_City:20251121T080000
DTEND;TZID=America/Mexico_City:20251121T083000
DTSTAMP:20260423T143227
CREATED:20241021T183021Z
LAST-MODIFIED:20241021T183026Z
UID:10001981-1763712000-1763713800@castillodelreybrisas.com
SUMMARY:Oración
DESCRIPTION:
URL:https://castillodelreybrisas.com/evento/oracion-2/2025-11-21/
LOCATION:Mini Auditorio
CATEGORIES:Ordinarios
END:VEVENT
BEGIN:VEVENT
DTSTART;TZID=America/Mexico_City:20251122T180000
DTEND;TZID=America/Mexico_City:20251122T200000
DTSTAMP:20260423T143227
CREATED:20240811T154100Z
LAST-MODIFIED:20250508T172554Z
UID:10000072-1763834400-1763841600@castillodelreybrisas.com
SUMMARY:Jóvenes de Brisas
DESCRIPTION:
URL:https://castillodelreybrisas.com/evento/reunion-de-jovenes/2025-11-22/
LOCATION:Mini Auditorio
CATEGORIES:Ordinarios
END:VEVENT
BEGIN:VEVENT
DTSTART;TZID=America/Mexico_City:20251123T100000
DTEND;TZID=America/Mexico_City:20251123T113000
DTSTAMP:20260423T143227
CREATED:20241022T161633Z
LAST-MODIFIED:20241215T005141Z
UID:10003469-1763892000-1763897400@castillodelreybrisas.com
SUMMARY:Primera Reunión Dominical
DESCRIPTION:
URL:https://castillodelreybrisas.com/evento/primera-reunion-dominical/2025-11-23/
LOCATION:Castillo del Rey Brisas\, Castillo del Rey Brisas\, Monterrey\, Nuevo León\, 64764\, Mexico
CATEGORIES:Ordinarios
END:VEVENT
BEGIN:VEVENT
DTSTART;TZID=America/Mexico_City:20251123T123000
DTEND;TZID=America/Mexico_City:20251123T140000
DTSTAMP:20260423T143227
CREATED:20241022T162004Z
LAST-MODIFIED:20241215T005226Z
UID:10004252-1763901000-1763906400@castillodelreybrisas.com
SUMMARY:Segunda Reunión Dominical
DESCRIPTION:
URL:https://castillodelreybrisas.com/evento/segunda-reunion-dominical/2025-11-23/
LOCATION:Castillo del Rey Brisas\, Castillo del Rey Brisas\, Monterrey\, Nuevo León\, 64764\, Mexico
CATEGORIES:Ordinarios
END:VEVENT
BEGIN:VEVENT
DTSTART;TZID=America/Mexico_City:20251124T080000
DTEND;TZID=America/Mexico_City:20251124T083000
DTSTAMP:20260423T143227
CREATED:20241021T183021Z
LAST-MODIFIED:20241021T183026Z
UID:10001984-1763971200-1763973000@castillodelreybrisas.com
SUMMARY:Oración
DESCRIPTION:
URL:https://castillodelreybrisas.com/evento/oracion-2/2025-11-24/
LOCATION:Mini Auditorio
CATEGORIES:Ordinarios
END:VEVENT
BEGIN:VEVENT
DTSTART;TZID=America/Mexico_City:20251125T080000
DTEND;TZID=America/Mexico_City:20251125T083000
DTSTAMP:20260423T143227
CREATED:20241021T183021Z
LAST-MODIFIED:20241021T183026Z
UID:10001985-1764057600-1764059400@castillodelreybrisas.com
SUMMARY:Oración
DESCRIPTION:
URL:https://castillodelreybrisas.com/evento/oracion-2/2025-11-25/
LOCATION:Mini Auditorio
CATEGORIES:Ordinarios
END:VEVENT
BEGIN:VEVENT
DTSTART;TZID=America/Mexico_City:20251126T080000
DTEND;TZID=America/Mexico_City:20251126T083000
DTSTAMP:20260423T143227
CREATED:20241021T183021Z
LAST-MODIFIED:20241021T183026Z
UID:10001986-1764144000-1764145800@castillodelreybrisas.com
SUMMARY:Oración
DESCRIPTION:
URL:https://castillodelreybrisas.com/evento/oracion-2/2025-11-26/
LOCATION:Mini Auditorio
CATEGORIES:Ordinarios
END:VEVENT
END:VCALENDAR