BEGIN:VCALENDAR
VERSION:2.0
PRODID:-//Castillo del Rey Brisas - ECPv6.15.16//NONSGML v1.0//EN
CALSCALE:GREGORIAN
METHOD:PUBLISH
X-ORIGINAL-URL:https://castillodelreybrisas.com
X-WR-CALDESC:Eventos para Castillo del Rey Brisas
REFRESH-INTERVAL;VALUE=DURATION:PT1H
X-Robots-Tag:noindex
X-PUBLISHED-TTL:PT1H
BEGIN:VTIMEZONE
TZID:America/Mexico_City
BEGIN:STANDARD
TZOFFSETFROM:-0600
TZOFFSETTO:-0600
TZNAME:CST
DTSTART:20240101T000000
END:STANDARD
END:VTIMEZONE
BEGIN:VEVENT
DTSTART;TZID=America/Mexico_City:20251001T080000
DTEND;TZID=America/Mexico_City:20251001T083000
DTSTAMP:20260423T170021
CREATED:20241021T183021Z
LAST-MODIFIED:20241021T183026Z
UID:10001930-1759305600-1759307400@castillodelreybrisas.com
SUMMARY:Oración
DESCRIPTION:
URL:https://castillodelreybrisas.com/evento/oracion-2/2025-10-01/
LOCATION:Mini Auditorio
CATEGORIES:Ordinarios
END:VEVENT
BEGIN:VEVENT
DTSTART;TZID=America/Mexico_City:20251002T080000
DTEND;TZID=America/Mexico_City:20251002T083000
DTSTAMP:20260423T170021
CREATED:20241021T183021Z
LAST-MODIFIED:20241021T183026Z
UID:10001931-1759392000-1759393800@castillodelreybrisas.com
SUMMARY:Oración
DESCRIPTION:
URL:https://castillodelreybrisas.com/evento/oracion-2/2025-10-02/
LOCATION:Mini Auditorio
CATEGORIES:Ordinarios
END:VEVENT
BEGIN:VEVENT
DTSTART;TZID=America/Mexico_City:20251003T080000
DTEND;TZID=America/Mexico_City:20251003T083000
DTSTAMP:20260423T170021
CREATED:20241021T183021Z
LAST-MODIFIED:20241021T183026Z
UID:10001932-1759478400-1759480200@castillodelreybrisas.com
SUMMARY:Oración
DESCRIPTION:
URL:https://castillodelreybrisas.com/evento/oracion-2/2025-10-03/
LOCATION:Mini Auditorio
CATEGORIES:Ordinarios
END:VEVENT
BEGIN:VEVENT
DTSTART;TZID=America/Mexico_City:20251004T180000
DTEND;TZID=America/Mexico_City:20251004T200000
DTSTAMP:20260423T170021
CREATED:20240811T154100Z
LAST-MODIFIED:20250508T172554Z
UID:10000065-1759600800-1759608000@castillodelreybrisas.com
SUMMARY:Jóvenes de Brisas
DESCRIPTION:
URL:https://castillodelreybrisas.com/evento/reunion-de-jovenes/2025-10-04/
LOCATION:Mini Auditorio
CATEGORIES:Ordinarios
END:VEVENT
BEGIN:VEVENT
DTSTART;TZID=America/Mexico_City:20251005T100000
DTEND;TZID=America/Mexico_City:20251005T113000
DTSTAMP:20260423T170021
CREATED:20241022T161633Z
LAST-MODIFIED:20241215T005141Z
UID:10003462-1759658400-1759663800@castillodelreybrisas.com
SUMMARY:Primera Reunión Dominical
DESCRIPTION:
URL:https://castillodelreybrisas.com/evento/primera-reunion-dominical/2025-10-05/
LOCATION:Castillo del Rey Brisas\, Castillo del Rey Brisas\, Monterrey\, Nuevo León\, 64764\, Mexico
CATEGORIES:Ordinarios
END:VEVENT
BEGIN:VEVENT
DTSTART;TZID=America/Mexico_City:20251005T123000
DTEND;TZID=America/Mexico_City:20251005T140000
DTSTAMP:20260423T170021
CREATED:20241022T162004Z
LAST-MODIFIED:20241215T005226Z
UID:10004245-1759667400-1759672800@castillodelreybrisas.com
SUMMARY:Segunda Reunión Dominical
DESCRIPTION:
URL:https://castillodelreybrisas.com/evento/segunda-reunion-dominical/2025-10-05/
LOCATION:Castillo del Rey Brisas\, Castillo del Rey Brisas\, Monterrey\, Nuevo León\, 64764\, Mexico
CATEGORIES:Ordinarios
END:VEVENT
BEGIN:VEVENT
DTSTART;TZID=America/Mexico_City:20251006T080000
DTEND;TZID=America/Mexico_City:20251006T083000
DTSTAMP:20260423T170021
CREATED:20241021T183021Z
LAST-MODIFIED:20241021T183026Z
UID:10001935-1759737600-1759739400@castillodelreybrisas.com
SUMMARY:Oración
DESCRIPTION:
URL:https://castillodelreybrisas.com/evento/oracion-2/2025-10-06/
LOCATION:Mini Auditorio
CATEGORIES:Ordinarios
END:VEVENT
BEGIN:VEVENT
DTSTART;TZID=America/Mexico_City:20251007T080000
DTEND;TZID=America/Mexico_City:20251007T083000
DTSTAMP:20260423T170021
CREATED:20241021T183021Z
LAST-MODIFIED:20241021T183026Z
UID:10001936-1759824000-1759825800@castillodelreybrisas.com
SUMMARY:Oración
DESCRIPTION:
URL:https://castillodelreybrisas.com/evento/oracion-2/2025-10-07/
LOCATION:Mini Auditorio
CATEGORIES:Ordinarios
END:VEVENT
BEGIN:VEVENT
DTSTART;TZID=America/Mexico_City:20251008T080000
DTEND;TZID=America/Mexico_City:20251008T083000
DTSTAMP:20260423T170021
CREATED:20241021T183021Z
LAST-MODIFIED:20241021T183026Z
UID:10001937-1759910400-1759912200@castillodelreybrisas.com
SUMMARY:Oración
DESCRIPTION:
URL:https://castillodelreybrisas.com/evento/oracion-2/2025-10-08/
LOCATION:Mini Auditorio
CATEGORIES:Ordinarios
END:VEVENT
BEGIN:VEVENT
DTSTART;TZID=America/Mexico_City:20251009T080000
DTEND;TZID=America/Mexico_City:20251009T083000
DTSTAMP:20260423T170021
CREATED:20241021T183021Z
LAST-MODIFIED:20241021T183026Z
UID:10001938-1759996800-1759998600@castillodelreybrisas.com
SUMMARY:Oración
DESCRIPTION:
URL:https://castillodelreybrisas.com/evento/oracion-2/2025-10-09/
LOCATION:Mini Auditorio
CATEGORIES:Ordinarios
END:VEVENT
BEGIN:VEVENT
DTSTART;TZID=America/Mexico_City:20251010T080000
DTEND;TZID=America/Mexico_City:20251010T083000
DTSTAMP:20260423T170021
CREATED:20241021T183021Z
LAST-MODIFIED:20241021T183026Z
UID:10001939-1760083200-1760085000@castillodelreybrisas.com
SUMMARY:Oración
DESCRIPTION:
URL:https://castillodelreybrisas.com/evento/oracion-2/2025-10-10/
LOCATION:Mini Auditorio
CATEGORIES:Ordinarios
END:VEVENT
BEGIN:VEVENT
DTSTART;TZID=America/Mexico_City:20251011T180000
DTEND;TZID=America/Mexico_City:20251011T200000
DTSTAMP:20260423T170021
CREATED:20240811T154100Z
LAST-MODIFIED:20250508T172554Z
UID:10000066-1760205600-1760212800@castillodelreybrisas.com
SUMMARY:Jóvenes de Brisas
DESCRIPTION:
URL:https://castillodelreybrisas.com/evento/reunion-de-jovenes/2025-10-11/
LOCATION:Mini Auditorio
CATEGORIES:Ordinarios
END:VEVENT
BEGIN:VEVENT
DTSTART;TZID=America/Mexico_City:20251012T100000
DTEND;TZID=America/Mexico_City:20251012T113000
DTSTAMP:20260423T170021
CREATED:20241022T161633Z
LAST-MODIFIED:20241215T005141Z
UID:10003463-1760263200-1760268600@castillodelreybrisas.com
SUMMARY:Primera Reunión Dominical
DESCRIPTION:
URL:https://castillodelreybrisas.com/evento/primera-reunion-dominical/2025-10-12/
LOCATION:Castillo del Rey Brisas\, Castillo del Rey Brisas\, Monterrey\, Nuevo León\, 64764\, Mexico
CATEGORIES:Ordinarios
END:VEVENT
BEGIN:VEVENT
DTSTART;TZID=America/Mexico_City:20251012T123000
DTEND;TZID=America/Mexico_City:20251012T140000
DTSTAMP:20260423T170021
CREATED:20241022T162004Z
LAST-MODIFIED:20241215T005226Z
UID:10004246-1760272200-1760277600@castillodelreybrisas.com
SUMMARY:Segunda Reunión Dominical
DESCRIPTION:
URL:https://castillodelreybrisas.com/evento/segunda-reunion-dominical/2025-10-12/
LOCATION:Castillo del Rey Brisas\, Castillo del Rey Brisas\, Monterrey\, Nuevo León\, 64764\, Mexico
CATEGORIES:Ordinarios
END:VEVENT
BEGIN:VEVENT
DTSTART;TZID=America/Mexico_City:20251013T080000
DTEND;TZID=America/Mexico_City:20251013T083000
DTSTAMP:20260423T170021
CREATED:20241021T183021Z
LAST-MODIFIED:20241021T183026Z
UID:10001942-1760342400-1760344200@castillodelreybrisas.com
SUMMARY:Oración
DESCRIPTION:
URL:https://castillodelreybrisas.com/evento/oracion-2/2025-10-13/
LOCATION:Mini Auditorio
CATEGORIES:Ordinarios
END:VEVENT
BEGIN:VEVENT
DTSTART;TZID=America/Mexico_City:20251014T080000
DTEND;TZID=America/Mexico_City:20251014T083000
DTSTAMP:20260423T170021
CREATED:20241021T183021Z
LAST-MODIFIED:20241021T183026Z
UID:10001943-1760428800-1760430600@castillodelreybrisas.com
SUMMARY:Oración
DESCRIPTION:
URL:https://castillodelreybrisas.com/evento/oracion-2/2025-10-14/
LOCATION:Mini Auditorio
CATEGORIES:Ordinarios
END:VEVENT
BEGIN:VEVENT
DTSTART;TZID=America/Mexico_City:20251015T080000
DTEND;TZID=America/Mexico_City:20251015T083000
DTSTAMP:20260423T170021
CREATED:20241021T183021Z
LAST-MODIFIED:20241021T183026Z
UID:10001944-1760515200-1760517000@castillodelreybrisas.com
SUMMARY:Oración
DESCRIPTION:
URL:https://castillodelreybrisas.com/evento/oracion-2/2025-10-15/
LOCATION:Mini Auditorio
CATEGORIES:Ordinarios
END:VEVENT
BEGIN:VEVENT
DTSTART;TZID=America/Mexico_City:20251016T080000
DTEND;TZID=America/Mexico_City:20251016T083000
DTSTAMP:20260423T170021
CREATED:20241021T183021Z
LAST-MODIFIED:20241021T183026Z
UID:10001945-1760601600-1760603400@castillodelreybrisas.com
SUMMARY:Oración
DESCRIPTION:
URL:https://castillodelreybrisas.com/evento/oracion-2/2025-10-16/
LOCATION:Mini Auditorio
CATEGORIES:Ordinarios
END:VEVENT
BEGIN:VEVENT
DTSTART;TZID=America/Mexico_City:20251017T080000
DTEND;TZID=America/Mexico_City:20251017T083000
DTSTAMP:20260423T170021
CREATED:20241021T183021Z
LAST-MODIFIED:20241021T183026Z
UID:10001946-1760688000-1760689800@castillodelreybrisas.com
SUMMARY:Oración
DESCRIPTION:
URL:https://castillodelreybrisas.com/evento/oracion-2/2025-10-17/
LOCATION:Mini Auditorio
CATEGORIES:Ordinarios
END:VEVENT
BEGIN:VEVENT
DTSTART;TZID=America/Mexico_City:20251018T180000
DTEND;TZID=America/Mexico_City:20251018T200000
DTSTAMP:20260423T170021
CREATED:20240811T154100Z
LAST-MODIFIED:20250508T172554Z
UID:10000067-1760810400-1760817600@castillodelreybrisas.com
SUMMARY:Jóvenes de Brisas
DESCRIPTION:
URL:https://castillodelreybrisas.com/evento/reunion-de-jovenes/2025-10-18/
LOCATION:Mini Auditorio
CATEGORIES:Ordinarios
END:VEVENT
BEGIN:VEVENT
DTSTART;TZID=America/Mexico_City:20251019T100000
DTEND;TZID=America/Mexico_City:20251019T113000
DTSTAMP:20260423T170021
CREATED:20241022T161633Z
LAST-MODIFIED:20241215T005141Z
UID:10003464-1760868000-1760873400@castillodelreybrisas.com
SUMMARY:Primera Reunión Dominical
DESCRIPTION:
URL:https://castillodelreybrisas.com/evento/primera-reunion-dominical/2025-10-19/
LOCATION:Castillo del Rey Brisas\, Castillo del Rey Brisas\, Monterrey\, Nuevo León\, 64764\, Mexico
CATEGORIES:Ordinarios
END:VEVENT
BEGIN:VEVENT
DTSTART;TZID=America/Mexico_City:20251019T123000
DTEND;TZID=America/Mexico_City:20251019T140000
DTSTAMP:20260423T170021
CREATED:20241022T162004Z
LAST-MODIFIED:20241215T005226Z
UID:10004247-1760877000-1760882400@castillodelreybrisas.com
SUMMARY:Segunda Reunión Dominical
DESCRIPTION:
URL:https://castillodelreybrisas.com/evento/segunda-reunion-dominical/2025-10-19/
LOCATION:Castillo del Rey Brisas\, Castillo del Rey Brisas\, Monterrey\, Nuevo León\, 64764\, Mexico
CATEGORIES:Ordinarios
END:VEVENT
BEGIN:VEVENT
DTSTART;TZID=America/Mexico_City:20251020T080000
DTEND;TZID=America/Mexico_City:20251020T083000
DTSTAMP:20260423T170021
CREATED:20241021T183021Z
LAST-MODIFIED:20241021T183026Z
UID:10001949-1760947200-1760949000@castillodelreybrisas.com
SUMMARY:Oración
DESCRIPTION:
URL:https://castillodelreybrisas.com/evento/oracion-2/2025-10-20/
LOCATION:Mini Auditorio
CATEGORIES:Ordinarios
END:VEVENT
BEGIN:VEVENT
DTSTART;TZID=America/Mexico_City:20251021T080000
DTEND;TZID=America/Mexico_City:20251021T083000
DTSTAMP:20260423T170021
CREATED:20241021T183021Z
LAST-MODIFIED:20241021T183026Z
UID:10001950-1761033600-1761035400@castillodelreybrisas.com
SUMMARY:Oración
DESCRIPTION:
URL:https://castillodelreybrisas.com/evento/oracion-2/2025-10-21/
LOCATION:Mini Auditorio
CATEGORIES:Ordinarios
END:VEVENT
BEGIN:VEVENT
DTSTART;TZID=America/Mexico_City:20251022T080000
DTEND;TZID=America/Mexico_City:20251022T083000
DTSTAMP:20260423T170021
CREATED:20241021T183021Z
LAST-MODIFIED:20241021T183026Z
UID:10001951-1761120000-1761121800@castillodelreybrisas.com
SUMMARY:Oración
DESCRIPTION:
URL:https://castillodelreybrisas.com/evento/oracion-2/2025-10-22/
LOCATION:Mini Auditorio
CATEGORIES:Ordinarios
END:VEVENT
BEGIN:VEVENT
DTSTART;TZID=America/Mexico_City:20251023T080000
DTEND;TZID=America/Mexico_City:20251023T083000
DTSTAMP:20260423T170021
CREATED:20241021T183021Z
LAST-MODIFIED:20241021T183026Z
UID:10001952-1761206400-1761208200@castillodelreybrisas.com
SUMMARY:Oración
DESCRIPTION:
URL:https://castillodelreybrisas.com/evento/oracion-2/2025-10-23/
LOCATION:Mini Auditorio
CATEGORIES:Ordinarios
END:VEVENT
BEGIN:VEVENT
DTSTART;TZID=America/Mexico_City:20251024T080000
DTEND;TZID=America/Mexico_City:20251024T083000
DTSTAMP:20260423T170021
CREATED:20241021T183021Z
LAST-MODIFIED:20241021T183026Z
UID:10001953-1761292800-1761294600@castillodelreybrisas.com
SUMMARY:Oración
DESCRIPTION:
URL:https://castillodelreybrisas.com/evento/oracion-2/2025-10-24/
LOCATION:Mini Auditorio
CATEGORIES:Ordinarios
END:VEVENT
BEGIN:VEVENT
DTSTART;TZID=America/Mexico_City:20251025T180000
DTEND;TZID=America/Mexico_City:20251025T200000
DTSTAMP:20260423T170021
CREATED:20240811T154100Z
LAST-MODIFIED:20250508T172554Z
UID:10000068-1761415200-1761422400@castillodelreybrisas.com
SUMMARY:Jóvenes de Brisas
DESCRIPTION:
URL:https://castillodelreybrisas.com/evento/reunion-de-jovenes/2025-10-25/
LOCATION:Mini Auditorio
CATEGORIES:Ordinarios
END:VEVENT
BEGIN:VEVENT
DTSTART;TZID=America/Mexico_City:20251026T100000
DTEND;TZID=America/Mexico_City:20251026T113000
DTSTAMP:20260423T170021
CREATED:20241022T161633Z
LAST-MODIFIED:20241215T005141Z
UID:10003465-1761472800-1761478200@castillodelreybrisas.com
SUMMARY:Primera Reunión Dominical
DESCRIPTION:
URL:https://castillodelreybrisas.com/evento/primera-reunion-dominical/2025-10-26/
LOCATION:Castillo del Rey Brisas\, Castillo del Rey Brisas\, Monterrey\, Nuevo León\, 64764\, Mexico
CATEGORIES:Ordinarios
END:VEVENT
BEGIN:VEVENT
DTSTART;TZID=America/Mexico_City:20251026T123000
DTEND;TZID=America/Mexico_City:20251026T140000
DTSTAMP:20260423T170021
CREATED:20241022T162004Z
LAST-MODIFIED:20241215T005226Z
UID:10004248-1761481800-1761487200@castillodelreybrisas.com
SUMMARY:Segunda Reunión Dominical
DESCRIPTION:
URL:https://castillodelreybrisas.com/evento/segunda-reunion-dominical/2025-10-26/
LOCATION:Castillo del Rey Brisas\, Castillo del Rey Brisas\, Monterrey\, Nuevo León\, 64764\, Mexico
CATEGORIES:Ordinarios
END:VEVENT
END:VCALENDAR