BEGIN:VCALENDAR
VERSION:2.0
PRODID:-//Castillo del Rey Brisas - ECPv6.15.16//NONSGML v1.0//EN
CALSCALE:GREGORIAN
METHOD:PUBLISH
X-ORIGINAL-URL:https://castillodelreybrisas.com
X-WR-CALDESC:Eventos para Castillo del Rey Brisas
REFRESH-INTERVAL;VALUE=DURATION:PT1H
X-Robots-Tag:noindex
X-PUBLISHED-TTL:PT1H
BEGIN:VTIMEZONE
TZID:America/Mexico_City
BEGIN:STANDARD
TZOFFSETFROM:-0600
TZOFFSETTO:-0600
TZNAME:CST
DTSTART:20240101T000000
END:STANDARD
END:VTIMEZONE
BEGIN:VEVENT
DTSTART;TZID=America/Mexico_City:20250801T080000
DTEND;TZID=America/Mexico_City:20250801T083000
DTSTAMP:20260423T181531
CREATED:20241021T183021Z
LAST-MODIFIED:20241021T183026Z
UID:10001869-1754035200-1754037000@castillodelreybrisas.com
SUMMARY:Oración
DESCRIPTION:
URL:https://castillodelreybrisas.com/evento/oracion-2/2025-08-01/
LOCATION:Mini Auditorio
CATEGORIES:Ordinarios
END:VEVENT
BEGIN:VEVENT
DTSTART;TZID=America/Mexico_City:20250802T180000
DTEND;TZID=America/Mexico_City:20250802T200000
DTSTAMP:20260423T181531
CREATED:20240811T154100Z
LAST-MODIFIED:20250508T172554Z
UID:10000056-1754157600-1754164800@castillodelreybrisas.com
SUMMARY:Jóvenes de Brisas
DESCRIPTION:
URL:https://castillodelreybrisas.com/evento/reunion-de-jovenes/2025-08-02/
LOCATION:Mini Auditorio
CATEGORIES:Ordinarios
END:VEVENT
BEGIN:VEVENT
DTSTART;TZID=America/Mexico_City:20250803T100000
DTEND;TZID=America/Mexico_City:20250803T113000
DTSTAMP:20260423T181531
CREATED:20241022T161633Z
LAST-MODIFIED:20241215T005141Z
UID:10003453-1754215200-1754220600@castillodelreybrisas.com
SUMMARY:Primera Reunión Dominical
DESCRIPTION:
URL:https://castillodelreybrisas.com/evento/primera-reunion-dominical/2025-08-03/
LOCATION:Castillo del Rey Brisas\, Castillo del Rey Brisas\, Monterrey\, Nuevo León\, 64764\, Mexico
CATEGORIES:Ordinarios
END:VEVENT
BEGIN:VEVENT
DTSTART;TZID=America/Mexico_City:20250803T123000
DTEND;TZID=America/Mexico_City:20250803T140000
DTSTAMP:20260423T181531
CREATED:20241022T162004Z
LAST-MODIFIED:20241215T005226Z
UID:10004236-1754224200-1754229600@castillodelreybrisas.com
SUMMARY:Segunda Reunión Dominical
DESCRIPTION:
URL:https://castillodelreybrisas.com/evento/segunda-reunion-dominical/2025-08-03/
LOCATION:Castillo del Rey Brisas\, Castillo del Rey Brisas\, Monterrey\, Nuevo León\, 64764\, Mexico
CATEGORIES:Ordinarios
END:VEVENT
BEGIN:VEVENT
DTSTART;TZID=America/Mexico_City:20250804T080000
DTEND;TZID=America/Mexico_City:20250804T083000
DTSTAMP:20260423T181531
CREATED:20241021T183021Z
LAST-MODIFIED:20241021T183026Z
UID:10001872-1754294400-1754296200@castillodelreybrisas.com
SUMMARY:Oración
DESCRIPTION:
URL:https://castillodelreybrisas.com/evento/oracion-2/2025-08-04/
LOCATION:Mini Auditorio
CATEGORIES:Ordinarios
END:VEVENT
BEGIN:VEVENT
DTSTART;TZID=America/Mexico_City:20250805T080000
DTEND;TZID=America/Mexico_City:20250805T083000
DTSTAMP:20260423T181531
CREATED:20241021T183021Z
LAST-MODIFIED:20241021T183026Z
UID:10001873-1754380800-1754382600@castillodelreybrisas.com
SUMMARY:Oración
DESCRIPTION:
URL:https://castillodelreybrisas.com/evento/oracion-2/2025-08-05/
LOCATION:Mini Auditorio
CATEGORIES:Ordinarios
END:VEVENT
BEGIN:VEVENT
DTSTART;TZID=America/Mexico_City:20250806T080000
DTEND;TZID=America/Mexico_City:20250806T083000
DTSTAMP:20260423T181531
CREATED:20241021T183021Z
LAST-MODIFIED:20241021T183026Z
UID:10001874-1754467200-1754469000@castillodelreybrisas.com
SUMMARY:Oración
DESCRIPTION:
URL:https://castillodelreybrisas.com/evento/oracion-2/2025-08-06/
LOCATION:Mini Auditorio
CATEGORIES:Ordinarios
END:VEVENT
BEGIN:VEVENT
DTSTART;TZID=America/Mexico_City:20250807T080000
DTEND;TZID=America/Mexico_City:20250807T083000
DTSTAMP:20260423T181531
CREATED:20241021T183021Z
LAST-MODIFIED:20241021T183026Z
UID:10001875-1754553600-1754555400@castillodelreybrisas.com
SUMMARY:Oración
DESCRIPTION:
URL:https://castillodelreybrisas.com/evento/oracion-2/2025-08-07/
LOCATION:Mini Auditorio
CATEGORIES:Ordinarios
END:VEVENT
BEGIN:VEVENT
DTSTART;TZID=America/Mexico_City:20250808T080000
DTEND;TZID=America/Mexico_City:20250808T083000
DTSTAMP:20260423T181531
CREATED:20241021T183021Z
LAST-MODIFIED:20241021T183026Z
UID:10001876-1754640000-1754641800@castillodelreybrisas.com
SUMMARY:Oración
DESCRIPTION:
URL:https://castillodelreybrisas.com/evento/oracion-2/2025-08-08/
LOCATION:Mini Auditorio
CATEGORIES:Ordinarios
END:VEVENT
BEGIN:VEVENT
DTSTART;TZID=America/Mexico_City:20250809T180000
DTEND;TZID=America/Mexico_City:20250809T200000
DTSTAMP:20260423T181531
CREATED:20240811T154100Z
LAST-MODIFIED:20250508T172554Z
UID:10000057-1754762400-1754769600@castillodelreybrisas.com
SUMMARY:Jóvenes de Brisas
DESCRIPTION:
URL:https://castillodelreybrisas.com/evento/reunion-de-jovenes/2025-08-09/
LOCATION:Mini Auditorio
CATEGORIES:Ordinarios
END:VEVENT
BEGIN:VEVENT
DTSTART;TZID=America/Mexico_City:20250810T100000
DTEND;TZID=America/Mexico_City:20250810T113000
DTSTAMP:20260423T181531
CREATED:20241022T161633Z
LAST-MODIFIED:20241215T005141Z
UID:10003454-1754820000-1754825400@castillodelreybrisas.com
SUMMARY:Primera Reunión Dominical
DESCRIPTION:
URL:https://castillodelreybrisas.com/evento/primera-reunion-dominical/2025-08-10/
LOCATION:Castillo del Rey Brisas\, Castillo del Rey Brisas\, Monterrey\, Nuevo León\, 64764\, Mexico
CATEGORIES:Ordinarios
END:VEVENT
BEGIN:VEVENT
DTSTART;TZID=America/Mexico_City:20250810T123000
DTEND;TZID=America/Mexico_City:20250810T140000
DTSTAMP:20260423T181531
CREATED:20241022T162004Z
LAST-MODIFIED:20241215T005226Z
UID:10004237-1754829000-1754834400@castillodelreybrisas.com
SUMMARY:Segunda Reunión Dominical
DESCRIPTION:
URL:https://castillodelreybrisas.com/evento/segunda-reunion-dominical/2025-08-10/
LOCATION:Castillo del Rey Brisas\, Castillo del Rey Brisas\, Monterrey\, Nuevo León\, 64764\, Mexico
CATEGORIES:Ordinarios
END:VEVENT
BEGIN:VEVENT
DTSTART;TZID=America/Mexico_City:20250811T080000
DTEND;TZID=America/Mexico_City:20250811T083000
DTSTAMP:20260423T181531
CREATED:20241021T183021Z
LAST-MODIFIED:20241021T183026Z
UID:10001879-1754899200-1754901000@castillodelreybrisas.com
SUMMARY:Oración
DESCRIPTION:
URL:https://castillodelreybrisas.com/evento/oracion-2/2025-08-11/
LOCATION:Mini Auditorio
CATEGORIES:Ordinarios
END:VEVENT
BEGIN:VEVENT
DTSTART;TZID=America/Mexico_City:20250812T080000
DTEND;TZID=America/Mexico_City:20250812T083000
DTSTAMP:20260423T181531
CREATED:20241021T183021Z
LAST-MODIFIED:20241021T183026Z
UID:10001880-1754985600-1754987400@castillodelreybrisas.com
SUMMARY:Oración
DESCRIPTION:
URL:https://castillodelreybrisas.com/evento/oracion-2/2025-08-12/
LOCATION:Mini Auditorio
CATEGORIES:Ordinarios
END:VEVENT
BEGIN:VEVENT
DTSTART;TZID=America/Mexico_City:20250813T080000
DTEND;TZID=America/Mexico_City:20250813T083000
DTSTAMP:20260423T181531
CREATED:20241021T183021Z
LAST-MODIFIED:20241021T183026Z
UID:10001881-1755072000-1755073800@castillodelreybrisas.com
SUMMARY:Oración
DESCRIPTION:
URL:https://castillodelreybrisas.com/evento/oracion-2/2025-08-13/
LOCATION:Mini Auditorio
CATEGORIES:Ordinarios
END:VEVENT
BEGIN:VEVENT
DTSTART;TZID=America/Mexico_City:20250814T080000
DTEND;TZID=America/Mexico_City:20250814T083000
DTSTAMP:20260423T181531
CREATED:20241021T183021Z
LAST-MODIFIED:20241021T183026Z
UID:10001882-1755158400-1755160200@castillodelreybrisas.com
SUMMARY:Oración
DESCRIPTION:
URL:https://castillodelreybrisas.com/evento/oracion-2/2025-08-14/
LOCATION:Mini Auditorio
CATEGORIES:Ordinarios
END:VEVENT
BEGIN:VEVENT
DTSTART;TZID=America/Mexico_City:20250815T080000
DTEND;TZID=America/Mexico_City:20250815T083000
DTSTAMP:20260423T181531
CREATED:20241021T183021Z
LAST-MODIFIED:20241021T183026Z
UID:10001883-1755244800-1755246600@castillodelreybrisas.com
SUMMARY:Oración
DESCRIPTION:
URL:https://castillodelreybrisas.com/evento/oracion-2/2025-08-15/
LOCATION:Mini Auditorio
CATEGORIES:Ordinarios
END:VEVENT
BEGIN:VEVENT
DTSTART;TZID=America/Mexico_City:20250816T180000
DTEND;TZID=America/Mexico_City:20250816T200000
DTSTAMP:20260423T181531
CREATED:20240811T154100Z
LAST-MODIFIED:20250508T172554Z
UID:10000058-1755367200-1755374400@castillodelreybrisas.com
SUMMARY:Jóvenes de Brisas
DESCRIPTION:
URL:https://castillodelreybrisas.com/evento/reunion-de-jovenes/2025-08-16/
LOCATION:Mini Auditorio
CATEGORIES:Ordinarios
END:VEVENT
BEGIN:VEVENT
DTSTART;TZID=America/Mexico_City:20250817T100000
DTEND;TZID=America/Mexico_City:20250817T113000
DTSTAMP:20260423T181531
CREATED:20241022T161633Z
LAST-MODIFIED:20241215T005141Z
UID:10003455-1755424800-1755430200@castillodelreybrisas.com
SUMMARY:Primera Reunión Dominical
DESCRIPTION:
URL:https://castillodelreybrisas.com/evento/primera-reunion-dominical/2025-08-17/
LOCATION:Castillo del Rey Brisas\, Castillo del Rey Brisas\, Monterrey\, Nuevo León\, 64764\, Mexico
CATEGORIES:Ordinarios
END:VEVENT
BEGIN:VEVENT
DTSTART;TZID=America/Mexico_City:20250817T123000
DTEND;TZID=America/Mexico_City:20250817T140000
DTSTAMP:20260423T181531
CREATED:20241022T162004Z
LAST-MODIFIED:20241215T005226Z
UID:10004238-1755433800-1755439200@castillodelreybrisas.com
SUMMARY:Segunda Reunión Dominical
DESCRIPTION:
URL:https://castillodelreybrisas.com/evento/segunda-reunion-dominical/2025-08-17/
LOCATION:Castillo del Rey Brisas\, Castillo del Rey Brisas\, Monterrey\, Nuevo León\, 64764\, Mexico
CATEGORIES:Ordinarios
END:VEVENT
BEGIN:VEVENT
DTSTART;TZID=America/Mexico_City:20250818T080000
DTEND;TZID=America/Mexico_City:20250818T083000
DTSTAMP:20260423T181531
CREATED:20241021T183021Z
LAST-MODIFIED:20241021T183026Z
UID:10001886-1755504000-1755505800@castillodelreybrisas.com
SUMMARY:Oración
DESCRIPTION:
URL:https://castillodelreybrisas.com/evento/oracion-2/2025-08-18/
LOCATION:Mini Auditorio
CATEGORIES:Ordinarios
END:VEVENT
BEGIN:VEVENT
DTSTART;TZID=America/Mexico_City:20250819T080000
DTEND;TZID=America/Mexico_City:20250819T083000
DTSTAMP:20260423T181531
CREATED:20241021T183021Z
LAST-MODIFIED:20241021T183026Z
UID:10001887-1755590400-1755592200@castillodelreybrisas.com
SUMMARY:Oración
DESCRIPTION:
URL:https://castillodelreybrisas.com/evento/oracion-2/2025-08-19/
LOCATION:Mini Auditorio
CATEGORIES:Ordinarios
END:VEVENT
BEGIN:VEVENT
DTSTART;TZID=America/Mexico_City:20250820T080000
DTEND;TZID=America/Mexico_City:20250820T083000
DTSTAMP:20260423T181531
CREATED:20241021T183021Z
LAST-MODIFIED:20241021T183026Z
UID:10001888-1755676800-1755678600@castillodelreybrisas.com
SUMMARY:Oración
DESCRIPTION:
URL:https://castillodelreybrisas.com/evento/oracion-2/2025-08-20/
LOCATION:Mini Auditorio
CATEGORIES:Ordinarios
END:VEVENT
BEGIN:VEVENT
DTSTART;TZID=America/Mexico_City:20250821T080000
DTEND;TZID=America/Mexico_City:20250821T083000
DTSTAMP:20260423T181531
CREATED:20241021T183021Z
LAST-MODIFIED:20241021T183026Z
UID:10001889-1755763200-1755765000@castillodelreybrisas.com
SUMMARY:Oración
DESCRIPTION:
URL:https://castillodelreybrisas.com/evento/oracion-2/2025-08-21/
LOCATION:Mini Auditorio
CATEGORIES:Ordinarios
END:VEVENT
BEGIN:VEVENT
DTSTART;TZID=America/Mexico_City:20250822T080000
DTEND;TZID=America/Mexico_City:20250822T083000
DTSTAMP:20260423T181531
CREATED:20241021T183021Z
LAST-MODIFIED:20241021T183026Z
UID:10001890-1755849600-1755851400@castillodelreybrisas.com
SUMMARY:Oración
DESCRIPTION:
URL:https://castillodelreybrisas.com/evento/oracion-2/2025-08-22/
LOCATION:Mini Auditorio
CATEGORIES:Ordinarios
END:VEVENT
BEGIN:VEVENT
DTSTART;TZID=America/Mexico_City:20250823T180000
DTEND;TZID=America/Mexico_City:20250823T200000
DTSTAMP:20260423T181531
CREATED:20240811T154100Z
LAST-MODIFIED:20250508T172554Z
UID:10000059-1755972000-1755979200@castillodelreybrisas.com
SUMMARY:Jóvenes de Brisas
DESCRIPTION:
URL:https://castillodelreybrisas.com/evento/reunion-de-jovenes/2025-08-23/
LOCATION:Mini Auditorio
CATEGORIES:Ordinarios
END:VEVENT
BEGIN:VEVENT
DTSTART;TZID=America/Mexico_City:20250824T100000
DTEND;TZID=America/Mexico_City:20250824T113000
DTSTAMP:20260423T181531
CREATED:20241022T161633Z
LAST-MODIFIED:20241215T005141Z
UID:10003456-1756029600-1756035000@castillodelreybrisas.com
SUMMARY:Primera Reunión Dominical
DESCRIPTION:
URL:https://castillodelreybrisas.com/evento/primera-reunion-dominical/2025-08-24/
LOCATION:Castillo del Rey Brisas\, Castillo del Rey Brisas\, Monterrey\, Nuevo León\, 64764\, Mexico
CATEGORIES:Ordinarios
END:VEVENT
BEGIN:VEVENT
DTSTART;TZID=America/Mexico_City:20250824T123000
DTEND;TZID=America/Mexico_City:20250824T140000
DTSTAMP:20260423T181531
CREATED:20241022T162004Z
LAST-MODIFIED:20241215T005226Z
UID:10004239-1756038600-1756044000@castillodelreybrisas.com
SUMMARY:Segunda Reunión Dominical
DESCRIPTION:
URL:https://castillodelreybrisas.com/evento/segunda-reunion-dominical/2025-08-24/
LOCATION:Castillo del Rey Brisas\, Castillo del Rey Brisas\, Monterrey\, Nuevo León\, 64764\, Mexico
CATEGORIES:Ordinarios
END:VEVENT
BEGIN:VEVENT
DTSTART;TZID=America/Mexico_City:20250825T080000
DTEND;TZID=America/Mexico_City:20250825T083000
DTSTAMP:20260423T181531
CREATED:20241021T183021Z
LAST-MODIFIED:20241021T183026Z
UID:10001893-1756108800-1756110600@castillodelreybrisas.com
SUMMARY:Oración
DESCRIPTION:
URL:https://castillodelreybrisas.com/evento/oracion-2/2025-08-25/
LOCATION:Mini Auditorio
CATEGORIES:Ordinarios
END:VEVENT
BEGIN:VEVENT
DTSTART;TZID=America/Mexico_City:20250826T080000
DTEND;TZID=America/Mexico_City:20250826T083000
DTSTAMP:20260423T181531
CREATED:20241021T183021Z
LAST-MODIFIED:20241021T183026Z
UID:10001894-1756195200-1756197000@castillodelreybrisas.com
SUMMARY:Oración
DESCRIPTION:
URL:https://castillodelreybrisas.com/evento/oracion-2/2025-08-26/
LOCATION:Mini Auditorio
CATEGORIES:Ordinarios
END:VEVENT
END:VCALENDAR