BEGIN:VCALENDAR
VERSION:2.0
PRODID:-//Castillo del Rey Brisas - ECPv6.15.16//NONSGML v1.0//EN
CALSCALE:GREGORIAN
METHOD:PUBLISH
X-ORIGINAL-URL:https://castillodelreybrisas.com
X-WR-CALDESC:Eventos para Castillo del Rey Brisas
REFRESH-INTERVAL;VALUE=DURATION:PT1H
X-Robots-Tag:noindex
X-PUBLISHED-TTL:PT1H
BEGIN:VTIMEZONE
TZID:America/Mexico_City
BEGIN:STANDARD
TZOFFSETFROM:-0600
TZOFFSETTO:-0600
TZNAME:CST
DTSTART:20240101T000000
END:STANDARD
END:VTIMEZONE
BEGIN:VEVENT
DTSTART;TZID=America/Mexico_City:20250501T080000
DTEND;TZID=America/Mexico_City:20250501T083000
DTSTAMP:20260424T000042
CREATED:20241021T183021Z
LAST-MODIFIED:20241021T183026Z
UID:10001777-1746086400-1746088200@castillodelreybrisas.com
SUMMARY:Oración
DESCRIPTION:
URL:https://castillodelreybrisas.com/evento/oracion-2/2025-05-01/
LOCATION:Mini Auditorio
CATEGORIES:Ordinarios
END:VEVENT
BEGIN:VEVENT
DTSTART;TZID=America/Mexico_City:20250502T080000
DTEND;TZID=America/Mexico_City:20250502T083000
DTSTAMP:20260424T000042
CREATED:20241021T183021Z
LAST-MODIFIED:20241021T183026Z
UID:10001778-1746172800-1746174600@castillodelreybrisas.com
SUMMARY:Oración
DESCRIPTION:
URL:https://castillodelreybrisas.com/evento/oracion-2/2025-05-02/
LOCATION:Mini Auditorio
CATEGORIES:Ordinarios
END:VEVENT
BEGIN:VEVENT
DTSTART;TZID=America/Mexico_City:20250503T180000
DTEND;TZID=America/Mexico_City:20250503T200000
DTSTAMP:20260424T000042
CREATED:20240811T154100Z
LAST-MODIFIED:20250508T172554Z
UID:10000043-1746295200-1746302400@castillodelreybrisas.com
SUMMARY:Jóvenes de Brisas
DESCRIPTION:
URL:https://castillodelreybrisas.com/evento/reunion-de-jovenes/2025-05-03/
LOCATION:Mini Auditorio
CATEGORIES:Ordinarios
END:VEVENT
BEGIN:VEVENT
DTSTART;TZID=America/Mexico_City:20250504T100000
DTEND;TZID=America/Mexico_City:20250504T113000
DTSTAMP:20260424T000042
CREATED:20241022T161633Z
LAST-MODIFIED:20241215T005141Z
UID:10003440-1746352800-1746358200@castillodelreybrisas.com
SUMMARY:Primera Reunión Dominical
DESCRIPTION:
URL:https://castillodelreybrisas.com/evento/primera-reunion-dominical/2025-05-04/
LOCATION:Castillo del Rey Brisas\, Castillo del Rey Brisas\, Monterrey\, Nuevo León\, 64764\, Mexico
CATEGORIES:Ordinarios
END:VEVENT
BEGIN:VEVENT
DTSTART;TZID=America/Mexico_City:20250504T123000
DTEND;TZID=America/Mexico_City:20250504T140000
DTSTAMP:20260424T000042
CREATED:20241022T162004Z
LAST-MODIFIED:20241215T005226Z
UID:10004223-1746361800-1746367200@castillodelreybrisas.com
SUMMARY:Segunda Reunión Dominical
DESCRIPTION:
URL:https://castillodelreybrisas.com/evento/segunda-reunion-dominical/2025-05-04/
LOCATION:Castillo del Rey Brisas\, Castillo del Rey Brisas\, Monterrey\, Nuevo León\, 64764\, Mexico
CATEGORIES:Ordinarios
END:VEVENT
BEGIN:VEVENT
DTSTART;TZID=America/Mexico_City:20250505T080000
DTEND;TZID=America/Mexico_City:20250505T083000
DTSTAMP:20260424T000042
CREATED:20241021T183021Z
LAST-MODIFIED:20241021T183026Z
UID:10001781-1746432000-1746433800@castillodelreybrisas.com
SUMMARY:Oración
DESCRIPTION:
URL:https://castillodelreybrisas.com/evento/oracion-2/2025-05-05/
LOCATION:Mini Auditorio
CATEGORIES:Ordinarios
END:VEVENT
BEGIN:VEVENT
DTSTART;TZID=America/Mexico_City:20250506T080000
DTEND;TZID=America/Mexico_City:20250506T083000
DTSTAMP:20260424T000042
CREATED:20241021T183021Z
LAST-MODIFIED:20241021T183026Z
UID:10001782-1746518400-1746520200@castillodelreybrisas.com
SUMMARY:Oración
DESCRIPTION:
URL:https://castillodelreybrisas.com/evento/oracion-2/2025-05-06/
LOCATION:Mini Auditorio
CATEGORIES:Ordinarios
END:VEVENT
BEGIN:VEVENT
DTSTART;TZID=America/Mexico_City:20250507T080000
DTEND;TZID=America/Mexico_City:20250507T083000
DTSTAMP:20260424T000042
CREATED:20241021T183021Z
LAST-MODIFIED:20241021T183026Z
UID:10001783-1746604800-1746606600@castillodelreybrisas.com
SUMMARY:Oración
DESCRIPTION:
URL:https://castillodelreybrisas.com/evento/oracion-2/2025-05-07/
LOCATION:Mini Auditorio
CATEGORIES:Ordinarios
END:VEVENT
BEGIN:VEVENT
DTSTART;TZID=America/Mexico_City:20250508T080000
DTEND;TZID=America/Mexico_City:20250508T083000
DTSTAMP:20260424T000042
CREATED:20241021T183021Z
LAST-MODIFIED:20241021T183026Z
UID:10001784-1746691200-1746693000@castillodelreybrisas.com
SUMMARY:Oración
DESCRIPTION:
URL:https://castillodelreybrisas.com/evento/oracion-2/2025-05-08/
LOCATION:Mini Auditorio
CATEGORIES:Ordinarios
END:VEVENT
BEGIN:VEVENT
DTSTART;TZID=America/Mexico_City:20250509T080000
DTEND;TZID=America/Mexico_City:20250509T083000
DTSTAMP:20260424T000042
CREATED:20241021T183021Z
LAST-MODIFIED:20241021T183026Z
UID:10001785-1746777600-1746779400@castillodelreybrisas.com
SUMMARY:Oración
DESCRIPTION:
URL:https://castillodelreybrisas.com/evento/oracion-2/2025-05-09/
LOCATION:Mini Auditorio
CATEGORIES:Ordinarios
END:VEVENT
BEGIN:VEVENT
DTSTART;TZID=America/Mexico_City:20250511T100000
DTEND;TZID=America/Mexico_City:20250511T113000
DTSTAMP:20260424T000042
CREATED:20241022T161633Z
LAST-MODIFIED:20241215T005141Z
UID:10003441-1746957600-1746963000@castillodelreybrisas.com
SUMMARY:Primera Reunión Dominical
DESCRIPTION:
URL:https://castillodelreybrisas.com/evento/primera-reunion-dominical/2025-05-11/
LOCATION:Castillo del Rey Brisas\, Castillo del Rey Brisas\, Monterrey\, Nuevo León\, 64764\, Mexico
CATEGORIES:Ordinarios
END:VEVENT
BEGIN:VEVENT
DTSTART;TZID=America/Mexico_City:20250511T123000
DTEND;TZID=America/Mexico_City:20250511T140000
DTSTAMP:20260424T000042
CREATED:20241022T162004Z
LAST-MODIFIED:20241215T005226Z
UID:10004224-1746966600-1746972000@castillodelreybrisas.com
SUMMARY:Segunda Reunión Dominical
DESCRIPTION:
URL:https://castillodelreybrisas.com/evento/segunda-reunion-dominical/2025-05-11/
LOCATION:Castillo del Rey Brisas\, Castillo del Rey Brisas\, Monterrey\, Nuevo León\, 64764\, Mexico
CATEGORIES:Ordinarios
END:VEVENT
BEGIN:VEVENT
DTSTART;TZID=America/Mexico_City:20250512T080000
DTEND;TZID=America/Mexico_City:20250512T083000
DTSTAMP:20260424T000042
CREATED:20241021T183021Z
LAST-MODIFIED:20241021T183026Z
UID:10001788-1747036800-1747038600@castillodelreybrisas.com
SUMMARY:Oración
DESCRIPTION:
URL:https://castillodelreybrisas.com/evento/oracion-2/2025-05-12/
LOCATION:Mini Auditorio
CATEGORIES:Ordinarios
END:VEVENT
BEGIN:VEVENT
DTSTART;TZID=America/Mexico_City:20250513T080000
DTEND;TZID=America/Mexico_City:20250513T083000
DTSTAMP:20260424T000042
CREATED:20241021T183021Z
LAST-MODIFIED:20241021T183026Z
UID:10001789-1747123200-1747125000@castillodelreybrisas.com
SUMMARY:Oración
DESCRIPTION:
URL:https://castillodelreybrisas.com/evento/oracion-2/2025-05-13/
LOCATION:Mini Auditorio
CATEGORIES:Ordinarios
END:VEVENT
BEGIN:VEVENT
DTSTART;TZID=America/Mexico_City:20250514T080000
DTEND;TZID=America/Mexico_City:20250514T083000
DTSTAMP:20260424T000042
CREATED:20241021T183021Z
LAST-MODIFIED:20241021T183026Z
UID:10001790-1747209600-1747211400@castillodelreybrisas.com
SUMMARY:Oración
DESCRIPTION:
URL:https://castillodelreybrisas.com/evento/oracion-2/2025-05-14/
LOCATION:Mini Auditorio
CATEGORIES:Ordinarios
END:VEVENT
BEGIN:VEVENT
DTSTART;TZID=America/Mexico_City:20250515T080000
DTEND;TZID=America/Mexico_City:20250515T083000
DTSTAMP:20260424T000042
CREATED:20241021T183021Z
LAST-MODIFIED:20241021T183026Z
UID:10001791-1747296000-1747297800@castillodelreybrisas.com
SUMMARY:Oración
DESCRIPTION:
URL:https://castillodelreybrisas.com/evento/oracion-2/2025-05-15/
LOCATION:Mini Auditorio
CATEGORIES:Ordinarios
END:VEVENT
BEGIN:VEVENT
DTSTART;TZID=America/Mexico_City:20250516T080000
DTEND;TZID=America/Mexico_City:20250516T083000
DTSTAMP:20260424T000042
CREATED:20241021T183021Z
LAST-MODIFIED:20241021T183026Z
UID:10001792-1747382400-1747384200@castillodelreybrisas.com
SUMMARY:Oración
DESCRIPTION:
URL:https://castillodelreybrisas.com/evento/oracion-2/2025-05-16/
LOCATION:Mini Auditorio
CATEGORIES:Ordinarios
END:VEVENT
BEGIN:VEVENT
DTSTART;TZID=America/Mexico_City:20250517T180000
DTEND;TZID=America/Mexico_City:20250517T200000
DTSTAMP:20260424T000042
CREATED:20240811T154100Z
LAST-MODIFIED:20250508T172554Z
UID:10000045-1747504800-1747512000@castillodelreybrisas.com
SUMMARY:Jóvenes de Brisas
DESCRIPTION:
URL:https://castillodelreybrisas.com/evento/reunion-de-jovenes/2025-05-17/
LOCATION:Mini Auditorio
CATEGORIES:Ordinarios
END:VEVENT
BEGIN:VEVENT
DTSTART;TZID=America/Mexico_City:20250518T100000
DTEND;TZID=America/Mexico_City:20250518T113000
DTSTAMP:20260424T000042
CREATED:20241022T161633Z
LAST-MODIFIED:20241215T005141Z
UID:10003442-1747562400-1747567800@castillodelreybrisas.com
SUMMARY:Primera Reunión Dominical
DESCRIPTION:
URL:https://castillodelreybrisas.com/evento/primera-reunion-dominical/2025-05-18/
LOCATION:Castillo del Rey Brisas\, Castillo del Rey Brisas\, Monterrey\, Nuevo León\, 64764\, Mexico
CATEGORIES:Ordinarios
END:VEVENT
BEGIN:VEVENT
DTSTART;TZID=America/Mexico_City:20250518T123000
DTEND;TZID=America/Mexico_City:20250518T140000
DTSTAMP:20260424T000042
CREATED:20241022T162004Z
LAST-MODIFIED:20241215T005226Z
UID:10004225-1747571400-1747576800@castillodelreybrisas.com
SUMMARY:Segunda Reunión Dominical
DESCRIPTION:
URL:https://castillodelreybrisas.com/evento/segunda-reunion-dominical/2025-05-18/
LOCATION:Castillo del Rey Brisas\, Castillo del Rey Brisas\, Monterrey\, Nuevo León\, 64764\, Mexico
CATEGORIES:Ordinarios
END:VEVENT
BEGIN:VEVENT
DTSTART;TZID=America/Mexico_City:20250519T080000
DTEND;TZID=America/Mexico_City:20250519T083000
DTSTAMP:20260424T000042
CREATED:20241021T183021Z
LAST-MODIFIED:20241021T183026Z
UID:10001795-1747641600-1747643400@castillodelreybrisas.com
SUMMARY:Oración
DESCRIPTION:
URL:https://castillodelreybrisas.com/evento/oracion-2/2025-05-19/
LOCATION:Mini Auditorio
CATEGORIES:Ordinarios
END:VEVENT
BEGIN:VEVENT
DTSTART;TZID=America/Mexico_City:20250520T080000
DTEND;TZID=America/Mexico_City:20250520T083000
DTSTAMP:20260424T000042
CREATED:20241021T183021Z
LAST-MODIFIED:20241021T183026Z
UID:10001796-1747728000-1747729800@castillodelreybrisas.com
SUMMARY:Oración
DESCRIPTION:
URL:https://castillodelreybrisas.com/evento/oracion-2/2025-05-20/
LOCATION:Mini Auditorio
CATEGORIES:Ordinarios
END:VEVENT
BEGIN:VEVENT
DTSTART;TZID=America/Mexico_City:20250521T080000
DTEND;TZID=America/Mexico_City:20250521T083000
DTSTAMP:20260424T000042
CREATED:20241021T183021Z
LAST-MODIFIED:20241021T183026Z
UID:10001797-1747814400-1747816200@castillodelreybrisas.com
SUMMARY:Oración
DESCRIPTION:
URL:https://castillodelreybrisas.com/evento/oracion-2/2025-05-21/
LOCATION:Mini Auditorio
CATEGORIES:Ordinarios
END:VEVENT
BEGIN:VEVENT
DTSTART;TZID=America/Mexico_City:20250522T080000
DTEND;TZID=America/Mexico_City:20250522T083000
DTSTAMP:20260424T000042
CREATED:20241021T183021Z
LAST-MODIFIED:20241021T183026Z
UID:10001798-1747900800-1747902600@castillodelreybrisas.com
SUMMARY:Oración
DESCRIPTION:
URL:https://castillodelreybrisas.com/evento/oracion-2/2025-05-22/
LOCATION:Mini Auditorio
CATEGORIES:Ordinarios
END:VEVENT
BEGIN:VEVENT
DTSTART;TZID=America/Mexico_City:20250523T080000
DTEND;TZID=America/Mexico_City:20250523T083000
DTSTAMP:20260424T000042
CREATED:20241021T183021Z
LAST-MODIFIED:20241021T183026Z
UID:10001799-1747987200-1747989000@castillodelreybrisas.com
SUMMARY:Oración
DESCRIPTION:
URL:https://castillodelreybrisas.com/evento/oracion-2/2025-05-23/
LOCATION:Mini Auditorio
CATEGORIES:Ordinarios
END:VEVENT
BEGIN:VEVENT
DTSTART;TZID=America/Mexico_City:20250524T180000
DTEND;TZID=America/Mexico_City:20250524T200000
DTSTAMP:20260424T000042
CREATED:20240811T154100Z
LAST-MODIFIED:20250508T172554Z
UID:10000046-1748109600-1748116800@castillodelreybrisas.com
SUMMARY:Jóvenes de Brisas
DESCRIPTION:
URL:https://castillodelreybrisas.com/evento/reunion-de-jovenes/2025-05-24/
LOCATION:Mini Auditorio
CATEGORIES:Ordinarios
END:VEVENT
BEGIN:VEVENT
DTSTART;TZID=America/Mexico_City:20250525T100000
DTEND;TZID=America/Mexico_City:20250525T113000
DTSTAMP:20260424T000042
CREATED:20241022T161633Z
LAST-MODIFIED:20241215T005141Z
UID:10003443-1748167200-1748172600@castillodelreybrisas.com
SUMMARY:Primera Reunión Dominical
DESCRIPTION:
URL:https://castillodelreybrisas.com/evento/primera-reunion-dominical/2025-05-25/
LOCATION:Castillo del Rey Brisas\, Castillo del Rey Brisas\, Monterrey\, Nuevo León\, 64764\, Mexico
CATEGORIES:Ordinarios
END:VEVENT
BEGIN:VEVENT
DTSTART;TZID=America/Mexico_City:20250525T123000
DTEND;TZID=America/Mexico_City:20250525T140000
DTSTAMP:20260424T000042
CREATED:20241022T162004Z
LAST-MODIFIED:20241215T005226Z
UID:10004226-1748176200-1748181600@castillodelreybrisas.com
SUMMARY:Segunda Reunión Dominical
DESCRIPTION:
URL:https://castillodelreybrisas.com/evento/segunda-reunion-dominical/2025-05-25/
LOCATION:Castillo del Rey Brisas\, Castillo del Rey Brisas\, Monterrey\, Nuevo León\, 64764\, Mexico
CATEGORIES:Ordinarios
END:VEVENT
BEGIN:VEVENT
DTSTART;TZID=America/Mexico_City:20250526T080000
DTEND;TZID=America/Mexico_City:20250526T083000
DTSTAMP:20260424T000042
CREATED:20241021T183021Z
LAST-MODIFIED:20241021T183026Z
UID:10001802-1748246400-1748248200@castillodelreybrisas.com
SUMMARY:Oración
DESCRIPTION:
URL:https://castillodelreybrisas.com/evento/oracion-2/2025-05-26/
LOCATION:Mini Auditorio
CATEGORIES:Ordinarios
END:VEVENT
BEGIN:VEVENT
DTSTART;TZID=America/Mexico_City:20250527T080000
DTEND;TZID=America/Mexico_City:20250527T083000
DTSTAMP:20260424T000042
CREATED:20241021T183021Z
LAST-MODIFIED:20241021T183026Z
UID:10001803-1748332800-1748334600@castillodelreybrisas.com
SUMMARY:Oración
DESCRIPTION:
URL:https://castillodelreybrisas.com/evento/oracion-2/2025-05-27/
LOCATION:Mini Auditorio
CATEGORIES:Ordinarios
END:VEVENT
END:VCALENDAR