BEGIN:VCALENDAR
VERSION:2.0
PRODID:-//Castillo del Rey Brisas - ECPv6.15.16//NONSGML v1.0//EN
CALSCALE:GREGORIAN
METHOD:PUBLISH
X-ORIGINAL-URL:https://castillodelreybrisas.com
X-WR-CALDESC:Eventos para Castillo del Rey Brisas
REFRESH-INTERVAL;VALUE=DURATION:PT1H
X-Robots-Tag:noindex
X-PUBLISHED-TTL:PT1H
BEGIN:VTIMEZONE
TZID:America/Mexico_City
BEGIN:STANDARD
TZOFFSETFROM:-0600
TZOFFSETTO:-0600
TZNAME:CST
DTSTART:20240101T000000
END:STANDARD
END:VTIMEZONE
BEGIN:VEVENT
DTSTART;TZID=America/Mexico_City:20250401T080000
DTEND;TZID=America/Mexico_City:20250401T083000
DTSTAMP:20260424T013123
CREATED:20241021T183021Z
LAST-MODIFIED:20241021T183026Z
UID:10001747-1743494400-1743496200@castillodelreybrisas.com
SUMMARY:Oración
DESCRIPTION:
URL:https://castillodelreybrisas.com/evento/oracion-2/2025-04-01/
LOCATION:Mini Auditorio
CATEGORIES:Ordinarios
END:VEVENT
BEGIN:VEVENT
DTSTART;TZID=America/Mexico_City:20250402T080000
DTEND;TZID=America/Mexico_City:20250402T083000
DTSTAMP:20260424T013123
CREATED:20241021T183021Z
LAST-MODIFIED:20241021T183026Z
UID:10001748-1743580800-1743582600@castillodelreybrisas.com
SUMMARY:Oración
DESCRIPTION:
URL:https://castillodelreybrisas.com/evento/oracion-2/2025-04-02/
LOCATION:Mini Auditorio
CATEGORIES:Ordinarios
END:VEVENT
BEGIN:VEVENT
DTSTART;TZID=America/Mexico_City:20250403T080000
DTEND;TZID=America/Mexico_City:20250403T083000
DTSTAMP:20260424T013123
CREATED:20241021T183021Z
LAST-MODIFIED:20241021T183026Z
UID:10001749-1743667200-1743669000@castillodelreybrisas.com
SUMMARY:Oración
DESCRIPTION:
URL:https://castillodelreybrisas.com/evento/oracion-2/2025-04-03/
LOCATION:Mini Auditorio
CATEGORIES:Ordinarios
END:VEVENT
BEGIN:VEVENT
DTSTART;TZID=America/Mexico_City:20250404T080000
DTEND;TZID=America/Mexico_City:20250404T083000
DTSTAMP:20260424T013123
CREATED:20241021T183021Z
LAST-MODIFIED:20241021T183026Z
UID:10001750-1743753600-1743755400@castillodelreybrisas.com
SUMMARY:Oración
DESCRIPTION:
URL:https://castillodelreybrisas.com/evento/oracion-2/2025-04-04/
LOCATION:Mini Auditorio
CATEGORIES:Ordinarios
END:VEVENT
BEGIN:VEVENT
DTSTART;TZID=America/Mexico_City:20250405T180000
DTEND;TZID=America/Mexico_City:20250405T200000
DTSTAMP:20260424T013123
CREATED:20240811T154100Z
LAST-MODIFIED:20250508T172554Z
UID:10000039-1743876000-1743883200@castillodelreybrisas.com
SUMMARY:Jóvenes de Brisas
DESCRIPTION:
URL:https://castillodelreybrisas.com/evento/reunion-de-jovenes/2025-04-05/
LOCATION:Mini Auditorio
CATEGORIES:Ordinarios
END:VEVENT
BEGIN:VEVENT
DTSTART;TZID=America/Mexico_City:20250406T100000
DTEND;TZID=America/Mexico_City:20250406T113000
DTSTAMP:20260424T013123
CREATED:20241022T161633Z
LAST-MODIFIED:20241215T005141Z
UID:10003436-1743933600-1743939000@castillodelreybrisas.com
SUMMARY:Primera Reunión Dominical
DESCRIPTION:
URL:https://castillodelreybrisas.com/evento/primera-reunion-dominical/2025-04-06/
LOCATION:Castillo del Rey Brisas\, Castillo del Rey Brisas\, Monterrey\, Nuevo León\, 64764\, Mexico
CATEGORIES:Ordinarios
END:VEVENT
BEGIN:VEVENT
DTSTART;TZID=America/Mexico_City:20250406T123000
DTEND;TZID=America/Mexico_City:20250406T140000
DTSTAMP:20260424T013123
CREATED:20241022T162004Z
LAST-MODIFIED:20241215T005226Z
UID:10004219-1743942600-1743948000@castillodelreybrisas.com
SUMMARY:Segunda Reunión Dominical
DESCRIPTION:
URL:https://castillodelreybrisas.com/evento/segunda-reunion-dominical/2025-04-06/
LOCATION:Castillo del Rey Brisas\, Castillo del Rey Brisas\, Monterrey\, Nuevo León\, 64764\, Mexico
CATEGORIES:Ordinarios
END:VEVENT
BEGIN:VEVENT
DTSTART;TZID=America/Mexico_City:20250407T080000
DTEND;TZID=America/Mexico_City:20250407T083000
DTSTAMP:20260424T013123
CREATED:20241021T183021Z
LAST-MODIFIED:20241021T183026Z
UID:10001753-1744012800-1744014600@castillodelreybrisas.com
SUMMARY:Oración
DESCRIPTION:
URL:https://castillodelreybrisas.com/evento/oracion-2/2025-04-07/
LOCATION:Mini Auditorio
CATEGORIES:Ordinarios
END:VEVENT
BEGIN:VEVENT
DTSTART;TZID=America/Mexico_City:20250408T080000
DTEND;TZID=America/Mexico_City:20250408T083000
DTSTAMP:20260424T013123
CREATED:20241021T183021Z
LAST-MODIFIED:20241021T183026Z
UID:10001754-1744099200-1744101000@castillodelreybrisas.com
SUMMARY:Oración
DESCRIPTION:
URL:https://castillodelreybrisas.com/evento/oracion-2/2025-04-08/
LOCATION:Mini Auditorio
CATEGORIES:Ordinarios
END:VEVENT
BEGIN:VEVENT
DTSTART;TZID=America/Mexico_City:20250409T080000
DTEND;TZID=America/Mexico_City:20250409T083000
DTSTAMP:20260424T013123
CREATED:20241021T183021Z
LAST-MODIFIED:20241021T183026Z
UID:10001755-1744185600-1744187400@castillodelreybrisas.com
SUMMARY:Oración
DESCRIPTION:
URL:https://castillodelreybrisas.com/evento/oracion-2/2025-04-09/
LOCATION:Mini Auditorio
CATEGORIES:Ordinarios
END:VEVENT
BEGIN:VEVENT
DTSTART;TZID=America/Mexico_City:20250410T080000
DTEND;TZID=America/Mexico_City:20250410T083000
DTSTAMP:20260424T013123
CREATED:20241021T183021Z
LAST-MODIFIED:20241021T183026Z
UID:10001756-1744272000-1744273800@castillodelreybrisas.com
SUMMARY:Oración
DESCRIPTION:
URL:https://castillodelreybrisas.com/evento/oracion-2/2025-04-10/
LOCATION:Mini Auditorio
CATEGORIES:Ordinarios
END:VEVENT
BEGIN:VEVENT
DTSTART;TZID=America/Mexico_City:20250411T080000
DTEND;TZID=America/Mexico_City:20250411T083000
DTSTAMP:20260424T013123
CREATED:20241021T183021Z
LAST-MODIFIED:20241021T183026Z
UID:10001757-1744358400-1744360200@castillodelreybrisas.com
SUMMARY:Oración
DESCRIPTION:
URL:https://castillodelreybrisas.com/evento/oracion-2/2025-04-11/
LOCATION:Mini Auditorio
CATEGORIES:Ordinarios
END:VEVENT
BEGIN:VEVENT
DTSTART;TZID=America/Mexico_City:20250412T180000
DTEND;TZID=America/Mexico_City:20250412T200000
DTSTAMP:20260424T013123
CREATED:20240811T154100Z
LAST-MODIFIED:20250508T172554Z
UID:10000040-1744480800-1744488000@castillodelreybrisas.com
SUMMARY:Jóvenes de Brisas
DESCRIPTION:
URL:https://castillodelreybrisas.com/evento/reunion-de-jovenes/2025-04-12/
LOCATION:Mini Auditorio
CATEGORIES:Ordinarios
END:VEVENT
BEGIN:VEVENT
DTSTART;TZID=America/Mexico_City:20250413T100000
DTEND;TZID=America/Mexico_City:20250413T113000
DTSTAMP:20260424T013123
CREATED:20241022T161633Z
LAST-MODIFIED:20241215T005141Z
UID:10003437-1744538400-1744543800@castillodelreybrisas.com
SUMMARY:Primera Reunión Dominical
DESCRIPTION:
URL:https://castillodelreybrisas.com/evento/primera-reunion-dominical/2025-04-13/
LOCATION:Castillo del Rey Brisas\, Castillo del Rey Brisas\, Monterrey\, Nuevo León\, 64764\, Mexico
CATEGORIES:Ordinarios
END:VEVENT
BEGIN:VEVENT
DTSTART;TZID=America/Mexico_City:20250413T123000
DTEND;TZID=America/Mexico_City:20250413T140000
DTSTAMP:20260424T013123
CREATED:20241022T162004Z
LAST-MODIFIED:20241215T005226Z
UID:10004220-1744547400-1744552800@castillodelreybrisas.com
SUMMARY:Segunda Reunión Dominical
DESCRIPTION:
URL:https://castillodelreybrisas.com/evento/segunda-reunion-dominical/2025-04-13/
LOCATION:Castillo del Rey Brisas\, Castillo del Rey Brisas\, Monterrey\, Nuevo León\, 64764\, Mexico
CATEGORIES:Ordinarios
END:VEVENT
BEGIN:VEVENT
DTSTART;TZID=America/Mexico_City:20250414T080000
DTEND;TZID=America/Mexico_City:20250414T083000
DTSTAMP:20260424T013123
CREATED:20241021T183021Z
LAST-MODIFIED:20241021T183026Z
UID:10001760-1744617600-1744619400@castillodelreybrisas.com
SUMMARY:Oración
DESCRIPTION:
URL:https://castillodelreybrisas.com/evento/oracion-2/2025-04-14/
LOCATION:Mini Auditorio
CATEGORIES:Ordinarios
END:VEVENT
BEGIN:VEVENT
DTSTART;TZID=America/Mexico_City:20250415T080000
DTEND;TZID=America/Mexico_City:20250415T083000
DTSTAMP:20260424T013123
CREATED:20241021T183021Z
LAST-MODIFIED:20241021T183026Z
UID:10001761-1744704000-1744705800@castillodelreybrisas.com
SUMMARY:Oración
DESCRIPTION:
URL:https://castillodelreybrisas.com/evento/oracion-2/2025-04-15/
LOCATION:Mini Auditorio
CATEGORIES:Ordinarios
END:VEVENT
BEGIN:VEVENT
DTSTART;TZID=America/Mexico_City:20250416T080000
DTEND;TZID=America/Mexico_City:20250416T083000
DTSTAMP:20260424T013123
CREATED:20241021T183021Z
LAST-MODIFIED:20241021T183026Z
UID:10001762-1744790400-1744792200@castillodelreybrisas.com
SUMMARY:Oración
DESCRIPTION:
URL:https://castillodelreybrisas.com/evento/oracion-2/2025-04-16/
LOCATION:Mini Auditorio
CATEGORIES:Ordinarios
END:VEVENT
BEGIN:VEVENT
DTSTART;TZID=America/Mexico_City:20250417T080000
DTEND;TZID=America/Mexico_City:20250417T083000
DTSTAMP:20260424T013123
CREATED:20241021T183021Z
LAST-MODIFIED:20241021T183026Z
UID:10001763-1744876800-1744878600@castillodelreybrisas.com
SUMMARY:Oración
DESCRIPTION:
URL:https://castillodelreybrisas.com/evento/oracion-2/2025-04-17/
LOCATION:Mini Auditorio
CATEGORIES:Ordinarios
END:VEVENT
BEGIN:VEVENT
DTSTART;TZID=America/Mexico_City:20250418T080000
DTEND;TZID=America/Mexico_City:20250418T083000
DTSTAMP:20260424T013123
CREATED:20241021T183021Z
LAST-MODIFIED:20241021T183026Z
UID:10001764-1744963200-1744965000@castillodelreybrisas.com
SUMMARY:Oración
DESCRIPTION:
URL:https://castillodelreybrisas.com/evento/oracion-2/2025-04-18/
LOCATION:Mini Auditorio
CATEGORIES:Ordinarios
END:VEVENT
BEGIN:VEVENT
DTSTART;TZID=America/Mexico_City:20250419T180000
DTEND;TZID=America/Mexico_City:20250419T200000
DTSTAMP:20260424T013123
CREATED:20240811T154100Z
LAST-MODIFIED:20250508T172554Z
UID:10000041-1745085600-1745092800@castillodelreybrisas.com
SUMMARY:Jóvenes de Brisas
DESCRIPTION:
URL:https://castillodelreybrisas.com/evento/reunion-de-jovenes/2025-04-19/
LOCATION:Mini Auditorio
CATEGORIES:Ordinarios
END:VEVENT
BEGIN:VEVENT
DTSTART;TZID=America/Mexico_City:20250420T100000
DTEND;TZID=America/Mexico_City:20250420T113000
DTSTAMP:20260424T013123
CREATED:20241022T161633Z
LAST-MODIFIED:20241215T005141Z
UID:10003438-1745143200-1745148600@castillodelreybrisas.com
SUMMARY:Primera Reunión Dominical
DESCRIPTION:
URL:https://castillodelreybrisas.com/evento/primera-reunion-dominical/2025-04-20/
LOCATION:Castillo del Rey Brisas\, Castillo del Rey Brisas\, Monterrey\, Nuevo León\, 64764\, Mexico
CATEGORIES:Ordinarios
END:VEVENT
BEGIN:VEVENT
DTSTART;TZID=America/Mexico_City:20250420T123000
DTEND;TZID=America/Mexico_City:20250420T140000
DTSTAMP:20260424T013123
CREATED:20241022T162004Z
LAST-MODIFIED:20241215T005226Z
UID:10004221-1745152200-1745157600@castillodelreybrisas.com
SUMMARY:Segunda Reunión Dominical
DESCRIPTION:
URL:https://castillodelreybrisas.com/evento/segunda-reunion-dominical/2025-04-20/
LOCATION:Castillo del Rey Brisas\, Castillo del Rey Brisas\, Monterrey\, Nuevo León\, 64764\, Mexico
CATEGORIES:Ordinarios
END:VEVENT
BEGIN:VEVENT
DTSTART;TZID=America/Mexico_City:20250421T080000
DTEND;TZID=America/Mexico_City:20250421T083000
DTSTAMP:20260424T013123
CREATED:20241021T183021Z
LAST-MODIFIED:20241021T183026Z
UID:10001767-1745222400-1745224200@castillodelreybrisas.com
SUMMARY:Oración
DESCRIPTION:
URL:https://castillodelreybrisas.com/evento/oracion-2/2025-04-21/
LOCATION:Mini Auditorio
CATEGORIES:Ordinarios
END:VEVENT
BEGIN:VEVENT
DTSTART;TZID=America/Mexico_City:20250422T080000
DTEND;TZID=America/Mexico_City:20250422T083000
DTSTAMP:20260424T013123
CREATED:20241021T183021Z
LAST-MODIFIED:20241021T183026Z
UID:10001768-1745308800-1745310600@castillodelreybrisas.com
SUMMARY:Oración
DESCRIPTION:
URL:https://castillodelreybrisas.com/evento/oracion-2/2025-04-22/
LOCATION:Mini Auditorio
CATEGORIES:Ordinarios
END:VEVENT
BEGIN:VEVENT
DTSTART;TZID=America/Mexico_City:20250423T080000
DTEND;TZID=America/Mexico_City:20250423T083000
DTSTAMP:20260424T013123
CREATED:20241021T183021Z
LAST-MODIFIED:20241021T183026Z
UID:10001769-1745395200-1745397000@castillodelreybrisas.com
SUMMARY:Oración
DESCRIPTION:
URL:https://castillodelreybrisas.com/evento/oracion-2/2025-04-23/
LOCATION:Mini Auditorio
CATEGORIES:Ordinarios
END:VEVENT
BEGIN:VEVENT
DTSTART;TZID=America/Mexico_City:20250424T080000
DTEND;TZID=America/Mexico_City:20250424T083000
DTSTAMP:20260424T013123
CREATED:20241021T183021Z
LAST-MODIFIED:20241021T183026Z
UID:10001770-1745481600-1745483400@castillodelreybrisas.com
SUMMARY:Oración
DESCRIPTION:
URL:https://castillodelreybrisas.com/evento/oracion-2/2025-04-24/
LOCATION:Mini Auditorio
CATEGORIES:Ordinarios
END:VEVENT
BEGIN:VEVENT
DTSTART;TZID=America/Mexico_City:20250425T080000
DTEND;TZID=America/Mexico_City:20250425T083000
DTSTAMP:20260424T013123
CREATED:20241021T183021Z
LAST-MODIFIED:20241021T183026Z
UID:10001771-1745568000-1745569800@castillodelreybrisas.com
SUMMARY:Oración
DESCRIPTION:
URL:https://castillodelreybrisas.com/evento/oracion-2/2025-04-25/
LOCATION:Mini Auditorio
CATEGORIES:Ordinarios
END:VEVENT
BEGIN:VEVENT
DTSTART;TZID=America/Mexico_City:20250426T180000
DTEND;TZID=America/Mexico_City:20250426T200000
DTSTAMP:20260424T013123
CREATED:20240811T154100Z
LAST-MODIFIED:20250508T172554Z
UID:10000042-1745690400-1745697600@castillodelreybrisas.com
SUMMARY:Jóvenes de Brisas
DESCRIPTION:
URL:https://castillodelreybrisas.com/evento/reunion-de-jovenes/2025-04-26/
LOCATION:Mini Auditorio
CATEGORIES:Ordinarios
END:VEVENT
BEGIN:VEVENT
DTSTART;TZID=America/Mexico_City:20250427T100000
DTEND;TZID=America/Mexico_City:20250427T113000
DTSTAMP:20260424T013123
CREATED:20241022T161633Z
LAST-MODIFIED:20241215T005141Z
UID:10003439-1745748000-1745753400@castillodelreybrisas.com
SUMMARY:Primera Reunión Dominical
DESCRIPTION:
URL:https://castillodelreybrisas.com/evento/primera-reunion-dominical/2025-04-27/
LOCATION:Castillo del Rey Brisas\, Castillo del Rey Brisas\, Monterrey\, Nuevo León\, 64764\, Mexico
CATEGORIES:Ordinarios
END:VEVENT
END:VCALENDAR