BEGIN:VCALENDAR
VERSION:2.0
PRODID:-//Castillo del Rey Brisas - ECPv6.15.16//NONSGML v1.0//EN
CALSCALE:GREGORIAN
METHOD:PUBLISH
X-WR-CALNAME:Castillo del Rey Brisas
X-ORIGINAL-URL:https://castillodelreybrisas.com
X-WR-CALDESC:Eventos para Castillo del Rey Brisas
REFRESH-INTERVAL;VALUE=DURATION:PT1H
X-Robots-Tag:noindex
X-PUBLISHED-TTL:PT1H
BEGIN:VTIMEZONE
TZID:America/Mexico_City
BEGIN:STANDARD
TZOFFSETFROM:-0600
TZOFFSETTO:-0600
TZNAME:CST
DTSTART:20250101T000000
END:STANDARD
END:VTIMEZONE
BEGIN:VEVENT
DTSTART;TZID=America/Mexico_City:20260423T080000
DTEND;TZID=America/Mexico_City:20260423T083000
DTSTAMP:20260423T085900
CREATED:20241021T183021Z
LAST-MODIFIED:20241021T183026Z
UID:10002134-1776931200-1776933000@castillodelreybrisas.com
SUMMARY:Oración
DESCRIPTION:
URL:https://castillodelreybrisas.com/evento/oracion-2/2026-04-23/
LOCATION:Mini Auditorio
CATEGORIES:Ordinarios
END:VEVENT
BEGIN:VEVENT
DTSTART;TZID=America/Mexico_City:20260420T200000
DTEND;TZID=America/Mexico_City:20260420T210000
DTSTAMP:20260423T085900
CREATED:20260112T163356Z
LAST-MODIFIED:20260225T164317Z
UID:10004696-1776715200-1776718800@castillodelreybrisas.com
SUMMARY:Mi Comienzo con Dios
DESCRIPTION:
URL:https://castillodelreybrisas.com/evento/mi-comienzo-con-dios/2026-04-20/
CATEGORIES:Ordinarios
END:VEVENT
BEGIN:VEVENT
DTSTART;TZID=America/Mexico_City:20260419T123000
DTEND;TZID=America/Mexico_City:20260419T140000
DTSTAMP:20260423T085900
CREATED:20241022T162004Z
LAST-MODIFIED:20241215T005226Z
UID:10004273-1776601800-1776607200@castillodelreybrisas.com
SUMMARY:Segunda Reunión Dominical
DESCRIPTION:
URL:https://castillodelreybrisas.com/evento/segunda-reunion-dominical/2026-04-19/
LOCATION:Castillo del Rey Brisas\, Castillo del Rey Brisas\, Monterrey\, Nuevo León\, 64764\, Mexico
CATEGORIES:Ordinarios
END:VEVENT
BEGIN:VEVENT
DTSTART;TZID=America/Mexico_City:20260419T100000
DTEND;TZID=America/Mexico_City:20260419T113000
DTSTAMP:20260423T085900
CREATED:20241022T161633Z
LAST-MODIFIED:20241215T005141Z
UID:10003490-1776592800-1776598200@castillodelreybrisas.com
SUMMARY:Primera Reunión Dominical
DESCRIPTION:
URL:https://castillodelreybrisas.com/evento/primera-reunion-dominical/2026-04-19/
LOCATION:Castillo del Rey Brisas\, Castillo del Rey Brisas\, Monterrey\, Nuevo León\, 64764\, Mexico
CATEGORIES:Ordinarios
END:VEVENT
BEGIN:VEVENT
DTSTART;TZID=America/Mexico_City:20260418T193000
DTEND;TZID=America/Mexico_City:20260418T210000
DTSTAMP:20260423T085900
CREATED:20241111T193913Z
LAST-MODIFIED:20260323T160228Z
UID:10004462-1776540600-1776546000@castillodelreybrisas.com
SUMMARY:Grupo de Profesionistas
DESCRIPTION:
URL:https://castillodelreybrisas.com/evento/grupo-de-profesionistas-2/
LOCATION:Salón de Oracion
CATEGORIES:Ordinarios
END:VEVENT
BEGIN:VEVENT
DTSTART;TZID=America/Mexico_City:20260418T180000
DTEND;TZID=America/Mexico_City:20260418T200000
DTSTAMP:20260423T085900
CREATED:20240811T154100Z
LAST-MODIFIED:20250508T172554Z
UID:10000093-1776535200-1776542400@castillodelreybrisas.com
SUMMARY:Jóvenes de Brisas
DESCRIPTION:
URL:https://castillodelreybrisas.com/evento/reunion-de-jovenes/2026-04-18/
LOCATION:Mini Auditorio
CATEGORIES:Ordinarios
END:VEVENT
END:VCALENDAR