BEGIN:VCALENDAR
VERSION:2.0
PRODID:-//Castillo del Rey Brisas - ECPv6.15.16//NONSGML v1.0//EN
CALSCALE:GREGORIAN
METHOD:PUBLISH
X-ORIGINAL-URL:https://castillodelreybrisas.com
X-WR-CALDESC:Eventos para Castillo del Rey Brisas
REFRESH-INTERVAL;VALUE=DURATION:PT1H
X-Robots-Tag:noindex
X-PUBLISHED-TTL:PT1H
BEGIN:VTIMEZONE
TZID:America/Mexico_City
BEGIN:STANDARD
TZOFFSETFROM:-0600
TZOFFSETTO:-0600
TZNAME:CST
DTSTART:20250101T000000
END:STANDARD
END:VTIMEZONE
BEGIN:VEVENT
DTSTART;VALUE=DATE:20260513
DTEND;VALUE=DATE:20260517
DTSTAMP:20260423T102258
CREATED:20260308T164312Z
LAST-MODIFIED:20260421T193246Z
UID:10004698-1778630400-1778975999@castillodelreybrisas.com
SUMMARY:Congreso Mujeres de Excelencia 2026
DESCRIPTION:Fecha: \nCongreso: Del 13 al 16 de Mayo \nConcierto Ingrid Rosario: Viernes 15 de Mayo a las 7:30 p.m. \n  \nInvitados Especiales: \nChristy Muller \nFebe Farías \nRey Matos \nIngrid Rosario \n  \nCosto: \nCongreso Mujeres de Excelencia 2026 + Concierto Ingrid Rosario = $500 \nConcierto Ingrid Rosario = $500
URL:https://castillodelreybrisas.com/evento/congreso-mujeres-de-excelencia-2026/
LOCATION:Castillo del Rey Brisas\, Castillo del Rey Brisas\, Monterrey\, Nuevo León\, 64764\, Mexico
CATEGORIES:Especiales
ATTACH;FMTTYPE=image/jpeg:https://castillodelreybrisas.com/wp-content/uploads/2026/03/V2-Pantalla-CDMDE-2026.jpg
END:VEVENT
END:VCALENDAR