BEGIN:VCALENDAR
VERSION:2.0
PRODID:-//Castillo del Rey Brisas - ECPv6.15.16//NONSGML v1.0//EN
CALSCALE:GREGORIAN
METHOD:PUBLISH
X-WR-CALNAME:Castillo del Rey Brisas
X-ORIGINAL-URL:https://castillodelreybrisas.com
X-WR-CALDESC:Eventos para Castillo del Rey Brisas
REFRESH-INTERVAL;VALUE=DURATION:PT1H
X-Robots-Tag:noindex
X-PUBLISHED-TTL:PT1H
BEGIN:VTIMEZONE
TZID:America/Mexico_City
BEGIN:STANDARD
TZOFFSETFROM:-0600
TZOFFSETTO:-0600
TZNAME:CST
DTSTART:20250101T000000
END:STANDARD
END:VTIMEZONE
BEGIN:VEVENT
DTSTART;VALUE=DATE:20260424
DTEND;VALUE=DATE:20260427
DTSTAMP:20260423T085852
CREATED:20260323T174451Z
LAST-MODIFIED:20260323T174451Z
UID:10004700-1776988800-1777247999@castillodelreybrisas.com
SUMMARY:Retiro de Adolescentes
DESCRIPTION:Inscripciones Presenciales \nCosto: \nFebrero – $2\,500 \nMarzo – $2\,700 \nAbril – $2\,900
URL:https://castillodelreybrisas.com/evento/retiro-de-adolescentes/
LOCATION:Campestre La Fuente
CATEGORIES:Especiales
ATTACH;FMTTYPE=image/jpeg:https://castillodelreybrisas.com/wp-content/uploads/2026/03/Retiro-de-Adolescentes.jpg
END:VEVENT
BEGIN:VEVENT
DTSTART;TZID=America/Mexico_City:20260426T100000
DTEND;TZID=America/Mexico_City:20260426T113000
DTSTAMP:20260423T085852
CREATED:20241022T161633Z
LAST-MODIFIED:20241215T005141Z
UID:10003491-1777197600-1777203000@castillodelreybrisas.com
SUMMARY:Primera Reunión Dominical
DESCRIPTION:
URL:https://castillodelreybrisas.com/evento/primera-reunion-dominical/2026-04-26/
LOCATION:Castillo del Rey Brisas\, Castillo del Rey Brisas\, Monterrey\, Nuevo León\, 64764\, Mexico
CATEGORIES:Ordinarios
END:VEVENT
BEGIN:VEVENT
DTSTART;TZID=America/Mexico_City:20260426T123000
DTEND;TZID=America/Mexico_City:20260426T140000
DTSTAMP:20260423T085852
CREATED:20241022T162004Z
LAST-MODIFIED:20241215T005226Z
UID:10004274-1777206600-1777212000@castillodelreybrisas.com
SUMMARY:Segunda Reunión Dominical
DESCRIPTION:
URL:https://castillodelreybrisas.com/evento/segunda-reunion-dominical/2026-04-26/
LOCATION:Castillo del Rey Brisas\, Castillo del Rey Brisas\, Monterrey\, Nuevo León\, 64764\, Mexico
CATEGORIES:Ordinarios
END:VEVENT
END:VCALENDAR